{"text_format":"1","workbook":"xlsx","n_sheets":4,"sheets":["Rechnungsblatt","Erläuterung","CSV-Datei","CSV-Datei export"],"not_rendered":{"charts":0,"images":0,"macros":1,"external_links":0,"defined_names":1,"comments":0,"pivot_tables":0},"unopened":[],"bounds":{"document_bytes":16777216,"sheet_cells":100000,"rows_first":2000,"rows_last":500,"rows_between":2000,"halvings":0,"cell_chars":16384,"cell_head_chars":4096},"cells_cut":0,"cells_raw":0,"read":"whole","date_system":"1900"}

{"sheet":"Rechnungsblatt","index":0,"n_rows":131,"n_cols":20,"rows_kept":131,"cut":false,"hidden":false,"merged":[[6,15,7,15],[2,2,2,3],[4,2,4,3],[4,6,4,9],[0,0,0,2],[0,6,0,19]]}
["Belegliste -Naturparkförderung und Nachhaltige Waldwirtschaft",null,null,null,null,null,"Hinweise:\nDie Belegliste ist nach Möglichkeit digital zu befüllen und der Bewilligungsstelle per E-Mail zu übermitteln. Aufgrund von automatischen Berechnungsfeldern (grau hinterlegt) wird das Befüllen erleichtert. Die Belegliste ist als Excel-Datei im Förderwegweiser des LEL (https://www.landwirtschaft-bw.info/pb/MLR.Foerderung,Lde/Startseite/Foerderwegweiser) unter der Rubrik \"ANTRAG\" der jeweiligen Maßnahme abrufbar. Ein ausgedrucktes Exemplar (Querformat, DIN-A3) mit Unterschrift ist dem Zahlungsantrag beizulegen. Das unterschriebene Exemplar besitzt Gültigkeit bei evtl. Abweichungen gegenüber dem digitalen Formular. Grundlage des Zahlungsantrags sind die von dem/r Antragstellenden beantragten förderfähigen Ausgaben. Für Erläuterungen zu den einzelnen Spalten siehe Tabellenblatt 2. Die im Spaltenkopf grau hinterlegten Felder sind Pflichtfelder (ggf. ist der Wert 0 einzutragen)."]
[]
["Antragstellende/r",null,null,null,null,"   (Schluss-)Zahlungsantrag vom: ",null,null,null,null,null,"VZMB vom: ",null,null,"Stand:","SEU - 25.05.2016"]
[null,null,null,null,null,null,null,null,null,null,null,null,null,null,"Stand:","MLR - 16.11.2016"]
["Unternehmensnr. (UD):",null,null,null,null,"Kurzbezeichnung: ",null,null,null,null,null,"Bewilligung vom: "]
[]
[null,null,null,"Seite ",null,"von",null," Seite/n",null,null,null,"Vorhabens-/ Projektnr.: "]
["lfd_Nummer","Rechnungsaussteller","Rechnungsnummer","Rechnungsdatum","Auftragsdatum","Bezug","gezahlt_am",null,"Bruttobetrag","Skonti_Rabatte",null,"Mehrwertsteuer","Nettobetrag",null,"davon_foerderfaehig_lt_Antragsteller"]
["Lfd.\nNr.","Rechnungs-\nausstellende/r","Rechnungs-\nnummer","Rechnungs-\ndatum","Auftrags-\ndatum","Bezeichnung,\nGewerk","Gezahlt \nam","Zahlbetrag lt. Zahlungs-\nnachweis\n€","Brutto-\nrechnungs-\nbetrag\n€","Gewährte\nSkonti/ Rabatte\n(vom Brutto)\n€","\nUmsatz-\nsteuersatz\n%","\nUmsatz-\nsteuer\n€","\nNetto-\nbetrag\n€","Sonstige\nnicht ff.\nNettoausgaben\n€","\nFörderfähig lt.\nAntragsteller\n€","Davon\nförderfähig lt.\nAmt\n€",null,null,"gezahlt_durch","Bemerkungen"]
[null,null,null,null,null,null,null,null,null,null,null,{"$f":"IF(I10=\"\",\"\",ROUND(((I10-J10)/Q10*R10),2))","v":""},{"$f":"IF(K10=\"\",\"\",ROUND((I10-J10-L10),2))","v":""},null,null,null,{"$f":"100+K10","v":100},{"$f":"Q10-100","v":0},"AS"]
[null,null,null,null,null,null,null,null,null,null,null,{"$f":"IF(I11=\"\",\"\",ROUND(((I11-J11)/Q11*R11),2))","v":""},{"$f":"IF(K11=\"\",\"\",ROUND((I11-J11-L11),2))","v":""},null,null,null,{"$f":"100+K11","v":100},{"$f":"Q11-100","v":0}]
[null,null,null,null,null,null,null,null,null,null,null,"","",null,null,null,100,0]
[null,null,null,null,null,null,null,null,null,null,null,"","",null,null,null,100,0]
[null,null,null,null,null,null,null,null,null,null,null,"",{"$f":"IF(K14=\"\",\"\",ROUND((I14-J14-L14),2))","v":""},null,null,null,100,0]
[null,null,null,null,null,null,null,null,null,null,null,"","",null,null,null,100,0]
[null,null,null,null,null,null,null,null,null,null,null,"","",null,null,null,100,0]
[null,null,null,null,null,null,null,null,null,null,null,"","",null,null,null,100,0]
[null,null,null,null,null,null,null,null,null,null,null,"","",null,null,null,100,0]
[null,null,null,null,null,null,null,null,null,null,null,"","",null,null,null,100,0]
[null,null,null,null,null,null,null,null,null,null,null,"","",null,null,null,100,0]
[null,null,null,null,null,null,null,null,null,null,null,"","",null,null,null,100,0]
[null,null,null,null,null,null,null,null,null,null,null,"","",null,null,null,100,0]
[null,null,null,null,null,null,null,null,null,null,null,"","",null,null,null,100,0]
[null,null,null,null,null,null,null,null,null,null,null,"","",null,null,null,100,0]
[null,null,null,null,null,null,null,null,null,null,null,"","",null,null,null,100,0]
[null,null,null,null,null,null,null,null,null,null,null,"","",null,null,null,100,0]
[]
[]
[null,null,null,null,null,null,null,null,null,null,null,"","",null,null,null,100,0]
[null,null,null,null,null,null,null,null,null,null,null,"","",null,null,null,100,0]
[null,null,null,null,null,null,null,null,null,null,null,"","",null,null,null,100,0]
[null,null,null,null,null,null,null,null,null,null,null,"","",null,null,null,100,0]
[null,null,null,null,null,null,null,null,null,null,null,"","",null,null,null,100,0]
[null,null,null,null,null,null,null,null,null,null,null,"","",null,null,null,100,0]
[null,null,null,null,null,null,null,null,null,null,null,"","",null,null,null,100,0]
[]
[]
[]
[]
[null,null,null,null,null,null,null,null,null,null,null,"","",null,null,null,100,0]
[null,null,null,null,null,null,null,null,null,null,null,"","",null,null,null,100,0]
["Q","Unterschrift:",null,null,null,"Summe/ Übertrag:",null,{"$f":"SUM(H10:H41)","v":0},{"$f":"SUM(I10:I41)","v":0},{"$f":"SUM(J10:J41)","v":0},null,{"$f":"SUM(L10:L41)","v":0},{"$f":"SUM(M10:M41)","v":0},{"$f":"SUM(N10:N41)","v":0},{"$f":"SUM(O10:O41)","v":0},{"$f":"SUM(P10:P41)","v":0}]
["Q","Seite        von        Seiten",null,null,null,"Übertrag:",null,{"$f":"H42","v":0},{"$f":"I42","v":0},{"$f":"J42","v":0},null,{"$f":"L42","v":0},0,0,0,0]
[null,null,null,null,null,null,null,null,null,null,null,{"$f":"IF(I44=\"\",\"\",ROUND(((I44-J44)/Q44*R44),2))","v":""},{"$f":"IF(K44=\"\",\"\",ROUND((I44-J44-L44),2))","v":""},null,null,null,{"$f":"100+K44","v":100},{"$f":"Q44-100","v":0}]
[null,null,null,null,null,null,null,null,null,null,null,"","",null,null,null,{"$f":"100+K45","v":100},{"$f":"Q45-100","v":0}]
[null,null,null,null,null,null,null,null,null,null,null,"","",null,null,null,100,0]
[null,null,null,null,null,null,null,null,null,null,null,{"$f":"IF(I47=\"\",\"\",ROUND(((I47-J47)/Q47*R47),2))","v":""},{"$f":"IF(K47=\"\",\"\",ROUND((I47-J47-L47),2))","v":""},null,null,null,100,0]
[null,null,null,null,null,null,null,null,null,null,null,"","",null,null,null,100,0]
[null,null,null,null,null,null,null,null,null,null,null,"","",null,null,null,100,0]
[null,null,null,null,null,null,null,null,null,null,null,"","",null,null,null,100,0]
[null,null,null,null,null,null,null,null,null,null,null,"","",null,null,null,100,0]
[null,null,null,null,null,null,null,null,null,null,null,"","",null,null,null,100,0]
[null,null,null,null,null,null,null,null,null,null,null,"","",null,null,null,100,0]
[null,null,null,null,null,null,null,null,null,null,null,"","",null,null,null,100,0]
[null,null,null,null,null,null,null,null,null,null,null,"","",null,null,null,100,0]
[]
[]
[null,null,null,null,null,null,null,null,null,null,null,"","",null,null,null,100,0]
[null,null,null,null,null,null,null,null,null,null,null,"","",null,null,null,100,0]
[null,null,null,null,null,null,null,null,null,null,null,"","",null,null,null,100,0]
[null,null,null,null,null,null,null,null,null,null,null,"","",null,null,null,100,0]
[null,null,null,null,null,null,null,null,null,null,null,"","",null,null,null,100,0]
[null,null,null,null,null,null,null,null,null,null,null,"","",null,null,null,100,0]
[null,null,null,null,null,null,null,null,null,null,null,"","",null,null,null,100,0]
[null,null,null,null,null,null,null,null,null,null,null,"","",null,null,null,100,0]
[null,null,null,null,null,null,null,null,null,null,null,"","",null,null,null,100,0]
[null,null,null,null,null,null,null,null,null,null,null,"","",null,null,null,100,0]
[null,null,null,null,null,null,null,null,null,null,null,"","",null,null,null,100,0]
[null,null,null,null,null,null,null,null,null,null,null,"","",null,null,null,100,0]
[null,null,null,null,null,null,null,null,null,null,null,"","",null,null,null,100,0]
[null,null,null,null,null,null,null,null,null,null,null,"","",null,null,null,100,0]
[null,null,null,null,null,null,null,null,null,null,null,"","",null,null,null,100,0]
[null,null,null,null,null,null,null,null,null,null,null,{"$f":"IF(I73=\"\",\"\",ROUND(((I73-J73)/Q73*R73),2))","v":""},{"$f":"IF(K73=\"\",\"\",ROUND((I73-J73-L73),2))","v":""},null,null,null,100,0]
[null,null,null,null,null,null,null,null,null,null,null,{"$f":"IF(I74=\"\",\"\",ROUND(((I74-J74)/Q74*R74),2))","v":""},{"$f":"IF(K74=\"\",\"\",ROUND((I74-J74-L74),2))","v":""},null,null,null,100,0]
[null,null,null,null,null,null,null,null,null,null,null,"","",null,null,null,100,0]
[null,null,null,null,null,null,null,null,null,null,null,"","",null,null,null,100,0]
[null,null,null,null,null,null,null,null,null,null,null,"","",null,null,null,100,0]
[null,null,null,null,null,null,null,null,null,null,null,"","",null,null,null,100,0]
[]
[]
[]
[]
[]
[null,null,null,null,null,null,null,null,null,null,null,"","",null,null,null,100,0]
[null,null,null,null,null,null,null,null,null,null,null,"","",null,null,null,100,0]
["Q","Unterschrift:",null,null,null,"Summe/ Übertrag:",null,{"$f":"SUM(H43:H85)","v":0},{"$f":"SUM(I43:I85)","v":0},{"$f":"SUM(J43:J85)","v":0},null,{"$f":"SUM(L43:L85)","v":0},{"$f":"SUM(M43:M85)","v":0},{"$f":"SUM(N43:N85)","v":0},{"$f":"SUM(O43:O85)","v":0},{"$f":"SUM(P43:P85)","v":0}]
["Q","Seite        von        Seiten",null,null,null,"Übertrag:",null,{"$f":"H86","v":0},{"$f":"I86","v":0},{"$f":"J86","v":0},null,{"$f":"L86","v":0},{"$f":"M86","v":0},{"$f":"N86","v":0},{"$f":"O86","v":0},{"$f":"P86","v":0}]
[null,null,null,null,null,null,null,null,null,null,null,{"$f":"IF(I88=\"\",\"\",ROUND(((I88-J88)/Q88*R88),2))","v":""},{"$f":"IF(K88=\"\",\"\",ROUND((I88-J88-L88),2))","v":""},null,null,null,{"$f":"100+K88","v":100},{"$f":"Q88-100","v":0}]
[null,null,null,null,null,null,null,null,null,null,null,{"$f":"IF(I89=\"\",\"\",ROUND(((I89-J89)/Q89*R89),2))","v":""},{"$f":"IF(K89=\"\",\"\",ROUND((I89-J89-L89),2))","v":""},null,null,null,100,0]
[null,null,null,null,null,null,null,null,null,null,null,"","",null,null,null,100,0]
[null,null,null,null,null,null,null,null,null,null,null,"","",null,null,null,100,0]
[]
[]
[null,null,null,null,null,null,null,null,null,null,null,"","",null,null,null,100,0]
[null,null,null,null,null,null,null,null,null,null,null,"","",null,null,null,100,0]
[null,null,null,null,null,null,null,null,null,null,null,"","",null,null,null,100,0]
[null,null,null,null,null,null,null,null,null,null,null,"","",null,null,null,100,0]
[null,null,null,null,null,null,null,null,null,null,null,"","",null,null,null,100,0]
[null,null,null,null,null,null,null,null,null,null,null,"","",null,null,null,100,0]
[null,null,null,null,null,null,null,null,null,null,null,"","",null,null,null,100,0]
[null,null,null,null,null,null,null,null,null,null,null,"","",null,null,null,100,0]
[null,null,null,null,null,null,null,null,null,null,null,"","",null,null,null,100,0]
[null,null,null,null,null,null,null,null,null,null,null,"","",null,null,null,100,0]
[null,null,null,null,null,null,null,null,null,null,null,"","",null,null,null,100,0]
[null,null,null,null,null,null,null,null,null,null,null,"","",null,null,null,100,0]
[null,null,null,null,null,null,null,null,null,null,null,"","",null,null,null,100,0]
[null,null,null,null,null,null,null,null,null,null,null,"","",null,null,null,100,0]
[null,null,null,null,null,null,null,null,null,null,null,"","",null,null,null,100,0]
[null,null,null,null,null,null,null,null,null,null,null,"","",null,null,null,100,0]
[null,null,null,null,null,null,null,null,null,null,null,"","",null,null,null,100,0]
[null,null,null,null,null,null,null,null,null,null,null,"","",null,null,null,100,0]
[null,null,null,null,null,null,null,null,null,null,null,"","",null,null,null,100,0]
[null,null,null,null,null,null,null,null,null,null,null,"","",null,null,null,100,0]
[null,null,null,null,null,null,null,null,null,null,null,"","",null,null,null,100,0]
[null,null,null,null,null,null,null,null,null,null,null,null,null,null,null,null,100,0]
[null,null,null,null,null,null,null,null,null,null,null,null,null,null,null,null,100,0]
[null,null,null,null,null,null,null,null,null,null,null,null,null,null,null,null,100,0]
[null,null,null,null,null,null,null,null,null,null,null,{"$f":"IF(I118=\"\",\"\",ROUND(((I118-J118)/Q118*R118),2))","v":""},{"$f":"IF(K118=\"\",\"\",ROUND((I118-J118-L118),2))","v":""},null,null,null,100,0]
[null,null,null,null,null,null,null,null,null,null,null,"","",null,null,null,100,0]
[]
[]
[]
[]
[]
[null,null,null,null,null,null,null,null,null,null,null,"","",null,null,null,100,0]
[null,null,null,null,null,null,null,null,null,null,null,"","",null,null,null,100,0]
[null,null,null,null,null,null,null,null,null,null,null,"","",null,null,null,100,0]
[null,null,null,null,null,null,null,null,null,null,null,"","",null,null,null,100,0]
[null,null,null,null,null,null,null,null,null,null,null,"","",null,null,null,100,0]
["Q","Unterschrift:",null,null,null,"Summe/ Übertrag:",null,{"$f":"SUM(H87:H129)","v":0},{"$f":"SUM(I87:I129)","v":0},{"$f":"SUM(J87:J129)","v":0},null,{"$f":"SUM(L87:L129)","v":0},{"$f":"SUM(M87:M129)","v":0},{"$f":"SUM(N87:N129)","v":0},{"$f":"SUM(O87:O129)","v":0},{"$f":"SUM(P87:P129)","v":0}]
["Q","Seite        von        Seiten",null,null,null,"Übertrag:",null,{"$f":"H130","v":0},{"$f":"I130","v":0},{"$f":"J130","v":0},null,{"$f":"L130","v":0},0,{"$f":"N130","v":0},{"$f":"O130","v":0},0]

{"sheet":"Erläuterung","index":1,"n_rows":23,"n_cols":5,"rows_kept":23,"cut":false,"hidden":false,"merged":[[0,1,1,1],[3,1,3,4]]}
[null,"Erläuterungen"]
[null,null,null,null,"Stand:   SEU - 25.05.2016"]
[]
[null,"Aktivieren Sie Makros!\n\nAlle Beträge (mit Ausnahme des Umsatzsteuersatzes) sind kaufmännisch auf zwei Nachkommastellen gerundet anzugeben. Formelfunktionen dürfen nur dann verwendet werden, wenn ihnen eine RUNDEN-Formel vorweggestellt wird, da Excel sonst im Hintergrund weiterrechnet. Grau unterlegte Angaben werden in Profil c/s importiert:"]
[]
[null,"Rechnungsblatt"]
[null,"Spaltenbezeichnung","Inhalt","Datentyp","Wertebereich"]
[null,"Lfd. Nr.","Laufende Nummer des jeweiligen Rechnungsbelegs in der Belegliste\nHinweis: \nJede Nummer darf nur einmal vorkommen und eine Vergabe von Unternummern ist nicht möglich.\nEs ist zwingend eine laufende Nummer einzutragen, damit die Zeile in die CSV-Datei exportiert wird.","Nummerisch","Fortlaufende Nummer der Rechnung innerhalb des Vorhabens/ Projekts"]
[null,"Rechnungsausstellende/r","Firma und/oder Name des/der Rechnungsausstellenden","Alphanumerisch ","Max. 255 Zeichen"]
[null,"Rechnungsnummer","Rechnungsnummer des/der Rechnungsausstellenden","Alphanumerisch ","Max. 255 Zeichen"]
[null,"Rechnungsdatum","Datum der ausgestellten Rechnung\nHinweis:\nEs ist zwingend ein Rechnungsdatum einzutragen, damit die Zeile in die CSV-Datei exportiert wird.","Datum numerisch","Format tt.mm.jjjj "]
[null,"Auftragsdatum","Datum der Auftragsvergabe","Datum numerisch","Format tt.mm.jjjj "]
[null,"Bezeichnung, Gewerk","Inhalt, auf den sich die Rechnung auf bezieht\nHinweis:\nZ.B. Gewerke/ Leistungen: Malerarbeiten, Mauerarbeiten; Lieferungen: Beton, Kies","Alphanumerisch ","Max. 255 Zeichen"]
[null,"Gezahlt am","Zahlungsdatum der Rechnung","Datum numerisch","Format tt.mm.jjjj "]
[null,"Zahlbetrag lt. Zahlungsnachweis     €","Bruttobetrag, der laut Zahlungsnachweis bezahlt wurde\nHinweis:\nZahlungsnachweis: z.B. Kontoauszug. Der tatsächlich gezahlte Bruttozahlbetrag kann vom theoretischen Bruttozahlbetrag bzw. vom Bruttorechnungsbetrag abweichen!","Numerisch (Geldbetrag)","Format 1.234,10"]
[null,"Bruttorechnungsbetrag     €","Bruttobetrag laut Rechnung","Numerisch (Geldbetrag)","Format 1.234,10"]
[null,"Gewährte Skonti/ Rabatte (vom Brutto)     €","Gewährte Skonti und Rabatte (vom Brutto) laut Rechnung\nHinweis:\nSkonti und Rabatte sind auch dann zu erfassen, wenn diese zwar eingeräumt, von dem/der Antragstellenden beim Bezahlen der Rechnung aber nicht in Anspruch genommen wurden.","Numerisch (Geldbetrag)","Format 1.234,10"]
[null,"Umsatzsteuersatz     %","Umsatzsteuersatz laut Rechnung\nHinweis:\nBei umsatzsteuerfreien Beträgen ist 0,0% einzugeben. Enthält eine Rechnung verschiedene Umsatzsteuersätze, ist dies bei der Berechnung entsprechend zu berücksichtigen.","Numerisch","max. 1 Nachkommastelle xx,x"]
[null,"Umsatzsteuer     €","Umsatzsteuerbetrag, der im theoretischen Bruttozahlbetrag enthalten ist\nHinweis:\nSind Skonti/ Rabatte vom Bruttorechnungsbetrag abgezogen worden, so kann der auf der Rechnung ausgewiesene Umsatzsteuerbetrag nicht einfach übertragen werden. Der Umsatzsteuerbetrag ist anhand des theoretischen Bruttozahlbetrags neu zu berechnen (Formel ist hinterlegt).","Numerisch (Geldbetrag)","Format 1.234,10"]
[null,"Nettobetrag     €","Nettobetrag\nHinweis:\nEs ist zwingend ein Nettobetrag einzutragen, bzw. errechnen zu lassen, damit die Zeile in die CSV-Datei exportiert wird (Formel hinterlegt).","Numerisch (Geldbetrag)","Format 1.234,10"]
[null,"Sonstige nicht ff. Nettoausgaben     €","Sonstiger, nicht-förderfähiger Anteil der Rechnung\nHinweis:\nUmfasst nicht-förderfähige Ausgaben, die nicht bereits in Spalte I (Skonti/ Rabatte vom Brutto) oder Spalte K (Umsatzsteuer) erfasst worden sind. Z.B.: sonstige Gutschriften und Vergütungen, Mängeleinbehalte, weitere Abzüge vom Bruttorechnungsbetrag. Nicht-förderfähige Ausgaben sind auch dann zu erfassen, wenn diese zwar eingeräumt, von dem/der Antragstellenden beim Bezahlen der Rechnung aber nicht in Anspruch genommen wurden.","Numerisch (Geldbetrag)","Format 1.234,10"]
[null,"Förderfähig lt. Antragsteller     €","Förderfähiger Anteil der Rechnung\nHinweis:\nDie von dem/der Antragstellenden beantragten förderfähigen Ausgaben sind Grundlage des Zahlungsantrags. Der/die Antragstellende ist für die im Zahlungsantrag gemachten Angaben verantwortlich.","Numerisch (Geldbetrag)","Format 1.234,10"]
[null,"Davon förderfähig lt. Amt     €","Förderfähiger Anteil der Rechnung nach Prüfung durch die Behörde","Numerisch (Geldbetrag)","Format 1.234,10"]

{"sheet":"CSV-Datei","index":2,"n_rows":656,"n_cols":13,"rows_kept":656,"cut":false,"hidden":true,"merged":[]}
[{"$f":"Rechnungsblatt!A10","v":0},{"$f":"Rechnungsblatt!B10","v":0},{"$f":"Rechnungsblatt!C10","v":0},"",{"$f":"Rechnungsblatt!F10","v":"00:00:00"},{"$f":"Rechnungsblatt!E10","v":"00:00:00"},{"$f":"Rechnungsblatt!D10","v":"00:00:00"},{"$f":"Rechnungsblatt!G10","v":"00:00:00"},null,{"$f":"Rechnungsblatt!M10","v":""},{"$f":"Rechnungsblatt!L10","v":""},{"$f":"Rechnungsblatt!K10","v":0},{"$f":"Rechnungsblatt!O10","v":0}]
[{"$f":"Rechnungsblatt!A11","v":0},{"$f":"Rechnungsblatt!B11","v":0},{"$f":"Rechnungsblatt!C11","v":0},null,{"$f":"Rechnungsblatt!F11","v":"00:00:00"},{"$f":"Rechnungsblatt!E11","v":"00:00:00"},{"$f":"Rechnungsblatt!D11","v":"00:00:00"},{"$f":"Rechnungsblatt!G11","v":"00:00:00"},null,{"$f":"Rechnungsblatt!M11","v":""},{"$f":"Rechnungsblatt!L11","v":""},{"$f":"Rechnungsblatt!K11","v":0},{"$f":"Rechnungsblatt!O11","v":0}]
[{"$f":"Rechnungsblatt!A12","v":0},{"$f":"Rechnungsblatt!B12","v":0},{"$f":"Rechnungsblatt!C12","v":0},null,{"$f":"Rechnungsblatt!F12","v":"00:00:00"},{"$f":"Rechnungsblatt!E12","v":"00:00:00"},{"$f":"Rechnungsblatt!D12","v":"00:00:00"},{"$f":"Rechnungsblatt!G12","v":"00:00:00"},null,{"$f":"Rechnungsblatt!M12","v":""},{"$f":"Rechnungsblatt!L12","v":""},{"$f":"Rechnungsblatt!K12","v":0},{"$f":"Rechnungsblatt!O12","v":0}]
[{"$f":"Rechnungsblatt!A13","v":0},{"$f":"Rechnungsblatt!B13","v":0},{"$f":"Rechnungsblatt!C13","v":0},null,{"$f":"Rechnungsblatt!F13","v":"00:00:00"},{"$f":"Rechnungsblatt!E13","v":"00:00:00"},{"$f":"Rechnungsblatt!D13","v":"00:00:00"},{"$f":"Rechnungsblatt!G13","v":"00:00:00"},null,{"$f":"Rechnungsblatt!M13","v":""},{"$f":"Rechnungsblatt!L13","v":""},{"$f":"Rechnungsblatt!K13","v":0},{"$f":"Rechnungsblatt!O13","v":0}]
[{"$f":"Rechnungsblatt!A14","v":0},{"$f":"Rechnungsblatt!B14","v":0},{"$f":"Rechnungsblatt!C14","v":0},null,{"$f":"Rechnungsblatt!F14","v":"00:00:00"},{"$f":"Rechnungsblatt!E14","v":"00:00:00"},{"$f":"Rechnungsblatt!D14","v":"00:00:00"},{"$f":"Rechnungsblatt!G14","v":"00:00:00"},null,{"$f":"Rechnungsblatt!M14","v":""},{"$f":"Rechnungsblatt!L14","v":""},{"$f":"Rechnungsblatt!K14","v":0},{"$f":"Rechnungsblatt!O14","v":0}]
[{"$f":"Rechnungsblatt!A15","v":0},{"$f":"Rechnungsblatt!B15","v":0},{"$f":"Rechnungsblatt!C15","v":0},null,{"$f":"Rechnungsblatt!F15","v":"00:00:00"},{"$f":"Rechnungsblatt!E15","v":"00:00:00"},{"$f":"Rechnungsblatt!D15","v":"00:00:00"},{"$f":"Rechnungsblatt!G15","v":"00:00:00"},null,{"$f":"Rechnungsblatt!M15","v":""},{"$f":"Rechnungsblatt!L15","v":""},{"$f":"Rechnungsblatt!K15","v":0},{"$f":"Rechnungsblatt!O15","v":0}]
[{"$f":"Rechnungsblatt!A16","v":0},{"$f":"Rechnungsblatt!B16","v":0},{"$f":"Rechnungsblatt!C16","v":0},null,{"$f":"Rechnungsblatt!F16","v":"00:00:00"},{"$f":"Rechnungsblatt!E16","v":"00:00:00"},{"$f":"Rechnungsblatt!D16","v":"00:00:00"},{"$f":"Rechnungsblatt!G16","v":"00:00:00"},null,{"$f":"Rechnungsblatt!M16","v":""},{"$f":"Rechnungsblatt!L16","v":""},{"$f":"Rechnungsblatt!K16","v":0},{"$f":"Rechnungsblatt!O16","v":0}]
[{"$f":"Rechnungsblatt!A17","v":0},{"$f":"Rechnungsblatt!B17","v":0},{"$f":"Rechnungsblatt!C17","v":0},null,{"$f":"Rechnungsblatt!F17","v":"00:00:00"},{"$f":"Rechnungsblatt!E17","v":"00:00:00"},{"$f":"Rechnungsblatt!D17","v":"00:00:00"},{"$f":"Rechnungsblatt!G17","v":"00:00:00"},null,{"$f":"Rechnungsblatt!M17","v":""},{"$f":"Rechnungsblatt!L17","v":""},{"$f":"Rechnungsblatt!K17","v":0},{"$f":"Rechnungsblatt!O17","v":0}]
[{"$f":"Rechnungsblatt!A18","v":0},{"$f":"Rechnungsblatt!B18","v":0},{"$f":"Rechnungsblatt!C18","v":0},null,{"$f":"Rechnungsblatt!F18","v":"00:00:00"},{"$f":"Rechnungsblatt!E18","v":"00:00:00"},{"$f":"Rechnungsblatt!D18","v":"00:00:00"},{"$f":"Rechnungsblatt!G18","v":"00:00:00"},null,{"$f":"Rechnungsblatt!M18","v":""},{"$f":"Rechnungsblatt!L18","v":""},{"$f":"Rechnungsblatt!K18","v":0},{"$f":"Rechnungsblatt!O18","v":0}]
[{"$f":"Rechnungsblatt!A19","v":0},{"$f":"Rechnungsblatt!B19","v":0},{"$f":"Rechnungsblatt!C19","v":0},null,{"$f":"Rechnungsblatt!F19","v":"00:00:00"},{"$f":"Rechnungsblatt!E19","v":"00:00:00"},{"$f":"Rechnungsblatt!D19","v":"00:00:00"},{"$f":"Rechnungsblatt!G19","v":"00:00:00"},null,{"$f":"Rechnungsblatt!M19","v":""},{"$f":"Rechnungsblatt!L19","v":""},{"$f":"Rechnungsblatt!K19","v":0},{"$f":"Rechnungsblatt!O19","v":0}]
[{"$f":"Rechnungsblatt!A20","v":0},{"$f":"Rechnungsblatt!B20","v":0},{"$f":"Rechnungsblatt!C20","v":0},null,{"$f":"Rechnungsblatt!F20","v":"00:00:00"},{"$f":"Rechnungsblatt!E20","v":"00:00:00"},{"$f":"Rechnungsblatt!D20","v":"00:00:00"},{"$f":"Rechnungsblatt!G20","v":"00:00:00"},null,{"$f":"Rechnungsblatt!M20","v":""},{"$f":"Rechnungsblatt!L20","v":""},{"$f":"Rechnungsblatt!K20","v":0},{"$f":"Rechnungsblatt!O20","v":0}]
[{"$f":"Rechnungsblatt!A21","v":0},{"$f":"Rechnungsblatt!B21","v":0},{"$f":"Rechnungsblatt!C21","v":0},null,{"$f":"Rechnungsblatt!F21","v":"00:00:00"},{"$f":"Rechnungsblatt!E21","v":"00:00:00"},{"$f":"Rechnungsblatt!D21","v":"00:00:00"},{"$f":"Rechnungsblatt!G21","v":"00:00:00"},null,{"$f":"Rechnungsblatt!M21","v":""},{"$f":"Rechnungsblatt!L21","v":""},{"$f":"Rechnungsblatt!K21","v":0},{"$f":"Rechnungsblatt!O21","v":0}]
[{"$f":"Rechnungsblatt!A22","v":0},{"$f":"Rechnungsblatt!B22","v":0},{"$f":"Rechnungsblatt!C22","v":0},null,{"$f":"Rechnungsblatt!F22","v":"00:00:00"},{"$f":"Rechnungsblatt!E22","v":"00:00:00"},{"$f":"Rechnungsblatt!D22","v":"00:00:00"},{"$f":"Rechnungsblatt!G22","v":"00:00:00"},null,{"$f":"Rechnungsblatt!M22","v":""},{"$f":"Rechnungsblatt!L22","v":""},{"$f":"Rechnungsblatt!K22","v":0},{"$f":"Rechnungsblatt!O22","v":0}]
[{"$f":"Rechnungsblatt!A23","v":0},{"$f":"Rechnungsblatt!B23","v":0},{"$f":"Rechnungsblatt!C23","v":0},null,{"$f":"Rechnungsblatt!F23","v":"00:00:00"},{"$f":"Rechnungsblatt!E23","v":"00:00:00"},{"$f":"Rechnungsblatt!D23","v":"00:00:00"},{"$f":"Rechnungsblatt!G23","v":"00:00:00"},null,{"$f":"Rechnungsblatt!M23","v":""},{"$f":"Rechnungsblatt!L23","v":""},{"$f":"Rechnungsblatt!K23","v":0},{"$f":"Rechnungsblatt!O23","v":0}]
[{"$f":"Rechnungsblatt!A24","v":0},{"$f":"Rechnungsblatt!B24","v":0},{"$f":"Rechnungsblatt!C24","v":0},null,{"$f":"Rechnungsblatt!F24","v":"00:00:00"},{"$f":"Rechnungsblatt!E24","v":"00:00:00"},{"$f":"Rechnungsblatt!D24","v":"00:00:00"},{"$f":"Rechnungsblatt!G24","v":"00:00:00"},null,{"$f":"Rechnungsblatt!M24","v":""},{"$f":"Rechnungsblatt!L24","v":""},{"$f":"Rechnungsblatt!K24","v":0},{"$f":"Rechnungsblatt!O24","v":0}]
[{"$f":"Rechnungsblatt!A25","v":0},{"$f":"Rechnungsblatt!B25","v":0},{"$f":"Rechnungsblatt!C25","v":0},null,{"$f":"Rechnungsblatt!F25","v":"00:00:00"},{"$f":"Rechnungsblatt!E25","v":"00:00:00"},{"$f":"Rechnungsblatt!D25","v":"00:00:00"},{"$f":"Rechnungsblatt!G25","v":"00:00:00"},null,{"$f":"Rechnungsblatt!M25","v":""},{"$f":"Rechnungsblatt!L25","v":""},{"$f":"Rechnungsblatt!K25","v":0},{"$f":"Rechnungsblatt!O25","v":0}]
[{"$f":"Rechnungsblatt!A26","v":0},{"$f":"Rechnungsblatt!B26","v":0},{"$f":"Rechnungsblatt!C26","v":0},null,{"$f":"Rechnungsblatt!F26","v":"00:00:00"},{"$f":"Rechnungsblatt!E26","v":"00:00:00"},{"$f":"Rechnungsblatt!D26","v":"00:00:00"},{"$f":"Rechnungsblatt!G26","v":"00:00:00"},null,{"$f":"Rechnungsblatt!M26","v":""},{"$f":"Rechnungsblatt!L26","v":""},{"$f":"Rechnungsblatt!K26","v":0},{"$f":"Rechnungsblatt!O26","v":0}]
[{"$f":"Rechnungsblatt!A29","v":0},{"$f":"Rechnungsblatt!B29","v":0},{"$f":"Rechnungsblatt!C29","v":0},null,{"$f":"Rechnungsblatt!F29","v":"00:00:00"},{"$f":"Rechnungsblatt!E29","v":"00:00:00"},{"$f":"Rechnungsblatt!D29","v":"00:00:00"},{"$f":"Rechnungsblatt!G29","v":"00:00:00"},null,{"$f":"Rechnungsblatt!M29","v":""},{"$f":"Rechnungsblatt!L29","v":""},{"$f":"Rechnungsblatt!K29","v":0},{"$f":"Rechnungsblatt!O29","v":0}]
[{"$f":"Rechnungsblatt!A30","v":0},{"$f":"Rechnungsblatt!B30","v":0},{"$f":"Rechnungsblatt!C30","v":0},null,{"$f":"Rechnungsblatt!F30","v":"00:00:00"},{"$f":"Rechnungsblatt!E30","v":"00:00:00"},{"$f":"Rechnungsblatt!D30","v":"00:00:00"},{"$f":"Rechnungsblatt!G30","v":"00:00:00"},null,{"$f":"Rechnungsblatt!M30","v":""},{"$f":"Rechnungsblatt!L30","v":""},{"$f":"Rechnungsblatt!K30","v":0},{"$f":"Rechnungsblatt!O30","v":0}]
[{"$f":"Rechnungsblatt!A31","v":0},{"$f":"Rechnungsblatt!B31","v":0},{"$f":"Rechnungsblatt!C31","v":0},null,{"$f":"Rechnungsblatt!F31","v":"00:00:00"},{"$f":"Rechnungsblatt!E31","v":"00:00:00"},{"$f":"Rechnungsblatt!D31","v":"00:00:00"},{"$f":"Rechnungsblatt!G31","v":"00:00:00"},null,{"$f":"Rechnungsblatt!M31","v":""},{"$f":"Rechnungsblatt!L31","v":""},{"$f":"Rechnungsblatt!K31","v":0},{"$f":"Rechnungsblatt!O31","v":0}]
[{"$f":"Rechnungsblatt!A32","v":0},{"$f":"Rechnungsblatt!B32","v":0},{"$f":"Rechnungsblatt!C32","v":0},null,{"$f":"Rechnungsblatt!F32","v":"00:00:00"},{"$f":"Rechnungsblatt!E32","v":"00:00:00"},{"$f":"Rechnungsblatt!D32","v":"00:00:00"},{"$f":"Rechnungsblatt!G32","v":"00:00:00"},null,{"$f":"Rechnungsblatt!M32","v":""},{"$f":"Rechnungsblatt!L32","v":""},{"$f":"Rechnungsblatt!K32","v":0},{"$f":"Rechnungsblatt!O32","v":0}]
[{"$f":"Rechnungsblatt!A33","v":0},{"$f":"Rechnungsblatt!B33","v":0},{"$f":"Rechnungsblatt!C33","v":0},null,{"$f":"Rechnungsblatt!F33","v":"00:00:00"},{"$f":"Rechnungsblatt!E33","v":"00:00:00"},{"$f":"Rechnungsblatt!D33","v":"00:00:00"},{"$f":"Rechnungsblatt!G33","v":"00:00:00"},null,{"$f":"Rechnungsblatt!M33","v":""},{"$f":"Rechnungsblatt!L33","v":""},{"$f":"Rechnungsblatt!K33","v":0},{"$f":"Rechnungsblatt!O33","v":0}]
[{"$f":"Rechnungsblatt!A34","v":0},{"$f":"Rechnungsblatt!B34","v":0},{"$f":"Rechnungsblatt!C34","v":0},null,{"$f":"Rechnungsblatt!F34","v":"00:00:00"},{"$f":"Rechnungsblatt!E34","v":"00:00:00"},{"$f":"Rechnungsblatt!D34","v":"00:00:00"},{"$f":"Rechnungsblatt!G34","v":"00:00:00"},null,{"$f":"Rechnungsblatt!M34","v":""},{"$f":"Rechnungsblatt!L34","v":""},{"$f":"Rechnungsblatt!K34","v":0},{"$f":"Rechnungsblatt!O34","v":0}]
[{"$f":"Rechnungsblatt!A35","v":0},{"$f":"Rechnungsblatt!B35","v":0},{"$f":"Rechnungsblatt!C35","v":0},null,{"$f":"Rechnungsblatt!F35","v":"00:00:00"},{"$f":"Rechnungsblatt!E35","v":"00:00:00"},{"$f":"Rechnungsblatt!D35","v":"00:00:00"},{"$f":"Rechnungsblatt!G35","v":"00:00:00"},null,{"$f":"Rechnungsblatt!M35","v":""},{"$f":"Rechnungsblatt!L35","v":""},{"$f":"Rechnungsblatt!K35","v":0},{"$f":"Rechnungsblatt!O35","v":0}]
[{"$f":"Rechnungsblatt!#REF!","v":{"$error":"#REF!"}},{"$f":"Rechnungsblatt!#REF!","v":{"$error":"#REF!"}},{"$f":"Rechnungsblatt!#REF!","v":{"$error":"#REF!"}},null,{"$f":"Rechnungsblatt!#REF!","v":{"$error":"#REF!"}},{"$f":"Rechnungsblatt!#REF!","v":{"$error":"#REF!"}},{"$f":"Rechnungsblatt!#REF!","v":{"$error":"#REF!"}},{"$f":"Rechnungsblatt!#REF!","v":{"$error":"#REF!"}},null,{"$f":"Rechnungsblatt!#REF!","v":{"$error":"#REF!"}},{"$f":"Rechnungsblatt!#REF!","v":{"$error":"#REF!"}},{"$f":"Rechnungsblatt!#REF!","v":{"$error":"#REF!"}},{"$f":"Rechnungsblatt!#REF!","v":{"$error":"#REF!"}}]
[{"$f":"Rechnungsblatt!A40","v":0},{"$f":"Rechnungsblatt!B40","v":0},{"$f":"Rechnungsblatt!C40","v":0},null,{"$f":"Rechnungsblatt!F40","v":"00:00:00"},{"$f":"Rechnungsblatt!E40","v":"00:00:00"},{"$f":"Rechnungsblatt!D40","v":"00:00:00"},{"$f":"Rechnungsblatt!G40","v":"00:00:00"},null,{"$f":"Rechnungsblatt!M40","v":""},{"$f":"Rechnungsblatt!L40","v":""},{"$f":"Rechnungsblatt!K40","v":0},{"$f":"Rechnungsblatt!O40","v":0}]
[{"$f":"Rechnungsblatt!A41","v":0},{"$f":"Rechnungsblatt!B41","v":0},{"$f":"Rechnungsblatt!C41","v":0},null,{"$f":"Rechnungsblatt!F41","v":"00:00:00"},{"$f":"Rechnungsblatt!E41","v":"00:00:00"},{"$f":"Rechnungsblatt!D41","v":"00:00:00"},{"$f":"Rechnungsblatt!G41","v":"00:00:00"},null,{"$f":"Rechnungsblatt!M41","v":""},{"$f":"Rechnungsblatt!L41","v":""},{"$f":"Rechnungsblatt!K41","v":0},{"$f":"Rechnungsblatt!O41","v":0}]
[{"$f":"Rechnungsblatt!A44","v":0},{"$f":"Rechnungsblatt!B44","v":0},{"$f":"Rechnungsblatt!C44","v":0},null,{"$f":"Rechnungsblatt!F44","v":"00:00:00"},{"$f":"Rechnungsblatt!E44","v":"00:00:00"},{"$f":"Rechnungsblatt!D44","v":"00:00:00"},{"$f":"Rechnungsblatt!G44","v":"00:00:00"},null,{"$f":"Rechnungsblatt!M44","v":""},{"$f":"Rechnungsblatt!L44","v":""},{"$f":"Rechnungsblatt!K44","v":0},{"$f":"Rechnungsblatt!O44","v":0}]
[{"$f":"Rechnungsblatt!A45","v":0},{"$f":"Rechnungsblatt!B45","v":0},{"$f":"Rechnungsblatt!C45","v":0},null,{"$f":"Rechnungsblatt!F45","v":"00:00:00"},{"$f":"Rechnungsblatt!E45","v":"00:00:00"},{"$f":"Rechnungsblatt!D45","v":"00:00:00"},{"$f":"Rechnungsblatt!G45","v":"00:00:00"},null,{"$f":"Rechnungsblatt!M45","v":""},{"$f":"Rechnungsblatt!L45","v":""},{"$f":"Rechnungsblatt!K45","v":0},{"$f":"Rechnungsblatt!O45","v":0}]
[{"$f":"Rechnungsblatt!A46","v":0},{"$f":"Rechnungsblatt!B46","v":0},{"$f":"Rechnungsblatt!C46","v":0},null,{"$f":"Rechnungsblatt!F46","v":"00:00:00"},{"$f":"Rechnungsblatt!E46","v":"00:00:00"},{"$f":"Rechnungsblatt!D46","v":"00:00:00"},{"$f":"Rechnungsblatt!G46","v":"00:00:00"},null,{"$f":"Rechnungsblatt!M46","v":""},{"$f":"Rechnungsblatt!L46","v":""},{"$f":"Rechnungsblatt!K46","v":0},{"$f":"Rechnungsblatt!O46","v":0}]
[{"$f":"Rechnungsblatt!A47","v":0},{"$f":"Rechnungsblatt!B47","v":0},{"$f":"Rechnungsblatt!C47","v":0},null,{"$f":"Rechnungsblatt!F47","v":"00:00:00"},{"$f":"Rechnungsblatt!E47","v":"00:00:00"},{"$f":"Rechnungsblatt!D47","v":"00:00:00"},{"$f":"Rechnungsblatt!G47","v":"00:00:00"},null,{"$f":"Rechnungsblatt!M47","v":""},{"$f":"Rechnungsblatt!L47","v":""},{"$f":"Rechnungsblatt!K47","v":0},{"$f":"Rechnungsblatt!O47","v":0}]
[{"$f":"Rechnungsblatt!A48","v":0},{"$f":"Rechnungsblatt!B48","v":0},{"$f":"Rechnungsblatt!C48","v":0},null,{"$f":"Rechnungsblatt!F48","v":"00:00:00"},{"$f":"Rechnungsblatt!E48","v":"00:00:00"},{"$f":"Rechnungsblatt!D48","v":"00:00:00"},{"$f":"Rechnungsblatt!G48","v":"00:00:00"},null,{"$f":"Rechnungsblatt!M48","v":""},{"$f":"Rechnungsblatt!L48","v":""},{"$f":"Rechnungsblatt!K48","v":0},{"$f":"Rechnungsblatt!O48","v":0}]
[{"$f":"Rechnungsblatt!A49","v":0},{"$f":"Rechnungsblatt!B49","v":0},{"$f":"Rechnungsblatt!C49","v":0},null,{"$f":"Rechnungsblatt!F49","v":"00:00:00"},{"$f":"Rechnungsblatt!E49","v":"00:00:00"},{"$f":"Rechnungsblatt!D49","v":"00:00:00"},{"$f":"Rechnungsblatt!G49","v":"00:00:00"},null,{"$f":"Rechnungsblatt!M49","v":""},{"$f":"Rechnungsblatt!L49","v":""},{"$f":"Rechnungsblatt!K49","v":0},{"$f":"Rechnungsblatt!O49","v":0}]
[{"$f":"Rechnungsblatt!A50","v":0},{"$f":"Rechnungsblatt!B50","v":0},{"$f":"Rechnungsblatt!C50","v":0},null,{"$f":"Rechnungsblatt!F50","v":"00:00:00"},{"$f":"Rechnungsblatt!E50","v":"00:00:00"},{"$f":"Rechnungsblatt!D50","v":"00:00:00"},{"$f":"Rechnungsblatt!G50","v":"00:00:00"},null,{"$f":"Rechnungsblatt!M50","v":""},{"$f":"Rechnungsblatt!L50","v":""},{"$f":"Rechnungsblatt!K50","v":0},{"$f":"Rechnungsblatt!O50","v":0}]
[{"$f":"Rechnungsblatt!A51","v":0},{"$f":"Rechnungsblatt!B51","v":0},{"$f":"Rechnungsblatt!C51","v":0},null,{"$f":"Rechnungsblatt!F51","v":"00:00:00"},{"$f":"Rechnungsblatt!E51","v":"00:00:00"},{"$f":"Rechnungsblatt!D51","v":"00:00:00"},{"$f":"Rechnungsblatt!G51","v":"00:00:00"},null,{"$f":"Rechnungsblatt!M51","v":""},{"$f":"Rechnungsblatt!L51","v":""},{"$f":"Rechnungsblatt!K51","v":0},{"$f":"Rechnungsblatt!O51","v":0}]
[{"$f":"Rechnungsblatt!A52","v":0},{"$f":"Rechnungsblatt!B52","v":0},{"$f":"Rechnungsblatt!C52","v":0},null,{"$f":"Rechnungsblatt!F52","v":"00:00:00"},{"$f":"Rechnungsblatt!E52","v":"00:00:00"},{"$f":"Rechnungsblatt!D52","v":"00:00:00"},{"$f":"Rechnungsblatt!G52","v":"00:00:00"},null,{"$f":"Rechnungsblatt!M52","v":""},{"$f":"Rechnungsblatt!L52","v":""},{"$f":"Rechnungsblatt!K52","v":0},{"$f":"Rechnungsblatt!O52","v":0}]
[{"$f":"Rechnungsblatt!A53","v":0},{"$f":"Rechnungsblatt!B53","v":0},{"$f":"Rechnungsblatt!C53","v":0},null,{"$f":"Rechnungsblatt!F53","v":"00:00:00"},{"$f":"Rechnungsblatt!E53","v":"00:00:00"},{"$f":"Rechnungsblatt!D53","v":"00:00:00"},{"$f":"Rechnungsblatt!G53","v":"00:00:00"},null,{"$f":"Rechnungsblatt!M53","v":""},{"$f":"Rechnungsblatt!L53","v":""},{"$f":"Rechnungsblatt!K53","v":0},{"$f":"Rechnungsblatt!O53","v":0}]
[{"$f":"Rechnungsblatt!A54","v":0},{"$f":"Rechnungsblatt!B54","v":0},{"$f":"Rechnungsblatt!C54","v":0},null,{"$f":"Rechnungsblatt!F54","v":"00:00:00"},{"$f":"Rechnungsblatt!E54","v":"00:00:00"},{"$f":"Rechnungsblatt!D54","v":"00:00:00"},{"$f":"Rechnungsblatt!G54","v":"00:00:00"},null,{"$f":"Rechnungsblatt!M54","v":""},{"$f":"Rechnungsblatt!L54","v":""},{"$f":"Rechnungsblatt!K54","v":0},{"$f":"Rechnungsblatt!O54","v":0}]
[{"$f":"Rechnungsblatt!A55","v":0},{"$f":"Rechnungsblatt!B55","v":0},{"$f":"Rechnungsblatt!C55","v":0},null,{"$f":"Rechnungsblatt!F55","v":"00:00:00"},{"$f":"Rechnungsblatt!E55","v":"00:00:00"},{"$f":"Rechnungsblatt!D55","v":"00:00:00"},{"$f":"Rechnungsblatt!G55","v":"00:00:00"},null,{"$f":"Rechnungsblatt!M55","v":""},{"$f":"Rechnungsblatt!L55","v":""},{"$f":"Rechnungsblatt!K55","v":0},{"$f":"Rechnungsblatt!O55","v":0}]
[{"$f":"Rechnungsblatt!A58","v":0},{"$f":"Rechnungsblatt!B58","v":0},{"$f":"Rechnungsblatt!C58","v":0},null,{"$f":"Rechnungsblatt!F58","v":"00:00:00"},{"$f":"Rechnungsblatt!E58","v":"00:00:00"},{"$f":"Rechnungsblatt!D58","v":"00:00:00"},{"$f":"Rechnungsblatt!G58","v":"00:00:00"},null,{"$f":"Rechnungsblatt!M58","v":""},{"$f":"Rechnungsblatt!L58","v":""},{"$f":"Rechnungsblatt!K58","v":0},{"$f":"Rechnungsblatt!O58","v":0}]
[{"$f":"Rechnungsblatt!A59","v":0},{"$f":"Rechnungsblatt!B59","v":0},{"$f":"Rechnungsblatt!C59","v":0},null,{"$f":"Rechnungsblatt!F59","v":"00:00:00"},{"$f":"Rechnungsblatt!E59","v":"00:00:00"},{"$f":"Rechnungsblatt!D59","v":"00:00:00"},{"$f":"Rechnungsblatt!G59","v":"00:00:00"},null,{"$f":"Rechnungsblatt!M59","v":""},{"$f":"Rechnungsblatt!L59","v":""},{"$f":"Rechnungsblatt!K59","v":0},{"$f":"Rechnungsblatt!O59","v":0}]
[{"$f":"Rechnungsblatt!A60","v":0},{"$f":"Rechnungsblatt!B60","v":0},{"$f":"Rechnungsblatt!C60","v":0},null,{"$f":"Rechnungsblatt!F60","v":"00:00:00"},{"$f":"Rechnungsblatt!E60","v":"00:00:00"},{"$f":"Rechnungsblatt!D60","v":"00:00:00"},{"$f":"Rechnungsblatt!G60","v":"00:00:00"},null,{"$f":"Rechnungsblatt!M60","v":""},{"$f":"Rechnungsblatt!L60","v":""},{"$f":"Rechnungsblatt!K60","v":0},{"$f":"Rechnungsblatt!O60","v":0}]
[{"$f":"Rechnungsblatt!A61","v":0},{"$f":"Rechnungsblatt!B61","v":0},{"$f":"Rechnungsblatt!C61","v":0},null,{"$f":"Rechnungsblatt!F61","v":"00:00:00"},{"$f":"Rechnungsblatt!E61","v":"00:00:00"},{"$f":"Rechnungsblatt!D61","v":"00:00:00"},{"$f":"Rechnungsblatt!G61","v":"00:00:00"},null,{"$f":"Rechnungsblatt!M61","v":""},{"$f":"Rechnungsblatt!L61","v":""},{"$f":"Rechnungsblatt!K61","v":0},{"$f":"Rechnungsblatt!O61","v":0}]
[{"$f":"Rechnungsblatt!A62","v":0},{"$f":"Rechnungsblatt!B62","v":0},{"$f":"Rechnungsblatt!C62","v":0},null,{"$f":"Rechnungsblatt!F62","v":"00:00:00"},{"$f":"Rechnungsblatt!E62","v":"00:00:00"},{"$f":"Rechnungsblatt!D62","v":"00:00:00"},{"$f":"Rechnungsblatt!G62","v":"00:00:00"},null,{"$f":"Rechnungsblatt!M62","v":""},{"$f":"Rechnungsblatt!L62","v":""},{"$f":"Rechnungsblatt!K62","v":0},{"$f":"Rechnungsblatt!O62","v":0}]
[{"$f":"Rechnungsblatt!A63","v":0},{"$f":"Rechnungsblatt!B63","v":0},{"$f":"Rechnungsblatt!C63","v":0},null,{"$f":"Rechnungsblatt!F63","v":"00:00:00"},{"$f":"Rechnungsblatt!E63","v":"00:00:00"},{"$f":"Rechnungsblatt!D63","v":"00:00:00"},{"$f":"Rechnungsblatt!G63","v":"00:00:00"},null,{"$f":"Rechnungsblatt!M63","v":""},{"$f":"Rechnungsblatt!L63","v":""},{"$f":"Rechnungsblatt!K63","v":0},{"$f":"Rechnungsblatt!O63","v":0}]
[{"$f":"Rechnungsblatt!A64","v":0},{"$f":"Rechnungsblatt!B64","v":0},{"$f":"Rechnungsblatt!C64","v":0},null,{"$f":"Rechnungsblatt!F64","v":"00:00:00"},{"$f":"Rechnungsblatt!E64","v":"00:00:00"},{"$f":"Rechnungsblatt!D64","v":"00:00:00"},{"$f":"Rechnungsblatt!G64","v":"00:00:00"},null,{"$f":"Rechnungsblatt!M64","v":""},{"$f":"Rechnungsblatt!L64","v":""},{"$f":"Rechnungsblatt!K64","v":0},{"$f":"Rechnungsblatt!O64","v":0}]
[{"$f":"Rechnungsblatt!A65","v":0},{"$f":"Rechnungsblatt!B65","v":0},{"$f":"Rechnungsblatt!C65","v":0},null,{"$f":"Rechnungsblatt!F65","v":"00:00:00"},{"$f":"Rechnungsblatt!E65","v":"00:00:00"},{"$f":"Rechnungsblatt!D65","v":"00:00:00"},{"$f":"Rechnungsblatt!G65","v":"00:00:00"},null,{"$f":"Rechnungsblatt!M65","v":""},{"$f":"Rechnungsblatt!L65","v":""},{"$f":"Rechnungsblatt!K65","v":0},{"$f":"Rechnungsblatt!O65","v":0}]
[{"$f":"Rechnungsblatt!A66","v":0},{"$f":"Rechnungsblatt!B66","v":0},{"$f":"Rechnungsblatt!C66","v":0},null,{"$f":"Rechnungsblatt!F66","v":"00:00:00"},{"$f":"Rechnungsblatt!E66","v":"00:00:00"},{"$f":"Rechnungsblatt!D66","v":"00:00:00"},{"$f":"Rechnungsblatt!G66","v":"00:00:00"},null,{"$f":"Rechnungsblatt!M66","v":""},{"$f":"Rechnungsblatt!L66","v":""},{"$f":"Rechnungsblatt!K66","v":0},{"$f":"Rechnungsblatt!O66","v":0}]
[{"$f":"Rechnungsblatt!A67","v":0},{"$f":"Rechnungsblatt!B67","v":0},{"$f":"Rechnungsblatt!C67","v":0},null,{"$f":"Rechnungsblatt!F67","v":"00:00:00"},{"$f":"Rechnungsblatt!E67","v":"00:00:00"},{"$f":"Rechnungsblatt!D67","v":"00:00:00"},{"$f":"Rechnungsblatt!G67","v":"00:00:00"},null,{"$f":"Rechnungsblatt!M67","v":""},{"$f":"Rechnungsblatt!L67","v":""},{"$f":"Rechnungsblatt!K67","v":0},{"$f":"Rechnungsblatt!O67","v":0}]
[{"$f":"Rechnungsblatt!A68","v":0},{"$f":"Rechnungsblatt!B68","v":0},{"$f":"Rechnungsblatt!C68","v":0},null,{"$f":"Rechnungsblatt!F68","v":"00:00:00"},{"$f":"Rechnungsblatt!E68","v":"00:00:00"},{"$f":"Rechnungsblatt!D68","v":"00:00:00"},{"$f":"Rechnungsblatt!G68","v":"00:00:00"},null,{"$f":"Rechnungsblatt!M68","v":""},{"$f":"Rechnungsblatt!L68","v":""},{"$f":"Rechnungsblatt!K68","v":0},{"$f":"Rechnungsblatt!O68","v":0}]
[{"$f":"Rechnungsblatt!A69","v":0},{"$f":"Rechnungsblatt!B69","v":0},{"$f":"Rechnungsblatt!C69","v":0},null,{"$f":"Rechnungsblatt!F69","v":"00:00:00"},{"$f":"Rechnungsblatt!E69","v":"00:00:00"},{"$f":"Rechnungsblatt!D69","v":"00:00:00"},{"$f":"Rechnungsblatt!G69","v":"00:00:00"},null,{"$f":"Rechnungsblatt!M69","v":""},{"$f":"Rechnungsblatt!L69","v":""},{"$f":"Rechnungsblatt!K69","v":0},{"$f":"Rechnungsblatt!O69","v":0}]
[{"$f":"Rechnungsblatt!A70","v":0},{"$f":"Rechnungsblatt!B70","v":0},{"$f":"Rechnungsblatt!C70","v":0},null,{"$f":"Rechnungsblatt!F70","v":"00:00:00"},{"$f":"Rechnungsblatt!E70","v":"00:00:00"},{"$f":"Rechnungsblatt!D70","v":"00:00:00"},{"$f":"Rechnungsblatt!G70","v":"00:00:00"},null,{"$f":"Rechnungsblatt!M70","v":""},{"$f":"Rechnungsblatt!L70","v":""},{"$f":"Rechnungsblatt!K70","v":0},{"$f":"Rechnungsblatt!O70","v":0}]
[{"$f":"Rechnungsblatt!A71","v":0},{"$f":"Rechnungsblatt!B71","v":0},{"$f":"Rechnungsblatt!C71","v":0},null,{"$f":"Rechnungsblatt!F71","v":"00:00:00"},{"$f":"Rechnungsblatt!E71","v":"00:00:00"},{"$f":"Rechnungsblatt!D71","v":"00:00:00"},{"$f":"Rechnungsblatt!G71","v":"00:00:00"},null,{"$f":"Rechnungsblatt!M71","v":""},{"$f":"Rechnungsblatt!L71","v":""},{"$f":"Rechnungsblatt!K71","v":0},{"$f":"Rechnungsblatt!O71","v":0}]
[{"$f":"Rechnungsblatt!A72","v":0},{"$f":"Rechnungsblatt!B72","v":0},{"$f":"Rechnungsblatt!C72","v":0},null,{"$f":"Rechnungsblatt!F72","v":"00:00:00"},{"$f":"Rechnungsblatt!E72","v":"00:00:00"},{"$f":"Rechnungsblatt!D72","v":"00:00:00"},{"$f":"Rechnungsblatt!G72","v":"00:00:00"},null,{"$f":"Rechnungsblatt!M72","v":""},{"$f":"Rechnungsblatt!L72","v":""},{"$f":"Rechnungsblatt!K72","v":0},{"$f":"Rechnungsblatt!O72","v":0}]
[{"$f":"Rechnungsblatt!A73","v":0},{"$f":"Rechnungsblatt!B73","v":0},{"$f":"Rechnungsblatt!C73","v":0},null,{"$f":"Rechnungsblatt!F73","v":"00:00:00"},{"$f":"Rechnungsblatt!E73","v":"00:00:00"},{"$f":"Rechnungsblatt!D73","v":"00:00:00"},{"$f":"Rechnungsblatt!G73","v":"00:00:00"},null,{"$f":"Rechnungsblatt!M73","v":""},{"$f":"Rechnungsblatt!L73","v":""},{"$f":"Rechnungsblatt!K73","v":0},{"$f":"Rechnungsblatt!O73","v":0}]
[{"$f":"Rechnungsblatt!A74","v":0},{"$f":"Rechnungsblatt!B74","v":0},{"$f":"Rechnungsblatt!C74","v":0},null,{"$f":"Rechnungsblatt!F74","v":"00:00:00"},{"$f":"Rechnungsblatt!E74","v":"00:00:00"},{"$f":"Rechnungsblatt!D74","v":"00:00:00"},{"$f":"Rechnungsblatt!G74","v":"00:00:00"},null,{"$f":"Rechnungsblatt!M74","v":""},{"$f":"Rechnungsblatt!L74","v":""},{"$f":"Rechnungsblatt!K74","v":0},{"$f":"Rechnungsblatt!O74","v":0}]
[{"$f":"Rechnungsblatt!A75","v":0},{"$f":"Rechnungsblatt!B75","v":0},{"$f":"Rechnungsblatt!C75","v":0},null,{"$f":"Rechnungsblatt!F75","v":"00:00:00"},{"$f":"Rechnungsblatt!E75","v":"00:00:00"},{"$f":"Rechnungsblatt!D75","v":"00:00:00"},{"$f":"Rechnungsblatt!G75","v":"00:00:00"},null,{"$f":"Rechnungsblatt!M75","v":""},{"$f":"Rechnungsblatt!L75","v":""},{"$f":"Rechnungsblatt!K75","v":0},{"$f":"Rechnungsblatt!O75","v":0}]
[{"$f":"Rechnungsblatt!#REF!","v":{"$error":"#REF!"}},{"$f":"Rechnungsblatt!#REF!","v":{"$error":"#REF!"}},{"$f":"Rechnungsblatt!#REF!","v":{"$error":"#REF!"}},null,{"$f":"Rechnungsblatt!#REF!","v":{"$error":"#REF!"}},{"$f":"Rechnungsblatt!#REF!","v":{"$error":"#REF!"}},{"$f":"Rechnungsblatt!#REF!","v":{"$error":"#REF!"}},{"$f":"Rechnungsblatt!#REF!","v":{"$error":"#REF!"}},null,{"$f":"Rechnungsblatt!#REF!","v":{"$error":"#REF!"}},{"$f":"Rechnungsblatt!#REF!","v":{"$error":"#REF!"}},{"$f":"Rechnungsblatt!#REF!","v":{"$error":"#REF!"}},{"$f":"Rechnungsblatt!#REF!","v":{"$error":"#REF!"}}]
[{"$f":"Rechnungsblatt!#REF!","v":{"$error":"#REF!"}},{"$f":"Rechnungsblatt!#REF!","v":{"$error":"#REF!"}},{"$f":"Rechnungsblatt!#REF!","v":{"$error":"#REF!"}},null,{"$f":"Rechnungsblatt!#REF!","v":{"$error":"#REF!"}},{"$f":"Rechnungsblatt!#REF!","v":{"$error":"#REF!"}},{"$f":"Rechnungsblatt!#REF!","v":{"$error":"#REF!"}},{"$f":"Rechnungsblatt!#REF!","v":{"$error":"#REF!"}},null,{"$f":"Rechnungsblatt!#REF!","v":{"$error":"#REF!"}},{"$f":"Rechnungsblatt!#REF!","v":{"$error":"#REF!"}},{"$f":"Rechnungsblatt!#REF!","v":{"$error":"#REF!"}},{"$f":"Rechnungsblatt!#REF!","v":{"$error":"#REF!"}}]
[{"$f":"Rechnungsblatt!A76","v":0},{"$f":"Rechnungsblatt!B76","v":0},{"$f":"Rechnungsblatt!C76","v":0},null,{"$f":"Rechnungsblatt!F76","v":"00:00:00"},{"$f":"Rechnungsblatt!E76","v":"00:00:00"},{"$f":"Rechnungsblatt!D76","v":"00:00:00"},{"$f":"Rechnungsblatt!G76","v":"00:00:00"},null,{"$f":"Rechnungsblatt!M76","v":""},{"$f":"Rechnungsblatt!L76","v":""},{"$f":"Rechnungsblatt!K76","v":0},{"$f":"Rechnungsblatt!O76","v":0}]
[{"$f":"Rechnungsblatt!A77","v":0},{"$f":"Rechnungsblatt!B77","v":0},{"$f":"Rechnungsblatt!C77","v":0},null,{"$f":"Rechnungsblatt!F77","v":"00:00:00"},{"$f":"Rechnungsblatt!E77","v":"00:00:00"},{"$f":"Rechnungsblatt!D77","v":"00:00:00"},{"$f":"Rechnungsblatt!G77","v":"00:00:00"},null,{"$f":"Rechnungsblatt!M77","v":""},{"$f":"Rechnungsblatt!L77","v":""},{"$f":"Rechnungsblatt!K77","v":0},{"$f":"Rechnungsblatt!O77","v":0}]
[{"$f":"Rechnungsblatt!A78","v":0},{"$f":"Rechnungsblatt!B78","v":0},{"$f":"Rechnungsblatt!C78","v":0},null,{"$f":"Rechnungsblatt!F78","v":"00:00:00"},{"$f":"Rechnungsblatt!E78","v":"00:00:00"},{"$f":"Rechnungsblatt!D78","v":"00:00:00"},{"$f":"Rechnungsblatt!G78","v":"00:00:00"},null,{"$f":"Rechnungsblatt!M78","v":""},{"$f":"Rechnungsblatt!L78","v":""},{"$f":"Rechnungsblatt!K78","v":0},{"$f":"Rechnungsblatt!O78","v":0}]
[{"$f":"Rechnungsblatt!A84","v":0},{"$f":"Rechnungsblatt!B84","v":0},{"$f":"Rechnungsblatt!C84","v":0},null,{"$f":"Rechnungsblatt!F84","v":"00:00:00"},{"$f":"Rechnungsblatt!E84","v":"00:00:00"},{"$f":"Rechnungsblatt!D84","v":"00:00:00"},{"$f":"Rechnungsblatt!G84","v":"00:00:00"},null,{"$f":"Rechnungsblatt!M84","v":""},{"$f":"Rechnungsblatt!L84","v":""},{"$f":"Rechnungsblatt!K84","v":0},{"$f":"Rechnungsblatt!O84","v":0}]
[{"$f":"Rechnungsblatt!A85","v":0},{"$f":"Rechnungsblatt!B85","v":0},{"$f":"Rechnungsblatt!C85","v":0},null,{"$f":"Rechnungsblatt!F85","v":"00:00:00"},{"$f":"Rechnungsblatt!E85","v":"00:00:00"},{"$f":"Rechnungsblatt!D85","v":"00:00:00"},{"$f":"Rechnungsblatt!G85","v":"00:00:00"},null,{"$f":"Rechnungsblatt!M85","v":""},{"$f":"Rechnungsblatt!L85","v":""},{"$f":"Rechnungsblatt!K85","v":0},{"$f":"Rechnungsblatt!O85","v":0}]
[{"$f":"Rechnungsblatt!#REF!","v":{"$error":"#REF!"}},{"$f":"Rechnungsblatt!#REF!","v":{"$error":"#REF!"}},{"$f":"Rechnungsblatt!#REF!","v":{"$error":"#REF!"}},null,{"$f":"Rechnungsblatt!#REF!","v":{"$error":"#REF!"}},{"$f":"Rechnungsblatt!#REF!","v":{"$error":"#REF!"}},{"$f":"Rechnungsblatt!#REF!","v":{"$error":"#REF!"}},{"$f":"Rechnungsblatt!#REF!","v":{"$error":"#REF!"}},null,{"$f":"Rechnungsblatt!#REF!","v":{"$error":"#REF!"}},{"$f":"Rechnungsblatt!#REF!","v":{"$error":"#REF!"}},{"$f":"Rechnungsblatt!#REF!","v":{"$error":"#REF!"}},{"$f":"Rechnungsblatt!#REF!","v":{"$error":"#REF!"}}]
[{"$f":"Rechnungsblatt!#REF!","v":{"$error":"#REF!"}},{"$f":"Rechnungsblatt!#REF!","v":{"$error":"#REF!"}},{"$f":"Rechnungsblatt!#REF!","v":{"$error":"#REF!"}},null,{"$f":"Rechnungsblatt!#REF!","v":{"$error":"#REF!"}},{"$f":"Rechnungsblatt!#REF!","v":{"$error":"#REF!"}},{"$f":"Rechnungsblatt!#REF!","v":{"$error":"#REF!"}},{"$f":"Rechnungsblatt!#REF!","v":{"$error":"#REF!"}},null,{"$f":"Rechnungsblatt!#REF!","v":{"$error":"#REF!"}},{"$f":"Rechnungsblatt!#REF!","v":{"$error":"#REF!"}},{"$f":"Rechnungsblatt!#REF!","v":{"$error":"#REF!"}},{"$f":"Rechnungsblatt!#REF!","v":{"$error":"#REF!"}}]
[{"$f":"Rechnungsblatt!#REF!","v":{"$error":"#REF!"}},{"$f":"Rechnungsblatt!#REF!","v":{"$error":"#REF!"}},{"$f":"Rechnungsblatt!#REF!","v":{"$error":"#REF!"}},null,{"$f":"Rechnungsblatt!#REF!","v":{"$error":"#REF!"}},{"$f":"Rechnungsblatt!#REF!","v":{"$error":"#REF!"}},{"$f":"Rechnungsblatt!#REF!","v":{"$error":"#REF!"}},{"$f":"Rechnungsblatt!#REF!","v":{"$error":"#REF!"}},null,{"$f":"Rechnungsblatt!#REF!","v":{"$error":"#REF!"}},{"$f":"Rechnungsblatt!#REF!","v":{"$error":"#REF!"}},{"$f":"Rechnungsblatt!#REF!","v":{"$error":"#REF!"}},{"$f":"Rechnungsblatt!#REF!","v":{"$error":"#REF!"}}]
[{"$f":"Rechnungsblatt!#REF!","v":{"$error":"#REF!"}},{"$f":"Rechnungsblatt!#REF!","v":{"$error":"#REF!"}},{"$f":"Rechnungsblatt!#REF!","v":{"$error":"#REF!"}},null,{"$f":"Rechnungsblatt!#REF!","v":{"$error":"#REF!"}},{"$f":"Rechnungsblatt!#REF!","v":{"$error":"#REF!"}},{"$f":"Rechnungsblatt!#REF!","v":{"$error":"#REF!"}},{"$f":"Rechnungsblatt!#REF!","v":{"$error":"#REF!"}},null,{"$f":"Rechnungsblatt!#REF!","v":{"$error":"#REF!"}},{"$f":"Rechnungsblatt!#REF!","v":{"$error":"#REF!"}},{"$f":"Rechnungsblatt!#REF!","v":{"$error":"#REF!"}},{"$f":"Rechnungsblatt!#REF!","v":{"$error":"#REF!"}}]
[{"$f":"Rechnungsblatt!#REF!","v":{"$error":"#REF!"}},{"$f":"Rechnungsblatt!#REF!","v":{"$error":"#REF!"}},{"$f":"Rechnungsblatt!#REF!","v":{"$error":"#REF!"}},null,{"$f":"Rechnungsblatt!#REF!","v":{"$error":"#REF!"}},{"$f":"Rechnungsblatt!#REF!","v":{"$error":"#REF!"}},{"$f":"Rechnungsblatt!#REF!","v":{"$error":"#REF!"}},{"$f":"Rechnungsblatt!#REF!","v":{"$error":"#REF!"}},null,{"$f":"Rechnungsblatt!#REF!","v":{"$error":"#REF!"}},{"$f":"Rechnungsblatt!#REF!","v":{"$error":"#REF!"}},{"$f":"Rechnungsblatt!#REF!","v":{"$error":"#REF!"}},{"$f":"Rechnungsblatt!#REF!","v":{"$error":"#REF!"}}]
[{"$f":"Rechnungsblatt!#REF!","v":{"$error":"#REF!"}},{"$f":"Rechnungsblatt!#REF!","v":{"$error":"#REF!"}},{"$f":"Rechnungsblatt!#REF!","v":{"$error":"#REF!"}},null,{"$f":"Rechnungsblatt!#REF!","v":{"$error":"#REF!"}},{"$f":"Rechnungsblatt!#REF!","v":{"$error":"#REF!"}},{"$f":"Rechnungsblatt!#REF!","v":{"$error":"#REF!"}},{"$f":"Rechnungsblatt!#REF!","v":{"$error":"#REF!"}},null,{"$f":"Rechnungsblatt!#REF!","v":{"$error":"#REF!"}},{"$f":"Rechnungsblatt!#REF!","v":{"$error":"#REF!"}},{"$f":"Rechnungsblatt!#REF!","v":{"$error":"#REF!"}},{"$f":"Rechnungsblatt!#REF!","v":{"$error":"#REF!"}}]
[{"$f":"Rechnungsblatt!#REF!","v":{"$error":"#REF!"}},{"$f":"Rechnungsblatt!#REF!","v":{"$error":"#REF!"}},{"$f":"Rechnungsblatt!#REF!","v":{"$error":"#REF!"}},null,{"$f":"Rechnungsblatt!#REF!","v":{"$error":"#REF!"}},{"$f":"Rechnungsblatt!#REF!","v":{"$error":"#REF!"}},{"$f":"Rechnungsblatt!#REF!","v":{"$error":"#REF!"}},{"$f":"Rechnungsblatt!#REF!","v":{"$error":"#REF!"}},null,{"$f":"Rechnungsblatt!#REF!","v":{"$error":"#REF!"}},{"$f":"Rechnungsblatt!#REF!","v":{"$error":"#REF!"}},{"$f":"Rechnungsblatt!#REF!","v":{"$error":"#REF!"}},{"$f":"Rechnungsblatt!#REF!","v":{"$error":"#REF!"}}]
[{"$f":"Rechnungsblatt!#REF!","v":{"$error":"#REF!"}},{"$f":"Rechnungsblatt!#REF!","v":{"$error":"#REF!"}},{"$f":"Rechnungsblatt!#REF!","v":{"$error":"#REF!"}},null,{"$f":"Rechnungsblatt!#REF!","v":{"$error":"#REF!"}},{"$f":"Rechnungsblatt!#REF!","v":{"$error":"#REF!"}},{"$f":"Rechnungsblatt!#REF!","v":{"$error":"#REF!"}},{"$f":"Rechnungsblatt!#REF!","v":{"$error":"#REF!"}},null,{"$f":"Rechnungsblatt!#REF!","v":{"$error":"#REF!"}},{"$f":"Rechnungsblatt!#REF!","v":{"$error":"#REF!"}},{"$f":"Rechnungsblatt!#REF!","v":{"$error":"#REF!"}},{"$f":"Rechnungsblatt!#REF!","v":{"$error":"#REF!"}}]
[{"$f":"Rechnungsblatt!#REF!","v":{"$error":"#REF!"}},{"$f":"Rechnungsblatt!#REF!","v":{"$error":"#REF!"}},{"$f":"Rechnungsblatt!#REF!","v":{"$error":"#REF!"}},null,{"$f":"Rechnungsblatt!#REF!","v":{"$error":"#REF!"}},{"$f":"Rechnungsblatt!#REF!","v":{"$error":"#REF!"}},{"$f":"Rechnungsblatt!#REF!","v":{"$error":"#REF!"}},{"$f":"Rechnungsblatt!#REF!","v":{"$error":"#REF!"}},null,{"$f":"Rechnungsblatt!#REF!","v":{"$error":"#REF!"}},{"$f":"Rechnungsblatt!#REF!","v":{"$error":"#REF!"}},{"$f":"Rechnungsblatt!#REF!","v":{"$error":"#REF!"}},{"$f":"Rechnungsblatt!#REF!","v":{"$error":"#REF!"}}]
[{"$f":"Rechnungsblatt!#REF!","v":{"$error":"#REF!"}},{"$f":"Rechnungsblatt!#REF!","v":{"$error":"#REF!"}},{"$f":"Rechnungsblatt!#REF!","v":{"$error":"#REF!"}},null,{"$f":"Rechnungsblatt!#REF!","v":{"$error":"#REF!"}},{"$f":"Rechnungsblatt!#REF!","v":{"$error":"#REF!"}},{"$f":"Rechnungsblatt!#REF!","v":{"$error":"#REF!"}},{"$f":"Rechnungsblatt!#REF!","v":{"$error":"#REF!"}},null,{"$f":"Rechnungsblatt!#REF!","v":{"$error":"#REF!"}},{"$f":"Rechnungsblatt!#REF!","v":{"$error":"#REF!"}},{"$f":"Rechnungsblatt!#REF!","v":{"$error":"#REF!"}},{"$f":"Rechnungsblatt!#REF!","v":{"$error":"#REF!"}}]
[{"$f":"Rechnungsblatt!#REF!","v":{"$error":"#REF!"}},{"$f":"Rechnungsblatt!#REF!","v":{"$error":"#REF!"}},{"$f":"Rechnungsblatt!#REF!","v":{"$error":"#REF!"}},null,{"$f":"Rechnungsblatt!#REF!","v":{"$error":"#REF!"}},{"$f":"Rechnungsblatt!#REF!","v":{"$error":"#REF!"}},{"$f":"Rechnungsblatt!#REF!","v":{"$error":"#REF!"}},{"$f":"Rechnungsblatt!#REF!","v":{"$error":"#REF!"}},null,{"$f":"Rechnungsblatt!#REF!","v":{"$error":"#REF!"}},{"$f":"Rechnungsblatt!#REF!","v":{"$error":"#REF!"}},{"$f":"Rechnungsblatt!#REF!","v":{"$error":"#REF!"}},{"$f":"Rechnungsblatt!#REF!","v":{"$error":"#REF!"}}]
[{"$f":"Rechnungsblatt!#REF!","v":{"$error":"#REF!"}},{"$f":"Rechnungsblatt!#REF!","v":{"$error":"#REF!"}},{"$f":"Rechnungsblatt!#REF!","v":{"$error":"#REF!"}},null,{"$f":"Rechnungsblatt!#REF!","v":{"$error":"#REF!"}},{"$f":"Rechnungsblatt!#REF!","v":{"$error":"#REF!"}},{"$f":"Rechnungsblatt!#REF!","v":{"$error":"#REF!"}},{"$f":"Rechnungsblatt!#REF!","v":{"$error":"#REF!"}},null,{"$f":"Rechnungsblatt!#REF!","v":{"$error":"#REF!"}},{"$f":"Rechnungsblatt!#REF!","v":{"$error":"#REF!"}},{"$f":"Rechnungsblatt!#REF!","v":{"$error":"#REF!"}},{"$f":"Rechnungsblatt!#REF!","v":{"$error":"#REF!"}}]
[{"$f":"Rechnungsblatt!#REF!","v":{"$error":"#REF!"}},{"$f":"Rechnungsblatt!#REF!","v":{"$error":"#REF!"}},{"$f":"Rechnungsblatt!#REF!","v":{"$error":"#REF!"}},null,{"$f":"Rechnungsblatt!#REF!","v":{"$error":"#REF!"}},{"$f":"Rechnungsblatt!#REF!","v":{"$error":"#REF!"}},{"$f":"Rechnungsblatt!#REF!","v":{"$error":"#REF!"}},{"$f":"Rechnungsblatt!#REF!","v":{"$error":"#REF!"}},null,{"$f":"Rechnungsblatt!#REF!","v":{"$error":"#REF!"}},{"$f":"Rechnungsblatt!#REF!","v":{"$error":"#REF!"}},{"$f":"Rechnungsblatt!#REF!","v":{"$error":"#REF!"}},{"$f":"Rechnungsblatt!#REF!","v":{"$error":"#REF!"}}]
[{"$f":"Rechnungsblatt!#REF!","v":{"$error":"#REF!"}},{"$f":"Rechnungsblatt!#REF!","v":{"$error":"#REF!"}},{"$f":"Rechnungsblatt!#REF!","v":{"$error":"#REF!"}},null,{"$f":"Rechnungsblatt!#REF!","v":{"$error":"#REF!"}},{"$f":"Rechnungsblatt!#REF!","v":{"$error":"#REF!"}},{"$f":"Rechnungsblatt!#REF!","v":{"$error":"#REF!"}},{"$f":"Rechnungsblatt!#REF!","v":{"$error":"#REF!"}},null,{"$f":"Rechnungsblatt!#REF!","v":{"$error":"#REF!"}},{"$f":"Rechnungsblatt!#REF!","v":{"$error":"#REF!"}},{"$f":"Rechnungsblatt!#REF!","v":{"$error":"#REF!"}},{"$f":"Rechnungsblatt!#REF!","v":{"$error":"#REF!"}}]
[{"$f":"Rechnungsblatt!#REF!","v":{"$error":"#REF!"}},{"$f":"Rechnungsblatt!#REF!","v":{"$error":"#REF!"}},{"$f":"Rechnungsblatt!#REF!","v":{"$error":"#REF!"}},null,{"$f":"Rechnungsblatt!#REF!","v":{"$error":"#REF!"}},{"$f":"Rechnungsblatt!#REF!","v":{"$error":"#REF!"}},{"$f":"Rechnungsblatt!#REF!","v":{"$error":"#REF!"}},{"$f":"Rechnungsblatt!#REF!","v":{"$error":"#REF!"}},null,{"$f":"Rechnungsblatt!#REF!","v":{"$error":"#REF!"}},{"$f":"Rechnungsblatt!#REF!","v":{"$error":"#REF!"}},{"$f":"Rechnungsblatt!#REF!","v":{"$error":"#REF!"}},{"$f":"Rechnungsblatt!#REF!","v":{"$error":"#REF!"}}]
[{"$f":"Rechnungsblatt!#REF!","v":{"$error":"#REF!"}},{"$f":"Rechnungsblatt!#REF!","v":{"$error":"#REF!"}},{"$f":"Rechnungsblatt!#REF!","v":{"$error":"#REF!"}},null,{"$f":"Rechnungsblatt!#REF!","v":{"$error":"#REF!"}},{"$f":"Rechnungsblatt!#REF!","v":{"$error":"#REF!"}},{"$f":"Rechnungsblatt!#REF!","v":{"$error":"#REF!"}},{"$f":"Rechnungsblatt!#REF!","v":{"$error":"#REF!"}},null,{"$f":"Rechnungsblatt!#REF!","v":{"$error":"#REF!"}},{"$f":"Rechnungsblatt!#REF!","v":{"$error":"#REF!"}},{"$f":"Rechnungsblatt!#REF!","v":{"$error":"#REF!"}},{"$f":"Rechnungsblatt!#REF!","v":{"$error":"#REF!"}}]
[{"$f":"Rechnungsblatt!#REF!","v":{"$error":"#REF!"}},{"$f":"Rechnungsblatt!#REF!","v":{"$error":"#REF!"}},{"$f":"Rechnungsblatt!#REF!","v":{"$error":"#REF!"}},null,{"$f":"Rechnungsblatt!#REF!","v":{"$error":"#REF!"}},{"$f":"Rechnungsblatt!#REF!","v":{"$error":"#REF!"}},{"$f":"Rechnungsblatt!#REF!","v":{"$error":"#REF!"}},{"$f":"Rechnungsblatt!#REF!","v":{"$error":"#REF!"}},null,{"$f":"Rechnungsblatt!#REF!","v":{"$error":"#REF!"}},{"$f":"Rechnungsblatt!#REF!","v":{"$error":"#REF!"}},{"$f":"Rechnungsblatt!#REF!","v":{"$error":"#REF!"}},{"$f":"Rechnungsblatt!#REF!","v":{"$error":"#REF!"}}]
[{"$f":"Rechnungsblatt!#REF!","v":{"$error":"#REF!"}},{"$f":"Rechnungsblatt!#REF!","v":{"$error":"#REF!"}},{"$f":"Rechnungsblatt!#REF!","v":{"$error":"#REF!"}},null,{"$f":"Rechnungsblatt!#REF!","v":{"$error":"#REF!"}},{"$f":"Rechnungsblatt!#REF!","v":{"$error":"#REF!"}},{"$f":"Rechnungsblatt!#REF!","v":{"$error":"#REF!"}},{"$f":"Rechnungsblatt!#REF!","v":{"$error":"#REF!"}},null,{"$f":"Rechnungsblatt!#REF!","v":{"$error":"#REF!"}},{"$f":"Rechnungsblatt!#REF!","v":{"$error":"#REF!"}},{"$f":"Rechnungsblatt!#REF!","v":{"$error":"#REF!"}},{"$f":"Rechnungsblatt!#REF!","v":{"$error":"#REF!"}}]
[{"$f":"Rechnungsblatt!#REF!","v":{"$error":"#REF!"}},{"$f":"Rechnungsblatt!#REF!","v":{"$error":"#REF!"}},{"$f":"Rechnungsblatt!#REF!","v":{"$error":"#REF!"}},null,{"$f":"Rechnungsblatt!#REF!","v":{"$error":"#REF!"}},{"$f":"Rechnungsblatt!#REF!","v":{"$error":"#REF!"}},{"$f":"Rechnungsblatt!#REF!","v":{"$error":"#REF!"}},{"$f":"Rechnungsblatt!#REF!","v":{"$error":"#REF!"}},null,{"$f":"Rechnungsblatt!#REF!","v":{"$error":"#REF!"}},{"$f":"Rechnungsblatt!#REF!","v":{"$error":"#REF!"}},{"$f":"Rechnungsblatt!#REF!","v":{"$error":"#REF!"}},{"$f":"Rechnungsblatt!#REF!","v":{"$error":"#REF!"}}]
[{"$f":"Rechnungsblatt!#REF!","v":{"$error":"#REF!"}},{"$f":"Rechnungsblatt!#REF!","v":{"$error":"#REF!"}},{"$f":"Rechnungsblatt!#REF!","v":{"$error":"#REF!"}},null,{"$f":"Rechnungsblatt!#REF!","v":{"$error":"#REF!"}},{"$f":"Rechnungsblatt!#REF!","v":{"$error":"#REF!"}},{"$f":"Rechnungsblatt!#REF!","v":{"$error":"#REF!"}},{"$f":"Rechnungsblatt!#REF!","v":{"$error":"#REF!"}},null,{"$f":"Rechnungsblatt!#REF!","v":{"$error":"#REF!"}},{"$f":"Rechnungsblatt!#REF!","v":{"$error":"#REF!"}},{"$f":"Rechnungsblatt!#REF!","v":{"$error":"#REF!"}},{"$f":"Rechnungsblatt!#REF!","v":{"$error":"#REF!"}}]
[{"$f":"Rechnungsblatt!#REF!","v":{"$error":"#REF!"}},{"$f":"Rechnungsblatt!#REF!","v":{"$error":"#REF!"}},{"$f":"Rechnungsblatt!#REF!","v":{"$error":"#REF!"}},null,{"$f":"Rechnungsblatt!#REF!","v":{"$error":"#REF!"}},{"$f":"Rechnungsblatt!#REF!","v":{"$error":"#REF!"}},{"$f":"Rechnungsblatt!#REF!","v":{"$error":"#REF!"}},{"$f":"Rechnungsblatt!#REF!","v":{"$error":"#REF!"}},null,{"$f":"Rechnungsblatt!#REF!","v":{"$error":"#REF!"}},{"$f":"Rechnungsblatt!#REF!","v":{"$error":"#REF!"}},{"$f":"Rechnungsblatt!#REF!","v":{"$error":"#REF!"}},{"$f":"Rechnungsblatt!#REF!","v":{"$error":"#REF!"}}]
[{"$f":"Rechnungsblatt!#REF!","v":{"$error":"#REF!"}},{"$f":"Rechnungsblatt!#REF!","v":{"$error":"#REF!"}},{"$f":"Rechnungsblatt!#REF!","v":{"$error":"#REF!"}},null,{"$f":"Rechnungsblatt!#REF!","v":{"$error":"#REF!"}},{"$f":"Rechnungsblatt!#REF!","v":{"$error":"#REF!"}},{"$f":"Rechnungsblatt!#REF!","v":{"$error":"#REF!"}},{"$f":"Rechnungsblatt!#REF!","v":{"$error":"#REF!"}},null,{"$f":"Rechnungsblatt!#REF!","v":{"$error":"#REF!"}},{"$f":"Rechnungsblatt!#REF!","v":{"$error":"#REF!"}},{"$f":"Rechnungsblatt!#REF!","v":{"$error":"#REF!"}},{"$f":"Rechnungsblatt!#REF!","v":{"$error":"#REF!"}}]
[{"$f":"Rechnungsblatt!#REF!","v":{"$error":"#REF!"}},{"$f":"Rechnungsblatt!#REF!","v":{"$error":"#REF!"}},{"$f":"Rechnungsblatt!#REF!","v":{"$error":"#REF!"}},null,{"$f":"Rechnungsblatt!#REF!","v":{"$error":"#REF!"}},{"$f":"Rechnungsblatt!#REF!","v":{"$error":"#REF!"}},{"$f":"Rechnungsblatt!#REF!","v":{"$error":"#REF!"}},{"$f":"Rechnungsblatt!#REF!","v":{"$error":"#REF!"}},null,{"$f":"Rechnungsblatt!#REF!","v":{"$error":"#REF!"}},{"$f":"Rechnungsblatt!#REF!","v":{"$error":"#REF!"}},{"$f":"Rechnungsblatt!#REF!","v":{"$error":"#REF!"}},{"$f":"Rechnungsblatt!#REF!","v":{"$error":"#REF!"}}]
[{"$f":"Rechnungsblatt!#REF!","v":{"$error":"#REF!"}},{"$f":"Rechnungsblatt!#REF!","v":{"$error":"#REF!"}},{"$f":"Rechnungsblatt!#REF!","v":{"$error":"#REF!"}},null,{"$f":"Rechnungsblatt!#REF!","v":{"$error":"#REF!"}},{"$f":"Rechnungsblatt!#REF!","v":{"$error":"#REF!"}},{"$f":"Rechnungsblatt!#REF!","v":{"$error":"#REF!"}},{"$f":"Rechnungsblatt!#REF!","v":{"$error":"#REF!"}},null,{"$f":"Rechnungsblatt!#REF!","v":{"$error":"#REF!"}},{"$f":"Rechnungsblatt!#REF!","v":{"$error":"#REF!"}},{"$f":"Rechnungsblatt!#REF!","v":{"$error":"#REF!"}},{"$f":"Rechnungsblatt!#REF!","v":{"$error":"#REF!"}}]
[{"$f":"Rechnungsblatt!#REF!","v":{"$error":"#REF!"}},{"$f":"Rechnungsblatt!#REF!","v":{"$error":"#REF!"}},{"$f":"Rechnungsblatt!#REF!","v":{"$error":"#REF!"}},null,{"$f":"Rechnungsblatt!#REF!","v":{"$error":"#REF!"}},{"$f":"Rechnungsblatt!#REF!","v":{"$error":"#REF!"}},{"$f":"Rechnungsblatt!#REF!","v":{"$error":"#REF!"}},{"$f":"Rechnungsblatt!#REF!","v":{"$error":"#REF!"}},null,{"$f":"Rechnungsblatt!#REF!","v":{"$error":"#REF!"}},{"$f":"Rechnungsblatt!#REF!","v":{"$error":"#REF!"}},{"$f":"Rechnungsblatt!#REF!","v":{"$error":"#REF!"}},{"$f":"Rechnungsblatt!#REF!","v":{"$error":"#REF!"}}]
[{"$f":"Rechnungsblatt!#REF!","v":{"$error":"#REF!"}},{"$f":"Rechnungsblatt!#REF!","v":{"$error":"#REF!"}},{"$f":"Rechnungsblatt!#REF!","v":{"$error":"#REF!"}},null,{"$f":"Rechnungsblatt!#REF!","v":{"$error":"#REF!"}},{"$f":"Rechnungsblatt!#REF!","v":{"$error":"#REF!"}},{"$f":"Rechnungsblatt!#REF!","v":{"$error":"#REF!"}},{"$f":"Rechnungsblatt!#REF!","v":{"$error":"#REF!"}},null,{"$f":"Rechnungsblatt!#REF!","v":{"$error":"#REF!"}},{"$f":"Rechnungsblatt!#REF!","v":{"$error":"#REF!"}},{"$f":"Rechnungsblatt!#REF!","v":{"$error":"#REF!"}},{"$f":"Rechnungsblatt!#REF!","v":{"$error":"#REF!"}}]
[{"$f":"Rechnungsblatt!#REF!","v":{"$error":"#REF!"}},{"$f":"Rechnungsblatt!#REF!","v":{"$error":"#REF!"}},{"$f":"Rechnungsblatt!#REF!","v":{"$error":"#REF!"}},null,{"$f":"Rechnungsblatt!#REF!","v":{"$error":"#REF!"}},{"$f":"Rechnungsblatt!#REF!","v":{"$error":"#REF!"}},{"$f":"Rechnungsblatt!#REF!","v":{"$error":"#REF!"}},{"$f":"Rechnungsblatt!#REF!","v":{"$error":"#REF!"}},null,{"$f":"Rechnungsblatt!#REF!","v":{"$error":"#REF!"}},{"$f":"Rechnungsblatt!#REF!","v":{"$error":"#REF!"}},{"$f":"Rechnungsblatt!#REF!","v":{"$error":"#REF!"}},{"$f":"Rechnungsblatt!#REF!","v":{"$error":"#REF!"}}]
[{"$f":"Rechnungsblatt!#REF!","v":{"$error":"#REF!"}},{"$f":"Rechnungsblatt!#REF!","v":{"$error":"#REF!"}},{"$f":"Rechnungsblatt!#REF!","v":{"$error":"#REF!"}},null,{"$f":"Rechnungsblatt!#REF!","v":{"$error":"#REF!"}},{"$f":"Rechnungsblatt!#REF!","v":{"$error":"#REF!"}},{"$f":"Rechnungsblatt!#REF!","v":{"$error":"#REF!"}},{"$f":"Rechnungsblatt!#REF!","v":{"$error":"#REF!"}},null,{"$f":"Rechnungsblatt!#REF!","v":{"$error":"#REF!"}},{"$f":"Rechnungsblatt!#REF!","v":{"$error":"#REF!"}},{"$f":"Rechnungsblatt!#REF!","v":{"$error":"#REF!"}},{"$f":"Rechnungsblatt!#REF!","v":{"$error":"#REF!"}}]
[{"$f":"Rechnungsblatt!#REF!","v":{"$error":"#REF!"}},{"$f":"Rechnungsblatt!#REF!","v":{"$error":"#REF!"}},{"$f":"Rechnungsblatt!#REF!","v":{"$error":"#REF!"}},null,{"$f":"Rechnungsblatt!#REF!","v":{"$error":"#REF!"}},{"$f":"Rechnungsblatt!#REF!","v":{"$error":"#REF!"}},{"$f":"Rechnungsblatt!#REF!","v":{"$error":"#REF!"}},{"$f":"Rechnungsblatt!#REF!","v":{"$error":"#REF!"}},null,{"$f":"Rechnungsblatt!#REF!","v":{"$error":"#REF!"}},{"$f":"Rechnungsblatt!#REF!","v":{"$error":"#REF!"}},{"$f":"Rechnungsblatt!#REF!","v":{"$error":"#REF!"}},{"$f":"Rechnungsblatt!#REF!","v":{"$error":"#REF!"}}]
[{"$f":"Rechnungsblatt!#REF!","v":{"$error":"#REF!"}},{"$f":"Rechnungsblatt!#REF!","v":{"$error":"#REF!"}},{"$f":"Rechnungsblatt!#REF!","v":{"$error":"#REF!"}},null,{"$f":"Rechnungsblatt!#REF!","v":{"$error":"#REF!"}},{"$f":"Rechnungsblatt!#REF!","v":{"$error":"#REF!"}},{"$f":"Rechnungsblatt!#REF!","v":{"$error":"#REF!"}},{"$f":"Rechnungsblatt!#REF!","v":{"$error":"#REF!"}},null,{"$f":"Rechnungsblatt!#REF!","v":{"$error":"#REF!"}},{"$f":"Rechnungsblatt!#REF!","v":{"$error":"#REF!"}},{"$f":"Rechnungsblatt!#REF!","v":{"$error":"#REF!"}},{"$f":"Rechnungsblatt!#REF!","v":{"$error":"#REF!"}}]
[{"$f":"Rechnungsblatt!#REF!","v":{"$error":"#REF!"}},{"$f":"Rechnungsblatt!#REF!","v":{"$error":"#REF!"}},{"$f":"Rechnungsblatt!#REF!","v":{"$error":"#REF!"}},null,{"$f":"Rechnungsblatt!#REF!","v":{"$error":"#REF!"}},{"$f":"Rechnungsblatt!#REF!","v":{"$error":"#REF!"}},{"$f":"Rechnungsblatt!#REF!","v":{"$error":"#REF!"}},{"$f":"Rechnungsblatt!#REF!","v":{"$error":"#REF!"}},null,{"$f":"Rechnungsblatt!#REF!","v":{"$error":"#REF!"}},{"$f":"Rechnungsblatt!#REF!","v":{"$error":"#REF!"}},{"$f":"Rechnungsblatt!#REF!","v":{"$error":"#REF!"}},{"$f":"Rechnungsblatt!#REF!","v":{"$error":"#REF!"}}]
[{"$f":"Rechnungsblatt!#REF!","v":{"$error":"#REF!"}},{"$f":"Rechnungsblatt!#REF!","v":{"$error":"#REF!"}},{"$f":"Rechnungsblatt!#REF!","v":{"$error":"#REF!"}},null,{"$f":"Rechnungsblatt!#REF!","v":{"$error":"#REF!"}},{"$f":"Rechnungsblatt!#REF!","v":{"$error":"#REF!"}},{"$f":"Rechnungsblatt!#REF!","v":{"$error":"#REF!"}},{"$f":"Rechnungsblatt!#REF!","v":{"$error":"#REF!"}},null,{"$f":"Rechnungsblatt!#REF!","v":{"$error":"#REF!"}},{"$f":"Rechnungsblatt!#REF!","v":{"$error":"#REF!"}},{"$f":"Rechnungsblatt!#REF!","v":{"$error":"#REF!"}},{"$f":"Rechnungsblatt!#REF!","v":{"$error":"#REF!"}}]
[{"$f":"Rechnungsblatt!#REF!","v":{"$error":"#REF!"}},{"$f":"Rechnungsblatt!#REF!","v":{"$error":"#REF!"}},{"$f":"Rechnungsblatt!#REF!","v":{"$error":"#REF!"}},null,{"$f":"Rechnungsblatt!#REF!","v":{"$error":"#REF!"}},{"$f":"Rechnungsblatt!#REF!","v":{"$error":"#REF!"}},{"$f":"Rechnungsblatt!#REF!","v":{"$error":"#REF!"}},{"$f":"Rechnungsblatt!#REF!","v":{"$error":"#REF!"}},null,{"$f":"Rechnungsblatt!#REF!","v":{"$error":"#REF!"}},{"$f":"Rechnungsblatt!#REF!","v":{"$error":"#REF!"}},{"$f":"Rechnungsblatt!#REF!","v":{"$error":"#REF!"}},{"$f":"Rechnungsblatt!#REF!","v":{"$error":"#REF!"}}]
[{"$f":"Rechnungsblatt!#REF!","v":{"$error":"#REF!"}},{"$f":"Rechnungsblatt!#REF!","v":{"$error":"#REF!"}},{"$f":"Rechnungsblatt!#REF!","v":{"$error":"#REF!"}},null,{"$f":"Rechnungsblatt!#REF!","v":{"$error":"#REF!"}},{"$f":"Rechnungsblatt!#REF!","v":{"$error":"#REF!"}},{"$f":"Rechnungsblatt!#REF!","v":{"$error":"#REF!"}},{"$f":"Rechnungsblatt!#REF!","v":{"$error":"#REF!"}},null,{"$f":"Rechnungsblatt!#REF!","v":{"$error":"#REF!"}},{"$f":"Rechnungsblatt!#REF!","v":{"$error":"#REF!"}},{"$f":"Rechnungsblatt!#REF!","v":{"$error":"#REF!"}},{"$f":"Rechnungsblatt!#REF!","v":{"$error":"#REF!"}}]
[{"$f":"Rechnungsblatt!#REF!","v":{"$error":"#REF!"}},{"$f":"Rechnungsblatt!#REF!","v":{"$error":"#REF!"}},{"$f":"Rechnungsblatt!#REF!","v":{"$error":"#REF!"}},null,{"$f":"Rechnungsblatt!#REF!","v":{"$error":"#REF!"}},{"$f":"Rechnungsblatt!#REF!","v":{"$error":"#REF!"}},{"$f":"Rechnungsblatt!#REF!","v":{"$error":"#REF!"}},{"$f":"Rechnungsblatt!#REF!","v":{"$error":"#REF!"}},null,{"$f":"Rechnungsblatt!#REF!","v":{"$error":"#REF!"}},{"$f":"Rechnungsblatt!#REF!","v":{"$error":"#REF!"}},{"$f":"Rechnungsblatt!#REF!","v":{"$error":"#REF!"}},{"$f":"Rechnungsblatt!#REF!","v":{"$error":"#REF!"}}]
[{"$f":"Rechnungsblatt!#REF!","v":{"$error":"#REF!"}},{"$f":"Rechnungsblatt!#REF!","v":{"$error":"#REF!"}},{"$f":"Rechnungsblatt!#REF!","v":{"$error":"#REF!"}},null,{"$f":"Rechnungsblatt!#REF!","v":{"$error":"#REF!"}},{"$f":"Rechnungsblatt!#REF!","v":{"$error":"#REF!"}},{"$f":"Rechnungsblatt!#REF!","v":{"$error":"#REF!"}},{"$f":"Rechnungsblatt!#REF!","v":{"$error":"#REF!"}},null,{"$f":"Rechnungsblatt!#REF!","v":{"$error":"#REF!"}},{"$f":"Rechnungsblatt!#REF!","v":{"$error":"#REF!"}},{"$f":"Rechnungsblatt!#REF!","v":{"$error":"#REF!"}},{"$f":"Rechnungsblatt!#REF!","v":{"$error":"#REF!"}}]
[{"$f":"Rechnungsblatt!#REF!","v":{"$error":"#REF!"}},{"$f":"Rechnungsblatt!#REF!","v":{"$error":"#REF!"}},{"$f":"Rechnungsblatt!#REF!","v":{"$error":"#REF!"}},null,{"$f":"Rechnungsblatt!#REF!","v":{"$error":"#REF!"}},{"$f":"Rechnungsblatt!#REF!","v":{"$error":"#REF!"}},{"$f":"Rechnungsblatt!#REF!","v":{"$error":"#REF!"}},{"$f":"Rechnungsblatt!#REF!","v":{"$error":"#REF!"}},null,{"$f":"Rechnungsblatt!#REF!","v":{"$error":"#REF!"}},{"$f":"Rechnungsblatt!#REF!","v":{"$error":"#REF!"}},{"$f":"Rechnungsblatt!#REF!","v":{"$error":"#REF!"}},{"$f":"Rechnungsblatt!#REF!","v":{"$error":"#REF!"}}]
[{"$f":"Rechnungsblatt!#REF!","v":{"$error":"#REF!"}},{"$f":"Rechnungsblatt!#REF!","v":{"$error":"#REF!"}},{"$f":"Rechnungsblatt!#REF!","v":{"$error":"#REF!"}},null,{"$f":"Rechnungsblatt!#REF!","v":{"$error":"#REF!"}},{"$f":"Rechnungsblatt!#REF!","v":{"$error":"#REF!"}},{"$f":"Rechnungsblatt!#REF!","v":{"$error":"#REF!"}},{"$f":"Rechnungsblatt!#REF!","v":{"$error":"#REF!"}},null,{"$f":"Rechnungsblatt!#REF!","v":{"$error":"#REF!"}},{"$f":"Rechnungsblatt!#REF!","v":{"$error":"#REF!"}},{"$f":"Rechnungsblatt!#REF!","v":{"$error":"#REF!"}},{"$f":"Rechnungsblatt!#REF!","v":{"$error":"#REF!"}}]
[{"$f":"Rechnungsblatt!#REF!","v":{"$error":"#REF!"}},{"$f":"Rechnungsblatt!#REF!","v":{"$error":"#REF!"}},{"$f":"Rechnungsblatt!#REF!","v":{"$error":"#REF!"}},null,{"$f":"Rechnungsblatt!#REF!","v":{"$error":"#REF!"}},{"$f":"Rechnungsblatt!#REF!","v":{"$error":"#REF!"}},{"$f":"Rechnungsblatt!#REF!","v":{"$error":"#REF!"}},{"$f":"Rechnungsblatt!#REF!","v":{"$error":"#REF!"}},null,{"$f":"Rechnungsblatt!#REF!","v":{"$error":"#REF!"}},{"$f":"Rechnungsblatt!#REF!","v":{"$error":"#REF!"}},{"$f":"Rechnungsblatt!#REF!","v":{"$error":"#REF!"}},{"$f":"Rechnungsblatt!#REF!","v":{"$error":"#REF!"}}]
[{"$f":"Rechnungsblatt!#REF!","v":{"$error":"#REF!"}},{"$f":"Rechnungsblatt!#REF!","v":{"$error":"#REF!"}},{"$f":"Rechnungsblatt!#REF!","v":{"$error":"#REF!"}},null,{"$f":"Rechnungsblatt!#REF!","v":{"$error":"#REF!"}},{"$f":"Rechnungsblatt!#REF!","v":{"$error":"#REF!"}},{"$f":"Rechnungsblatt!#REF!","v":{"$error":"#REF!"}},{"$f":"Rechnungsblatt!#REF!","v":{"$error":"#REF!"}},null,{"$f":"Rechnungsblatt!#REF!","v":{"$error":"#REF!"}},{"$f":"Rechnungsblatt!#REF!","v":{"$error":"#REF!"}},{"$f":"Rechnungsblatt!#REF!","v":{"$error":"#REF!"}},{"$f":"Rechnungsblatt!#REF!","v":{"$error":"#REF!"}}]
[{"$f":"Rechnungsblatt!#REF!","v":{"$error":"#REF!"}},{"$f":"Rechnungsblatt!#REF!","v":{"$error":"#REF!"}},{"$f":"Rechnungsblatt!#REF!","v":{"$error":"#REF!"}},null,{"$f":"Rechnungsblatt!#REF!","v":{"$error":"#REF!"}},{"$f":"Rechnungsblatt!#REF!","v":{"$error":"#REF!"}},{"$f":"Rechnungsblatt!#REF!","v":{"$error":"#REF!"}},{"$f":"Rechnungsblatt!#REF!","v":{"$error":"#REF!"}},null,{"$f":"Rechnungsblatt!#REF!","v":{"$error":"#REF!"}},{"$f":"Rechnungsblatt!#REF!","v":{"$error":"#REF!"}},{"$f":"Rechnungsblatt!#REF!","v":{"$error":"#REF!"}},{"$f":"Rechnungsblatt!#REF!","v":{"$error":"#REF!"}}]
[{"$f":"Rechnungsblatt!#REF!","v":{"$error":"#REF!"}},{"$f":"Rechnungsblatt!#REF!","v":{"$error":"#REF!"}},{"$f":"Rechnungsblatt!#REF!","v":{"$error":"#REF!"}},null,{"$f":"Rechnungsblatt!#REF!","v":{"$error":"#REF!"}},{"$f":"Rechnungsblatt!#REF!","v":{"$error":"#REF!"}},{"$f":"Rechnungsblatt!#REF!","v":{"$error":"#REF!"}},{"$f":"Rechnungsblatt!#REF!","v":{"$error":"#REF!"}},null,{"$f":"Rechnungsblatt!#REF!","v":{"$error":"#REF!"}},{"$f":"Rechnungsblatt!#REF!","v":{"$error":"#REF!"}},{"$f":"Rechnungsblatt!#REF!","v":{"$error":"#REF!"}},{"$f":"Rechnungsblatt!#REF!","v":{"$error":"#REF!"}}]
[{"$f":"Rechnungsblatt!#REF!","v":{"$error":"#REF!"}},{"$f":"Rechnungsblatt!#REF!","v":{"$error":"#REF!"}},{"$f":"Rechnungsblatt!#REF!","v":{"$error":"#REF!"}},null,{"$f":"Rechnungsblatt!#REF!","v":{"$error":"#REF!"}},{"$f":"Rechnungsblatt!#REF!","v":{"$error":"#REF!"}},{"$f":"Rechnungsblatt!#REF!","v":{"$error":"#REF!"}},{"$f":"Rechnungsblatt!#REF!","v":{"$error":"#REF!"}},null,{"$f":"Rechnungsblatt!#REF!","v":{"$error":"#REF!"}},{"$f":"Rechnungsblatt!#REF!","v":{"$error":"#REF!"}},{"$f":"Rechnungsblatt!#REF!","v":{"$error":"#REF!"}},{"$f":"Rechnungsblatt!#REF!","v":{"$error":"#REF!"}}]
[{"$f":"Rechnungsblatt!#REF!","v":{"$error":"#REF!"}},{"$f":"Rechnungsblatt!#REF!","v":{"$error":"#REF!"}},{"$f":"Rechnungsblatt!#REF!","v":{"$error":"#REF!"}},null,{"$f":"Rechnungsblatt!#REF!","v":{"$error":"#REF!"}},{"$f":"Rechnungsblatt!#REF!","v":{"$error":"#REF!"}},{"$f":"Rechnungsblatt!#REF!","v":{"$error":"#REF!"}},{"$f":"Rechnungsblatt!#REF!","v":{"$error":"#REF!"}},null,{"$f":"Rechnungsblatt!#REF!","v":{"$error":"#REF!"}},{"$f":"Rechnungsblatt!#REF!","v":{"$error":"#REF!"}},{"$f":"Rechnungsblatt!#REF!","v":{"$error":"#REF!"}},{"$f":"Rechnungsblatt!#REF!","v":{"$error":"#REF!"}}]
[{"$f":"Rechnungsblatt!#REF!","v":{"$error":"#REF!"}},{"$f":"Rechnungsblatt!#REF!","v":{"$error":"#REF!"}},{"$f":"Rechnungsblatt!#REF!","v":{"$error":"#REF!"}},null,{"$f":"Rechnungsblatt!#REF!","v":{"$error":"#REF!"}},{"$f":"Rechnungsblatt!#REF!","v":{"$error":"#REF!"}},{"$f":"Rechnungsblatt!#REF!","v":{"$error":"#REF!"}},{"$f":"Rechnungsblatt!#REF!","v":{"$error":"#REF!"}},null,{"$f":"Rechnungsblatt!#REF!","v":{"$error":"#REF!"}},{"$f":"Rechnungsblatt!#REF!","v":{"$error":"#REF!"}},{"$f":"Rechnungsblatt!#REF!","v":{"$error":"#REF!"}},{"$f":"Rechnungsblatt!#REF!","v":{"$error":"#REF!"}}]
[{"$f":"Rechnungsblatt!#REF!","v":{"$error":"#REF!"}},{"$f":"Rechnungsblatt!#REF!","v":{"$error":"#REF!"}},{"$f":"Rechnungsblatt!#REF!","v":{"$error":"#REF!"}},null,{"$f":"Rechnungsblatt!#REF!","v":{"$error":"#REF!"}},{"$f":"Rechnungsblatt!#REF!","v":{"$error":"#REF!"}},{"$f":"Rechnungsblatt!#REF!","v":{"$error":"#REF!"}},{"$f":"Rechnungsblatt!#REF!","v":{"$error":"#REF!"}},null,{"$f":"Rechnungsblatt!#REF!","v":{"$error":"#REF!"}},{"$f":"Rechnungsblatt!#REF!","v":{"$error":"#REF!"}},{"$f":"Rechnungsblatt!#REF!","v":{"$error":"#REF!"}},{"$f":"Rechnungsblatt!#REF!","v":{"$error":"#REF!"}}]
[{"$f":"Rechnungsblatt!#REF!","v":{"$error":"#REF!"}},{"$f":"Rechnungsblatt!#REF!","v":{"$error":"#REF!"}},{"$f":"Rechnungsblatt!#REF!","v":{"$error":"#REF!"}},null,{"$f":"Rechnungsblatt!#REF!","v":{"$error":"#REF!"}},{"$f":"Rechnungsblatt!#REF!","v":{"$error":"#REF!"}},{"$f":"Rechnungsblatt!#REF!","v":{"$error":"#REF!"}},{"$f":"Rechnungsblatt!#REF!","v":{"$error":"#REF!"}},null,{"$f":"Rechnungsblatt!#REF!","v":{"$error":"#REF!"}},{"$f":"Rechnungsblatt!#REF!","v":{"$error":"#REF!"}},{"$f":"Rechnungsblatt!#REF!","v":{"$error":"#REF!"}},{"$f":"Rechnungsblatt!#REF!","v":{"$error":"#REF!"}}]
[{"$f":"Rechnungsblatt!#REF!","v":{"$error":"#REF!"}},{"$f":"Rechnungsblatt!#REF!","v":{"$error":"#REF!"}},{"$f":"Rechnungsblatt!#REF!","v":{"$error":"#REF!"}},null,{"$f":"Rechnungsblatt!#REF!","v":{"$error":"#REF!"}},{"$f":"Rechnungsblatt!#REF!","v":{"$error":"#REF!"}},{"$f":"Rechnungsblatt!#REF!","v":{"$error":"#REF!"}},{"$f":"Rechnungsblatt!#REF!","v":{"$error":"#REF!"}},null,{"$f":"Rechnungsblatt!#REF!","v":{"$error":"#REF!"}},{"$f":"Rechnungsblatt!#REF!","v":{"$error":"#REF!"}},{"$f":"Rechnungsblatt!#REF!","v":{"$error":"#REF!"}},{"$f":"Rechnungsblatt!#REF!","v":{"$error":"#REF!"}}]
[{"$f":"Rechnungsblatt!#REF!","v":{"$error":"#REF!"}},{"$f":"Rechnungsblatt!#REF!","v":{"$error":"#REF!"}},{"$f":"Rechnungsblatt!#REF!","v":{"$error":"#REF!"}},null,{"$f":"Rechnungsblatt!#REF!","v":{"$error":"#REF!"}},{"$f":"Rechnungsblatt!#REF!","v":{"$error":"#REF!"}},{"$f":"Rechnungsblatt!#REF!","v":{"$error":"#REF!"}},{"$f":"Rechnungsblatt!#REF!","v":{"$error":"#REF!"}},null,{"$f":"Rechnungsblatt!#REF!","v":{"$error":"#REF!"}},{"$f":"Rechnungsblatt!#REF!","v":{"$error":"#REF!"}},{"$f":"Rechnungsblatt!#REF!","v":{"$error":"#REF!"}},{"$f":"Rechnungsblatt!#REF!","v":{"$error":"#REF!"}}]
[{"$f":"Rechnungsblatt!#REF!","v":{"$error":"#REF!"}},{"$f":"Rechnungsblatt!#REF!","v":{"$error":"#REF!"}},{"$f":"Rechnungsblatt!#REF!","v":{"$error":"#REF!"}},null,{"$f":"Rechnungsblatt!#REF!","v":{"$error":"#REF!"}},{"$f":"Rechnungsblatt!#REF!","v":{"$error":"#REF!"}},{"$f":"Rechnungsblatt!#REF!","v":{"$error":"#REF!"}},{"$f":"Rechnungsblatt!#REF!","v":{"$error":"#REF!"}},null,{"$f":"Rechnungsblatt!#REF!","v":{"$error":"#REF!"}},{"$f":"Rechnungsblatt!#REF!","v":{"$error":"#REF!"}},{"$f":"Rechnungsblatt!#REF!","v":{"$error":"#REF!"}},{"$f":"Rechnungsblatt!#REF!","v":{"$error":"#REF!"}}]
[{"$f":"Rechnungsblatt!#REF!","v":{"$error":"#REF!"}},{"$f":"Rechnungsblatt!#REF!","v":{"$error":"#REF!"}},{"$f":"Rechnungsblatt!#REF!","v":{"$error":"#REF!"}},null,{"$f":"Rechnungsblatt!#REF!","v":{"$error":"#REF!"}},{"$f":"Rechnungsblatt!#REF!","v":{"$error":"#REF!"}},{"$f":"Rechnungsblatt!#REF!","v":{"$error":"#REF!"}},{"$f":"Rechnungsblatt!#REF!","v":{"$error":"#REF!"}},null,{"$f":"Rechnungsblatt!#REF!","v":{"$error":"#REF!"}},{"$f":"Rechnungsblatt!#REF!","v":{"$error":"#REF!"}},{"$f":"Rechnungsblatt!#REF!","v":{"$error":"#REF!"}},{"$f":"Rechnungsblatt!#REF!","v":{"$error":"#REF!"}}]
[{"$f":"Rechnungsblatt!#REF!","v":{"$error":"#REF!"}},{"$f":"Rechnungsblatt!#REF!","v":{"$error":"#REF!"}},{"$f":"Rechnungsblatt!#REF!","v":{"$error":"#REF!"}},null,{"$f":"Rechnungsblatt!#REF!","v":{"$error":"#REF!"}},{"$f":"Rechnungsblatt!#REF!","v":{"$error":"#REF!"}},{"$f":"Rechnungsblatt!#REF!","v":{"$error":"#REF!"}},{"$f":"Rechnungsblatt!#REF!","v":{"$error":"#REF!"}},null,{"$f":"Rechnungsblatt!#REF!","v":{"$error":"#REF!"}},{"$f":"Rechnungsblatt!#REF!","v":{"$error":"#REF!"}},{"$f":"Rechnungsblatt!#REF!","v":{"$error":"#REF!"}},{"$f":"Rechnungsblatt!#REF!","v":{"$error":"#REF!"}}]
[{"$f":"Rechnungsblatt!#REF!","v":{"$error":"#REF!"}},{"$f":"Rechnungsblatt!#REF!","v":{"$error":"#REF!"}},{"$f":"Rechnungsblatt!#REF!","v":{"$error":"#REF!"}},null,{"$f":"Rechnungsblatt!#REF!","v":{"$error":"#REF!"}},{"$f":"Rechnungsblatt!#REF!","v":{"$error":"#REF!"}},{"$f":"Rechnungsblatt!#REF!","v":{"$error":"#REF!"}},{"$f":"Rechnungsblatt!#REF!","v":{"$error":"#REF!"}},null,{"$f":"Rechnungsblatt!#REF!","v":{"$error":"#REF!"}},{"$f":"Rechnungsblatt!#REF!","v":{"$error":"#REF!"}},{"$f":"Rechnungsblatt!#REF!","v":{"$error":"#REF!"}},{"$f":"Rechnungsblatt!#REF!","v":{"$error":"#REF!"}}]
[{"$f":"Rechnungsblatt!#REF!","v":{"$error":"#REF!"}},{"$f":"Rechnungsblatt!#REF!","v":{"$error":"#REF!"}},{"$f":"Rechnungsblatt!#REF!","v":{"$error":"#REF!"}},null,{"$f":"Rechnungsblatt!#REF!","v":{"$error":"#REF!"}},{"$f":"Rechnungsblatt!#REF!","v":{"$error":"#REF!"}},{"$f":"Rechnungsblatt!#REF!","v":{"$error":"#REF!"}},{"$f":"Rechnungsblatt!#REF!","v":{"$error":"#REF!"}},null,{"$f":"Rechnungsblatt!#REF!","v":{"$error":"#REF!"}},{"$f":"Rechnungsblatt!#REF!","v":{"$error":"#REF!"}},{"$f":"Rechnungsblatt!#REF!","v":{"$error":"#REF!"}},{"$f":"Rechnungsblatt!#REF!","v":{"$error":"#REF!"}}]
[{"$f":"Rechnungsblatt!#REF!","v":{"$error":"#REF!"}},{"$f":"Rechnungsblatt!#REF!","v":{"$error":"#REF!"}},{"$f":"Rechnungsblatt!#REF!","v":{"$error":"#REF!"}},null,{"$f":"Rechnungsblatt!#REF!","v":{"$error":"#REF!"}},{"$f":"Rechnungsblatt!#REF!","v":{"$error":"#REF!"}},{"$f":"Rechnungsblatt!#REF!","v":{"$error":"#REF!"}},{"$f":"Rechnungsblatt!#REF!","v":{"$error":"#REF!"}},null,{"$f":"Rechnungsblatt!#REF!","v":{"$error":"#REF!"}},{"$f":"Rechnungsblatt!#REF!","v":{"$error":"#REF!"}},{"$f":"Rechnungsblatt!#REF!","v":{"$error":"#REF!"}},{"$f":"Rechnungsblatt!#REF!","v":{"$error":"#REF!"}}]
[{"$f":"Rechnungsblatt!#REF!","v":{"$error":"#REF!"}},{"$f":"Rechnungsblatt!#REF!","v":{"$error":"#REF!"}},{"$f":"Rechnungsblatt!#REF!","v":{"$error":"#REF!"}},null,{"$f":"Rechnungsblatt!#REF!","v":{"$error":"#REF!"}},{"$f":"Rechnungsblatt!#REF!","v":{"$error":"#REF!"}},{"$f":"Rechnungsblatt!#REF!","v":{"$error":"#REF!"}},{"$f":"Rechnungsblatt!#REF!","v":{"$error":"#REF!"}},null,{"$f":"Rechnungsblatt!#REF!","v":{"$error":"#REF!"}},{"$f":"Rechnungsblatt!#REF!","v":{"$error":"#REF!"}},{"$f":"Rechnungsblatt!#REF!","v":{"$error":"#REF!"}},{"$f":"Rechnungsblatt!#REF!","v":{"$error":"#REF!"}}]
[{"$f":"Rechnungsblatt!#REF!","v":{"$error":"#REF!"}},{"$f":"Rechnungsblatt!#REF!","v":{"$error":"#REF!"}},{"$f":"Rechnungsblatt!#REF!","v":{"$error":"#REF!"}},null,{"$f":"Rechnungsblatt!#REF!","v":{"$error":"#REF!"}},{"$f":"Rechnungsblatt!#REF!","v":{"$error":"#REF!"}},{"$f":"Rechnungsblatt!#REF!","v":{"$error":"#REF!"}},{"$f":"Rechnungsblatt!#REF!","v":{"$error":"#REF!"}},null,{"$f":"Rechnungsblatt!#REF!","v":{"$error":"#REF!"}},{"$f":"Rechnungsblatt!#REF!","v":{"$error":"#REF!"}},{"$f":"Rechnungsblatt!#REF!","v":{"$error":"#REF!"}},{"$f":"Rechnungsblatt!#REF!","v":{"$error":"#REF!"}}]
[{"$f":"Rechnungsblatt!#REF!","v":{"$error":"#REF!"}},{"$f":"Rechnungsblatt!#REF!","v":{"$error":"#REF!"}},{"$f":"Rechnungsblatt!#REF!","v":{"$error":"#REF!"}},null,{"$f":"Rechnungsblatt!#REF!","v":{"$error":"#REF!"}},{"$f":"Rechnungsblatt!#REF!","v":{"$error":"#REF!"}},{"$f":"Rechnungsblatt!#REF!","v":{"$error":"#REF!"}},{"$f":"Rechnungsblatt!#REF!","v":{"$error":"#REF!"}},null,{"$f":"Rechnungsblatt!#REF!","v":{"$error":"#REF!"}},{"$f":"Rechnungsblatt!#REF!","v":{"$error":"#REF!"}},{"$f":"Rechnungsblatt!#REF!","v":{"$error":"#REF!"}},{"$f":"Rechnungsblatt!#REF!","v":{"$error":"#REF!"}}]
[{"$f":"Rechnungsblatt!#REF!","v":{"$error":"#REF!"}},{"$f":"Rechnungsblatt!#REF!","v":{"$error":"#REF!"}},{"$f":"Rechnungsblatt!#REF!","v":{"$error":"#REF!"}},null,{"$f":"Rechnungsblatt!#REF!","v":{"$error":"#REF!"}},{"$f":"Rechnungsblatt!#REF!","v":{"$error":"#REF!"}},{"$f":"Rechnungsblatt!#REF!","v":{"$error":"#REF!"}},{"$f":"Rechnungsblatt!#REF!","v":{"$error":"#REF!"}},null,{"$f":"Rechnungsblatt!#REF!","v":{"$error":"#REF!"}},{"$f":"Rechnungsblatt!#REF!","v":{"$error":"#REF!"}},{"$f":"Rechnungsblatt!#REF!","v":{"$error":"#REF!"}},{"$f":"Rechnungsblatt!#REF!","v":{"$error":"#REF!"}}]
[{"$f":"Rechnungsblatt!#REF!","v":{"$error":"#REF!"}},{"$f":"Rechnungsblatt!#REF!","v":{"$error":"#REF!"}},{"$f":"Rechnungsblatt!#REF!","v":{"$error":"#REF!"}},null,{"$f":"Rechnungsblatt!#REF!","v":{"$error":"#REF!"}},{"$f":"Rechnungsblatt!#REF!","v":{"$error":"#REF!"}},{"$f":"Rechnungsblatt!#REF!","v":{"$error":"#REF!"}},{"$f":"Rechnungsblatt!#REF!","v":{"$error":"#REF!"}},null,{"$f":"Rechnungsblatt!#REF!","v":{"$error":"#REF!"}},{"$f":"Rechnungsblatt!#REF!","v":{"$error":"#REF!"}},{"$f":"Rechnungsblatt!#REF!","v":{"$error":"#REF!"}},{"$f":"Rechnungsblatt!#REF!","v":{"$error":"#REF!"}}]
[{"$f":"Rechnungsblatt!#REF!","v":{"$error":"#REF!"}},{"$f":"Rechnungsblatt!#REF!","v":{"$error":"#REF!"}},{"$f":"Rechnungsblatt!#REF!","v":{"$error":"#REF!"}},null,{"$f":"Rechnungsblatt!#REF!","v":{"$error":"#REF!"}},{"$f":"Rechnungsblatt!#REF!","v":{"$error":"#REF!"}},{"$f":"Rechnungsblatt!#REF!","v":{"$error":"#REF!"}},{"$f":"Rechnungsblatt!#REF!","v":{"$error":"#REF!"}},null,{"$f":"Rechnungsblatt!#REF!","v":{"$error":"#REF!"}},{"$f":"Rechnungsblatt!#REF!","v":{"$error":"#REF!"}},{"$f":"Rechnungsblatt!#REF!","v":{"$error":"#REF!"}},{"$f":"Rechnungsblatt!#REF!","v":{"$error":"#REF!"}}]
[{"$f":"Rechnungsblatt!#REF!","v":{"$error":"#REF!"}},{"$f":"Rechnungsblatt!#REF!","v":{"$error":"#REF!"}},{"$f":"Rechnungsblatt!#REF!","v":{"$error":"#REF!"}},null,{"$f":"Rechnungsblatt!#REF!","v":{"$error":"#REF!"}},{"$f":"Rechnungsblatt!#REF!","v":{"$error":"#REF!"}},{"$f":"Rechnungsblatt!#REF!","v":{"$error":"#REF!"}},{"$f":"Rechnungsblatt!#REF!","v":{"$error":"#REF!"}},null,{"$f":"Rechnungsblatt!#REF!","v":{"$error":"#REF!"}},{"$f":"Rechnungsblatt!#REF!","v":{"$error":"#REF!"}},{"$f":"Rechnungsblatt!#REF!","v":{"$error":"#REF!"}},{"$f":"Rechnungsblatt!#REF!","v":{"$error":"#REF!"}}]
[{"$f":"Rechnungsblatt!#REF!","v":{"$error":"#REF!"}},{"$f":"Rechnungsblatt!#REF!","v":{"$error":"#REF!"}},{"$f":"Rechnungsblatt!#REF!","v":{"$error":"#REF!"}},null,{"$f":"Rechnungsblatt!#REF!","v":{"$error":"#REF!"}},{"$f":"Rechnungsblatt!#REF!","v":{"$error":"#REF!"}},{"$f":"Rechnungsblatt!#REF!","v":{"$error":"#REF!"}},{"$f":"Rechnungsblatt!#REF!","v":{"$error":"#REF!"}},null,{"$f":"Rechnungsblatt!#REF!","v":{"$error":"#REF!"}},{"$f":"Rechnungsblatt!#REF!","v":{"$error":"#REF!"}},{"$f":"Rechnungsblatt!#REF!","v":{"$error":"#REF!"}},{"$f":"Rechnungsblatt!#REF!","v":{"$error":"#REF!"}}]
[{"$f":"Rechnungsblatt!#REF!","v":{"$error":"#REF!"}},{"$f":"Rechnungsblatt!#REF!","v":{"$error":"#REF!"}},{"$f":"Rechnungsblatt!#REF!","v":{"$error":"#REF!"}},null,{"$f":"Rechnungsblatt!#REF!","v":{"$error":"#REF!"}},{"$f":"Rechnungsblatt!#REF!","v":{"$error":"#REF!"}},{"$f":"Rechnungsblatt!#REF!","v":{"$error":"#REF!"}},{"$f":"Rechnungsblatt!#REF!","v":{"$error":"#REF!"}},null,{"$f":"Rechnungsblatt!#REF!","v":{"$error":"#REF!"}},{"$f":"Rechnungsblatt!#REF!","v":{"$error":"#REF!"}},{"$f":"Rechnungsblatt!#REF!","v":{"$error":"#REF!"}},{"$f":"Rechnungsblatt!#REF!","v":{"$error":"#REF!"}}]
[{"$f":"Rechnungsblatt!#REF!","v":{"$error":"#REF!"}},{"$f":"Rechnungsblatt!#REF!","v":{"$error":"#REF!"}},{"$f":"Rechnungsblatt!#REF!","v":{"$error":"#REF!"}},null,{"$f":"Rechnungsblatt!#REF!","v":{"$error":"#REF!"}},{"$f":"Rechnungsblatt!#REF!","v":{"$error":"#REF!"}},{"$f":"Rechnungsblatt!#REF!","v":{"$error":"#REF!"}},{"$f":"Rechnungsblatt!#REF!","v":{"$error":"#REF!"}},null,{"$f":"Rechnungsblatt!#REF!","v":{"$error":"#REF!"}},{"$f":"Rechnungsblatt!#REF!","v":{"$error":"#REF!"}},{"$f":"Rechnungsblatt!#REF!","v":{"$error":"#REF!"}},{"$f":"Rechnungsblatt!#REF!","v":{"$error":"#REF!"}}]
[{"$f":"Rechnungsblatt!#REF!","v":{"$error":"#REF!"}},{"$f":"Rechnungsblatt!#REF!","v":{"$error":"#REF!"}},{"$f":"Rechnungsblatt!#REF!","v":{"$error":"#REF!"}},null,{"$f":"Rechnungsblatt!#REF!","v":{"$error":"#REF!"}},{"$f":"Rechnungsblatt!#REF!","v":{"$error":"#REF!"}},{"$f":"Rechnungsblatt!#REF!","v":{"$error":"#REF!"}},{"$f":"Rechnungsblatt!#REF!","v":{"$error":"#REF!"}},null,{"$f":"Rechnungsblatt!#REF!","v":{"$error":"#REF!"}},{"$f":"Rechnungsblatt!#REF!","v":{"$error":"#REF!"}},{"$f":"Rechnungsblatt!#REF!","v":{"$error":"#REF!"}},{"$f":"Rechnungsblatt!#REF!","v":{"$error":"#REF!"}}]
[{"$f":"Rechnungsblatt!#REF!","v":{"$error":"#REF!"}},{"$f":"Rechnungsblatt!#REF!","v":{"$error":"#REF!"}},{"$f":"Rechnungsblatt!#REF!","v":{"$error":"#REF!"}},null,{"$f":"Rechnungsblatt!#REF!","v":{"$error":"#REF!"}},{"$f":"Rechnungsblatt!#REF!","v":{"$error":"#REF!"}},{"$f":"Rechnungsblatt!#REF!","v":{"$error":"#REF!"}},{"$f":"Rechnungsblatt!#REF!","v":{"$error":"#REF!"}},null,{"$f":"Rechnungsblatt!#REF!","v":{"$error":"#REF!"}},{"$f":"Rechnungsblatt!#REF!","v":{"$error":"#REF!"}},{"$f":"Rechnungsblatt!#REF!","v":{"$error":"#REF!"}},{"$f":"Rechnungsblatt!#REF!","v":{"$error":"#REF!"}}]
[{"$f":"Rechnungsblatt!#REF!","v":{"$error":"#REF!"}},{"$f":"Rechnungsblatt!#REF!","v":{"$error":"#REF!"}},{"$f":"Rechnungsblatt!#REF!","v":{"$error":"#REF!"}},null,{"$f":"Rechnungsblatt!#REF!","v":{"$error":"#REF!"}},{"$f":"Rechnungsblatt!#REF!","v":{"$error":"#REF!"}},{"$f":"Rechnungsblatt!#REF!","v":{"$error":"#REF!"}},{"$f":"Rechnungsblatt!#REF!","v":{"$error":"#REF!"}},null,{"$f":"Rechnungsblatt!#REF!","v":{"$error":"#REF!"}},{"$f":"Rechnungsblatt!#REF!","v":{"$error":"#REF!"}},{"$f":"Rechnungsblatt!#REF!","v":{"$error":"#REF!"}},{"$f":"Rechnungsblatt!#REF!","v":{"$error":"#REF!"}}]
[{"$f":"Rechnungsblatt!#REF!","v":{"$error":"#REF!"}},{"$f":"Rechnungsblatt!#REF!","v":{"$error":"#REF!"}},{"$f":"Rechnungsblatt!#REF!","v":{"$error":"#REF!"}},null,{"$f":"Rechnungsblatt!#REF!","v":{"$error":"#REF!"}},{"$f":"Rechnungsblatt!#REF!","v":{"$error":"#REF!"}},{"$f":"Rechnungsblatt!#REF!","v":{"$error":"#REF!"}},{"$f":"Rechnungsblatt!#REF!","v":{"$error":"#REF!"}},null,{"$f":"Rechnungsblatt!#REF!","v":{"$error":"#REF!"}},{"$f":"Rechnungsblatt!#REF!","v":{"$error":"#REF!"}},{"$f":"Rechnungsblatt!#REF!","v":{"$error":"#REF!"}},{"$f":"Rechnungsblatt!#REF!","v":{"$error":"#REF!"}}]
[{"$f":"Rechnungsblatt!#REF!","v":{"$error":"#REF!"}},{"$f":"Rechnungsblatt!#REF!","v":{"$error":"#REF!"}},{"$f":"Rechnungsblatt!#REF!","v":{"$error":"#REF!"}},null,{"$f":"Rechnungsblatt!#REF!","v":{"$error":"#REF!"}},{"$f":"Rechnungsblatt!#REF!","v":{"$error":"#REF!"}},{"$f":"Rechnungsblatt!#REF!","v":{"$error":"#REF!"}},{"$f":"Rechnungsblatt!#REF!","v":{"$error":"#REF!"}},null,{"$f":"Rechnungsblatt!#REF!","v":{"$error":"#REF!"}},{"$f":"Rechnungsblatt!#REF!","v":{"$error":"#REF!"}},{"$f":"Rechnungsblatt!#REF!","v":{"$error":"#REF!"}},{"$f":"Rechnungsblatt!#REF!","v":{"$error":"#REF!"}}]
[{"$f":"Rechnungsblatt!#REF!","v":{"$error":"#REF!"}},{"$f":"Rechnungsblatt!#REF!","v":{"$error":"#REF!"}},{"$f":"Rechnungsblatt!#REF!","v":{"$error":"#REF!"}},null,{"$f":"Rechnungsblatt!#REF!","v":{"$error":"#REF!"}},{"$f":"Rechnungsblatt!#REF!","v":{"$error":"#REF!"}},{"$f":"Rechnungsblatt!#REF!","v":{"$error":"#REF!"}},{"$f":"Rechnungsblatt!#REF!","v":{"$error":"#REF!"}},null,{"$f":"Rechnungsblatt!#REF!","v":{"$error":"#REF!"}},{"$f":"Rechnungsblatt!#REF!","v":{"$error":"#REF!"}},{"$f":"Rechnungsblatt!#REF!","v":{"$error":"#REF!"}},{"$f":"Rechnungsblatt!#REF!","v":{"$error":"#REF!"}}]
[{"$f":"Rechnungsblatt!#REF!","v":{"$error":"#REF!"}},{"$f":"Rechnungsblatt!#REF!","v":{"$error":"#REF!"}},{"$f":"Rechnungsblatt!#REF!","v":{"$error":"#REF!"}},null,{"$f":"Rechnungsblatt!#REF!","v":{"$error":"#REF!"}},{"$f":"Rechnungsblatt!#REF!","v":{"$error":"#REF!"}},{"$f":"Rechnungsblatt!#REF!","v":{"$error":"#REF!"}},{"$f":"Rechnungsblatt!#REF!","v":{"$error":"#REF!"}},null,{"$f":"Rechnungsblatt!#REF!","v":{"$error":"#REF!"}},{"$f":"Rechnungsblatt!#REF!","v":{"$error":"#REF!"}},{"$f":"Rechnungsblatt!#REF!","v":{"$error":"#REF!"}},{"$f":"Rechnungsblatt!#REF!","v":{"$error":"#REF!"}}]
[{"$f":"Rechnungsblatt!#REF!","v":{"$error":"#REF!"}},{"$f":"Rechnungsblatt!#REF!","v":{"$error":"#REF!"}},{"$f":"Rechnungsblatt!#REF!","v":{"$error":"#REF!"}},null,{"$f":"Rechnungsblatt!#REF!","v":{"$error":"#REF!"}},{"$f":"Rechnungsblatt!#REF!","v":{"$error":"#REF!"}},{"$f":"Rechnungsblatt!#REF!","v":{"$error":"#REF!"}},{"$f":"Rechnungsblatt!#REF!","v":{"$error":"#REF!"}},null,{"$f":"Rechnungsblatt!#REF!","v":{"$error":"#REF!"}},{"$f":"Rechnungsblatt!#REF!","v":{"$error":"#REF!"}},{"$f":"Rechnungsblatt!#REF!","v":{"$error":"#REF!"}},{"$f":"Rechnungsblatt!#REF!","v":{"$error":"#REF!"}}]
[{"$f":"Rechnungsblatt!#REF!","v":{"$error":"#REF!"}},{"$f":"Rechnungsblatt!#REF!","v":{"$error":"#REF!"}},{"$f":"Rechnungsblatt!#REF!","v":{"$error":"#REF!"}},null,{"$f":"Rechnungsblatt!#REF!","v":{"$error":"#REF!"}},{"$f":"Rechnungsblatt!#REF!","v":{"$error":"#REF!"}},{"$f":"Rechnungsblatt!#REF!","v":{"$error":"#REF!"}},{"$f":"Rechnungsblatt!#REF!","v":{"$error":"#REF!"}},null,{"$f":"Rechnungsblatt!#REF!","v":{"$error":"#REF!"}},{"$f":"Rechnungsblatt!#REF!","v":{"$error":"#REF!"}},{"$f":"Rechnungsblatt!#REF!","v":{"$error":"#REF!"}},{"$f":"Rechnungsblatt!#REF!","v":{"$error":"#REF!"}}]
[{"$f":"Rechnungsblatt!#REF!","v":{"$error":"#REF!"}},{"$f":"Rechnungsblatt!#REF!","v":{"$error":"#REF!"}},{"$f":"Rechnungsblatt!#REF!","v":{"$error":"#REF!"}},null,{"$f":"Rechnungsblatt!#REF!","v":{"$error":"#REF!"}},{"$f":"Rechnungsblatt!#REF!","v":{"$error":"#REF!"}},{"$f":"Rechnungsblatt!#REF!","v":{"$error":"#REF!"}},{"$f":"Rechnungsblatt!#REF!","v":{"$error":"#REF!"}},null,{"$f":"Rechnungsblatt!#REF!","v":{"$error":"#REF!"}},{"$f":"Rechnungsblatt!#REF!","v":{"$error":"#REF!"}},{"$f":"Rechnungsblatt!#REF!","v":{"$error":"#REF!"}},{"$f":"Rechnungsblatt!#REF!","v":{"$error":"#REF!"}}]
[{"$f":"Rechnungsblatt!#REF!","v":{"$error":"#REF!"}},{"$f":"Rechnungsblatt!#REF!","v":{"$error":"#REF!"}},{"$f":"Rechnungsblatt!#REF!","v":{"$error":"#REF!"}},null,{"$f":"Rechnungsblatt!#REF!","v":{"$error":"#REF!"}},{"$f":"Rechnungsblatt!#REF!","v":{"$error":"#REF!"}},{"$f":"Rechnungsblatt!#REF!","v":{"$error":"#REF!"}},{"$f":"Rechnungsblatt!#REF!","v":{"$error":"#REF!"}},null,{"$f":"Rechnungsblatt!#REF!","v":{"$error":"#REF!"}},{"$f":"Rechnungsblatt!#REF!","v":{"$error":"#REF!"}},{"$f":"Rechnungsblatt!#REF!","v":{"$error":"#REF!"}},{"$f":"Rechnungsblatt!#REF!","v":{"$error":"#REF!"}}]
[{"$f":"Rechnungsblatt!#REF!","v":{"$error":"#REF!"}},{"$f":"Rechnungsblatt!#REF!","v":{"$error":"#REF!"}},{"$f":"Rechnungsblatt!#REF!","v":{"$error":"#REF!"}},null,{"$f":"Rechnungsblatt!#REF!","v":{"$error":"#REF!"}},{"$f":"Rechnungsblatt!#REF!","v":{"$error":"#REF!"}},{"$f":"Rechnungsblatt!#REF!","v":{"$error":"#REF!"}},{"$f":"Rechnungsblatt!#REF!","v":{"$error":"#REF!"}},null,{"$f":"Rechnungsblatt!#REF!","v":{"$error":"#REF!"}},{"$f":"Rechnungsblatt!#REF!","v":{"$error":"#REF!"}},{"$f":"Rechnungsblatt!#REF!","v":{"$error":"#REF!"}},{"$f":"Rechnungsblatt!#REF!","v":{"$error":"#REF!"}}]
[{"$f":"Rechnungsblatt!#REF!","v":{"$error":"#REF!"}},{"$f":"Rechnungsblatt!#REF!","v":{"$error":"#REF!"}},{"$f":"Rechnungsblatt!#REF!","v":{"$error":"#REF!"}},null,{"$f":"Rechnungsblatt!#REF!","v":{"$error":"#REF!"}},{"$f":"Rechnungsblatt!#REF!","v":{"$error":"#REF!"}},{"$f":"Rechnungsblatt!#REF!","v":{"$error":"#REF!"}},{"$f":"Rechnungsblatt!#REF!","v":{"$error":"#REF!"}},null,{"$f":"Rechnungsblatt!#REF!","v":{"$error":"#REF!"}},{"$f":"Rechnungsblatt!#REF!","v":{"$error":"#REF!"}},{"$f":"Rechnungsblatt!#REF!","v":{"$error":"#REF!"}},{"$f":"Rechnungsblatt!#REF!","v":{"$error":"#REF!"}}]
[{"$f":"Rechnungsblatt!#REF!","v":{"$error":"#REF!"}},{"$f":"Rechnungsblatt!#REF!","v":{"$error":"#REF!"}},{"$f":"Rechnungsblatt!#REF!","v":{"$error":"#REF!"}},null,{"$f":"Rechnungsblatt!#REF!","v":{"$error":"#REF!"}},{"$f":"Rechnungsblatt!#REF!","v":{"$error":"#REF!"}},{"$f":"Rechnungsblatt!#REF!","v":{"$error":"#REF!"}},{"$f":"Rechnungsblatt!#REF!","v":{"$error":"#REF!"}},null,{"$f":"Rechnungsblatt!#REF!","v":{"$error":"#REF!"}},{"$f":"Rechnungsblatt!#REF!","v":{"$error":"#REF!"}},{"$f":"Rechnungsblatt!#REF!","v":{"$error":"#REF!"}},{"$f":"Rechnungsblatt!#REF!","v":{"$error":"#REF!"}}]
[{"$f":"Rechnungsblatt!#REF!","v":{"$error":"#REF!"}},{"$f":"Rechnungsblatt!#REF!","v":{"$error":"#REF!"}},{"$f":"Rechnungsblatt!#REF!","v":{"$error":"#REF!"}},null,{"$f":"Rechnungsblatt!#REF!","v":{"$error":"#REF!"}},{"$f":"Rechnungsblatt!#REF!","v":{"$error":"#REF!"}},{"$f":"Rechnungsblatt!#REF!","v":{"$error":"#REF!"}},{"$f":"Rechnungsblatt!#REF!","v":{"$error":"#REF!"}},null,{"$f":"Rechnungsblatt!#REF!","v":{"$error":"#REF!"}},{"$f":"Rechnungsblatt!#REF!","v":{"$error":"#REF!"}},{"$f":"Rechnungsblatt!#REF!","v":{"$error":"#REF!"}},{"$f":"Rechnungsblatt!#REF!","v":{"$error":"#REF!"}}]
[{"$f":"Rechnungsblatt!#REF!","v":{"$error":"#REF!"}},{"$f":"Rechnungsblatt!#REF!","v":{"$error":"#REF!"}},{"$f":"Rechnungsblatt!#REF!","v":{"$error":"#REF!"}},null,{"$f":"Rechnungsblatt!#REF!","v":{"$error":"#REF!"}},{"$f":"Rechnungsblatt!#REF!","v":{"$error":"#REF!"}},{"$f":"Rechnungsblatt!#REF!","v":{"$error":"#REF!"}},{"$f":"Rechnungsblatt!#REF!","v":{"$error":"#REF!"}},null,{"$f":"Rechnungsblatt!#REF!","v":{"$error":"#REF!"}},{"$f":"Rechnungsblatt!#REF!","v":{"$error":"#REF!"}},{"$f":"Rechnungsblatt!#REF!","v":{"$error":"#REF!"}},{"$f":"Rechnungsblatt!#REF!","v":{"$error":"#REF!"}}]
[{"$f":"Rechnungsblatt!#REF!","v":{"$error":"#REF!"}},{"$f":"Rechnungsblatt!#REF!","v":{"$error":"#REF!"}},{"$f":"Rechnungsblatt!#REF!","v":{"$error":"#REF!"}},null,{"$f":"Rechnungsblatt!#REF!","v":{"$error":"#REF!"}},{"$f":"Rechnungsblatt!#REF!","v":{"$error":"#REF!"}},{"$f":"Rechnungsblatt!#REF!","v":{"$error":"#REF!"}},{"$f":"Rechnungsblatt!#REF!","v":{"$error":"#REF!"}},null,{"$f":"Rechnungsblatt!#REF!","v":{"$error":"#REF!"}},{"$f":"Rechnungsblatt!#REF!","v":{"$error":"#REF!"}},{"$f":"Rechnungsblatt!#REF!","v":{"$error":"#REF!"}},{"$f":"Rechnungsblatt!#REF!","v":{"$error":"#REF!"}}]
[{"$f":"Rechnungsblatt!#REF!","v":{"$error":"#REF!"}},{"$f":"Rechnungsblatt!#REF!","v":{"$error":"#REF!"}},{"$f":"Rechnungsblatt!#REF!","v":{"$error":"#REF!"}},null,{"$f":"Rechnungsblatt!#REF!","v":{"$error":"#REF!"}},{"$f":"Rechnungsblatt!#REF!","v":{"$error":"#REF!"}},{"$f":"Rechnungsblatt!#REF!","v":{"$error":"#REF!"}},{"$f":"Rechnungsblatt!#REF!","v":{"$error":"#REF!"}},null,{"$f":"Rechnungsblatt!#REF!","v":{"$error":"#REF!"}},{"$f":"Rechnungsblatt!#REF!","v":{"$error":"#REF!"}},{"$f":"Rechnungsblatt!#REF!","v":{"$error":"#REF!"}},{"$f":"Rechnungsblatt!#REF!","v":{"$error":"#REF!"}}]
[{"$f":"Rechnungsblatt!#REF!","v":{"$error":"#REF!"}},{"$f":"Rechnungsblatt!#REF!","v":{"$error":"#REF!"}},{"$f":"Rechnungsblatt!#REF!","v":{"$error":"#REF!"}},null,{"$f":"Rechnungsblatt!#REF!","v":{"$error":"#REF!"}},{"$f":"Rechnungsblatt!#REF!","v":{"$error":"#REF!"}},{"$f":"Rechnungsblatt!#REF!","v":{"$error":"#REF!"}},{"$f":"Rechnungsblatt!#REF!","v":{"$error":"#REF!"}},null,{"$f":"Rechnungsblatt!#REF!","v":{"$error":"#REF!"}},{"$f":"Rechnungsblatt!#REF!","v":{"$error":"#REF!"}},{"$f":"Rechnungsblatt!#REF!","v":{"$error":"#REF!"}},{"$f":"Rechnungsblatt!#REF!","v":{"$error":"#REF!"}}]
[{"$f":"Rechnungsblatt!#REF!","v":{"$error":"#REF!"}},{"$f":"Rechnungsblatt!#REF!","v":{"$error":"#REF!"}},{"$f":"Rechnungsblatt!#REF!","v":{"$error":"#REF!"}},null,{"$f":"Rechnungsblatt!#REF!","v":{"$error":"#REF!"}},{"$f":"Rechnungsblatt!#REF!","v":{"$error":"#REF!"}},{"$f":"Rechnungsblatt!#REF!","v":{"$error":"#REF!"}},{"$f":"Rechnungsblatt!#REF!","v":{"$error":"#REF!"}},null,{"$f":"Rechnungsblatt!#REF!","v":{"$error":"#REF!"}},{"$f":"Rechnungsblatt!#REF!","v":{"$error":"#REF!"}},{"$f":"Rechnungsblatt!#REF!","v":{"$error":"#REF!"}},{"$f":"Rechnungsblatt!#REF!","v":{"$error":"#REF!"}}]
[{"$f":"Rechnungsblatt!#REF!","v":{"$error":"#REF!"}},{"$f":"Rechnungsblatt!#REF!","v":{"$error":"#REF!"}},{"$f":"Rechnungsblatt!#REF!","v":{"$error":"#REF!"}},null,{"$f":"Rechnungsblatt!#REF!","v":{"$error":"#REF!"}},{"$f":"Rechnungsblatt!#REF!","v":{"$error":"#REF!"}},{"$f":"Rechnungsblatt!#REF!","v":{"$error":"#REF!"}},{"$f":"Rechnungsblatt!#REF!","v":{"$error":"#REF!"}},null,{"$f":"Rechnungsblatt!#REF!","v":{"$error":"#REF!"}},{"$f":"Rechnungsblatt!#REF!","v":{"$error":"#REF!"}},{"$f":"Rechnungsblatt!#REF!","v":{"$error":"#REF!"}},{"$f":"Rechnungsblatt!#REF!","v":{"$error":"#REF!"}}]
[{"$f":"Rechnungsblatt!#REF!","v":{"$error":"#REF!"}},{"$f":"Rechnungsblatt!#REF!","v":{"$error":"#REF!"}},{"$f":"Rechnungsblatt!#REF!","v":{"$error":"#REF!"}},null,{"$f":"Rechnungsblatt!#REF!","v":{"$error":"#REF!"}},{"$f":"Rechnungsblatt!#REF!","v":{"$error":"#REF!"}},{"$f":"Rechnungsblatt!#REF!","v":{"$error":"#REF!"}},{"$f":"Rechnungsblatt!#REF!","v":{"$error":"#REF!"}},null,{"$f":"Rechnungsblatt!#REF!","v":{"$error":"#REF!"}},{"$f":"Rechnungsblatt!#REF!","v":{"$error":"#REF!"}},{"$f":"Rechnungsblatt!#REF!","v":{"$error":"#REF!"}},{"$f":"Rechnungsblatt!#REF!","v":{"$error":"#REF!"}}]
[{"$f":"Rechnungsblatt!#REF!","v":{"$error":"#REF!"}},{"$f":"Rechnungsblatt!#REF!","v":{"$error":"#REF!"}},{"$f":"Rechnungsblatt!#REF!","v":{"$error":"#REF!"}},null,{"$f":"Rechnungsblatt!#REF!","v":{"$error":"#REF!"}},{"$f":"Rechnungsblatt!#REF!","v":{"$error":"#REF!"}},{"$f":"Rechnungsblatt!#REF!","v":{"$error":"#REF!"}},{"$f":"Rechnungsblatt!#REF!","v":{"$error":"#REF!"}},null,{"$f":"Rechnungsblatt!#REF!","v":{"$error":"#REF!"}},{"$f":"Rechnungsblatt!#REF!","v":{"$error":"#REF!"}},{"$f":"Rechnungsblatt!#REF!","v":{"$error":"#REF!"}},{"$f":"Rechnungsblatt!#REF!","v":{"$error":"#REF!"}}]
[{"$f":"Rechnungsblatt!#REF!","v":{"$error":"#REF!"}},{"$f":"Rechnungsblatt!#REF!","v":{"$error":"#REF!"}},{"$f":"Rechnungsblatt!#REF!","v":{"$error":"#REF!"}},null,{"$f":"Rechnungsblatt!#REF!","v":{"$error":"#REF!"}},{"$f":"Rechnungsblatt!#REF!","v":{"$error":"#REF!"}},{"$f":"Rechnungsblatt!#REF!","v":{"$error":"#REF!"}},{"$f":"Rechnungsblatt!#REF!","v":{"$error":"#REF!"}},null,{"$f":"Rechnungsblatt!#REF!","v":{"$error":"#REF!"}},{"$f":"Rechnungsblatt!#REF!","v":{"$error":"#REF!"}},{"$f":"Rechnungsblatt!#REF!","v":{"$error":"#REF!"}},{"$f":"Rechnungsblatt!#REF!","v":{"$error":"#REF!"}}]
[{"$f":"Rechnungsblatt!#REF!","v":{"$error":"#REF!"}},{"$f":"Rechnungsblatt!#REF!","v":{"$error":"#REF!"}},{"$f":"Rechnungsblatt!#REF!","v":{"$error":"#REF!"}},null,{"$f":"Rechnungsblatt!#REF!","v":{"$error":"#REF!"}},{"$f":"Rechnungsblatt!#REF!","v":{"$error":"#REF!"}},{"$f":"Rechnungsblatt!#REF!","v":{"$error":"#REF!"}},{"$f":"Rechnungsblatt!#REF!","v":{"$error":"#REF!"}},null,{"$f":"Rechnungsblatt!#REF!","v":{"$error":"#REF!"}},{"$f":"Rechnungsblatt!#REF!","v":{"$error":"#REF!"}},{"$f":"Rechnungsblatt!#REF!","v":{"$error":"#REF!"}},{"$f":"Rechnungsblatt!#REF!","v":{"$error":"#REF!"}}]
[{"$f":"Rechnungsblatt!#REF!","v":{"$error":"#REF!"}},{"$f":"Rechnungsblatt!#REF!","v":{"$error":"#REF!"}},{"$f":"Rechnungsblatt!#REF!","v":{"$error":"#REF!"}},null,{"$f":"Rechnungsblatt!#REF!","v":{"$error":"#REF!"}},{"$f":"Rechnungsblatt!#REF!","v":{"$error":"#REF!"}},{"$f":"Rechnungsblatt!#REF!","v":{"$error":"#REF!"}},{"$f":"Rechnungsblatt!#REF!","v":{"$error":"#REF!"}},null,{"$f":"Rechnungsblatt!#REF!","v":{"$error":"#REF!"}},{"$f":"Rechnungsblatt!#REF!","v":{"$error":"#REF!"}},{"$f":"Rechnungsblatt!#REF!","v":{"$error":"#REF!"}},{"$f":"Rechnungsblatt!#REF!","v":{"$error":"#REF!"}}]
[{"$f":"Rechnungsblatt!#REF!","v":{"$error":"#REF!"}},{"$f":"Rechnungsblatt!#REF!","v":{"$error":"#REF!"}},{"$f":"Rechnungsblatt!#REF!","v":{"$error":"#REF!"}},null,{"$f":"Rechnungsblatt!#REF!","v":{"$error":"#REF!"}},{"$f":"Rechnungsblatt!#REF!","v":{"$error":"#REF!"}},{"$f":"Rechnungsblatt!#REF!","v":{"$error":"#REF!"}},{"$f":"Rechnungsblatt!#REF!","v":{"$error":"#REF!"}},null,{"$f":"Rechnungsblatt!#REF!","v":{"$error":"#REF!"}},{"$f":"Rechnungsblatt!#REF!","v":{"$error":"#REF!"}},{"$f":"Rechnungsblatt!#REF!","v":{"$error":"#REF!"}},{"$f":"Rechnungsblatt!#REF!","v":{"$error":"#REF!"}}]
[{"$f":"Rechnungsblatt!#REF!","v":{"$error":"#REF!"}},{"$f":"Rechnungsblatt!#REF!","v":{"$error":"#REF!"}},{"$f":"Rechnungsblatt!#REF!","v":{"$error":"#REF!"}},null,{"$f":"Rechnungsblatt!#REF!","v":{"$error":"#REF!"}},{"$f":"Rechnungsblatt!#REF!","v":{"$error":"#REF!"}},{"$f":"Rechnungsblatt!#REF!","v":{"$error":"#REF!"}},{"$f":"Rechnungsblatt!#REF!","v":{"$error":"#REF!"}},null,{"$f":"Rechnungsblatt!#REF!","v":{"$error":"#REF!"}},{"$f":"Rechnungsblatt!#REF!","v":{"$error":"#REF!"}},{"$f":"Rechnungsblatt!#REF!","v":{"$error":"#REF!"}},{"$f":"Rechnungsblatt!#REF!","v":{"$error":"#REF!"}}]
[{"$f":"Rechnungsblatt!#REF!","v":{"$error":"#REF!"}},{"$f":"Rechnungsblatt!#REF!","v":{"$error":"#REF!"}},{"$f":"Rechnungsblatt!#REF!","v":{"$error":"#REF!"}},null,{"$f":"Rechnungsblatt!#REF!","v":{"$error":"#REF!"}},{"$f":"Rechnungsblatt!#REF!","v":{"$error":"#REF!"}},{"$f":"Rechnungsblatt!#REF!","v":{"$error":"#REF!"}},{"$f":"Rechnungsblatt!#REF!","v":{"$error":"#REF!"}},null,{"$f":"Rechnungsblatt!#REF!","v":{"$error":"#REF!"}},{"$f":"Rechnungsblatt!#REF!","v":{"$error":"#REF!"}},{"$f":"Rechnungsblatt!#REF!","v":{"$error":"#REF!"}},{"$f":"Rechnungsblatt!#REF!","v":{"$error":"#REF!"}}]
[{"$f":"Rechnungsblatt!#REF!","v":{"$error":"#REF!"}},{"$f":"Rechnungsblatt!#REF!","v":{"$error":"#REF!"}},{"$f":"Rechnungsblatt!#REF!","v":{"$error":"#REF!"}},null,{"$f":"Rechnungsblatt!#REF!","v":{"$error":"#REF!"}},{"$f":"Rechnungsblatt!#REF!","v":{"$error":"#REF!"}},{"$f":"Rechnungsblatt!#REF!","v":{"$error":"#REF!"}},{"$f":"Rechnungsblatt!#REF!","v":{"$error":"#REF!"}},null,{"$f":"Rechnungsblatt!#REF!","v":{"$error":"#REF!"}},{"$f":"Rechnungsblatt!#REF!","v":{"$error":"#REF!"}},{"$f":"Rechnungsblatt!#REF!","v":{"$error":"#REF!"}},{"$f":"Rechnungsblatt!#REF!","v":{"$error":"#REF!"}}]
[{"$f":"Rechnungsblatt!#REF!","v":{"$error":"#REF!"}},{"$f":"Rechnungsblatt!#REF!","v":{"$error":"#REF!"}},{"$f":"Rechnungsblatt!#REF!","v":{"$error":"#REF!"}},null,{"$f":"Rechnungsblatt!#REF!","v":{"$error":"#REF!"}},{"$f":"Rechnungsblatt!#REF!","v":{"$error":"#REF!"}},{"$f":"Rechnungsblatt!#REF!","v":{"$error":"#REF!"}},{"$f":"Rechnungsblatt!#REF!","v":{"$error":"#REF!"}},null,{"$f":"Rechnungsblatt!#REF!","v":{"$error":"#REF!"}},{"$f":"Rechnungsblatt!#REF!","v":{"$error":"#REF!"}},{"$f":"Rechnungsblatt!#REF!","v":{"$error":"#REF!"}},{"$f":"Rechnungsblatt!#REF!","v":{"$error":"#REF!"}}]
[{"$f":"Rechnungsblatt!#REF!","v":{"$error":"#REF!"}},{"$f":"Rechnungsblatt!#REF!","v":{"$error":"#REF!"}},{"$f":"Rechnungsblatt!#REF!","v":{"$error":"#REF!"}},null,{"$f":"Rechnungsblatt!#REF!","v":{"$error":"#REF!"}},{"$f":"Rechnungsblatt!#REF!","v":{"$error":"#REF!"}},{"$f":"Rechnungsblatt!#REF!","v":{"$error":"#REF!"}},{"$f":"Rechnungsblatt!#REF!","v":{"$error":"#REF!"}},null,{"$f":"Rechnungsblatt!#REF!","v":{"$error":"#REF!"}},{"$f":"Rechnungsblatt!#REF!","v":{"$error":"#REF!"}},{"$f":"Rechnungsblatt!#REF!","v":{"$error":"#REF!"}},{"$f":"Rechnungsblatt!#REF!","v":{"$error":"#REF!"}}]
[{"$f":"Rechnungsblatt!#REF!","v":{"$error":"#REF!"}},{"$f":"Rechnungsblatt!#REF!","v":{"$error":"#REF!"}},{"$f":"Rechnungsblatt!#REF!","v":{"$error":"#REF!"}},null,{"$f":"Rechnungsblatt!#REF!","v":{"$error":"#REF!"}},{"$f":"Rechnungsblatt!#REF!","v":{"$error":"#REF!"}},{"$f":"Rechnungsblatt!#REF!","v":{"$error":"#REF!"}},{"$f":"Rechnungsblatt!#REF!","v":{"$error":"#REF!"}},null,{"$f":"Rechnungsblatt!#REF!","v":{"$error":"#REF!"}},{"$f":"Rechnungsblatt!#REF!","v":{"$error":"#REF!"}},{"$f":"Rechnungsblatt!#REF!","v":{"$error":"#REF!"}},{"$f":"Rechnungsblatt!#REF!","v":{"$error":"#REF!"}}]
[{"$f":"Rechnungsblatt!#REF!","v":{"$error":"#REF!"}},{"$f":"Rechnungsblatt!#REF!","v":{"$error":"#REF!"}},{"$f":"Rechnungsblatt!#REF!","v":{"$error":"#REF!"}},null,{"$f":"Rechnungsblatt!#REF!","v":{"$error":"#REF!"}},{"$f":"Rechnungsblatt!#REF!","v":{"$error":"#REF!"}},{"$f":"Rechnungsblatt!#REF!","v":{"$error":"#REF!"}},{"$f":"Rechnungsblatt!#REF!","v":{"$error":"#REF!"}},null,{"$f":"Rechnungsblatt!#REF!","v":{"$error":"#REF!"}},{"$f":"Rechnungsblatt!#REF!","v":{"$error":"#REF!"}},{"$f":"Rechnungsblatt!#REF!","v":{"$error":"#REF!"}},{"$f":"Rechnungsblatt!#REF!","v":{"$error":"#REF!"}}]
[{"$f":"Rechnungsblatt!#REF!","v":{"$error":"#REF!"}},{"$f":"Rechnungsblatt!#REF!","v":{"$error":"#REF!"}},{"$f":"Rechnungsblatt!#REF!","v":{"$error":"#REF!"}},null,{"$f":"Rechnungsblatt!#REF!","v":{"$error":"#REF!"}},{"$f":"Rechnungsblatt!#REF!","v":{"$error":"#REF!"}},{"$f":"Rechnungsblatt!#REF!","v":{"$error":"#REF!"}},{"$f":"Rechnungsblatt!#REF!","v":{"$error":"#REF!"}},null,{"$f":"Rechnungsblatt!#REF!","v":{"$error":"#REF!"}},{"$f":"Rechnungsblatt!#REF!","v":{"$error":"#REF!"}},{"$f":"Rechnungsblatt!#REF!","v":{"$error":"#REF!"}},{"$f":"Rechnungsblatt!#REF!","v":{"$error":"#REF!"}}]
[{"$f":"Rechnungsblatt!#REF!","v":{"$error":"#REF!"}},{"$f":"Rechnungsblatt!#REF!","v":{"$error":"#REF!"}},{"$f":"Rechnungsblatt!#REF!","v":{"$error":"#REF!"}},null,{"$f":"Rechnungsblatt!#REF!","v":{"$error":"#REF!"}},{"$f":"Rechnungsblatt!#REF!","v":{"$error":"#REF!"}},{"$f":"Rechnungsblatt!#REF!","v":{"$error":"#REF!"}},{"$f":"Rechnungsblatt!#REF!","v":{"$error":"#REF!"}},null,{"$f":"Rechnungsblatt!#REF!","v":{"$error":"#REF!"}},{"$f":"Rechnungsblatt!#REF!","v":{"$error":"#REF!"}},{"$f":"Rechnungsblatt!#REF!","v":{"$error":"#REF!"}},{"$f":"Rechnungsblatt!#REF!","v":{"$error":"#REF!"}}]
[{"$f":"Rechnungsblatt!#REF!","v":{"$error":"#REF!"}},{"$f":"Rechnungsblatt!#REF!","v":{"$error":"#REF!"}},{"$f":"Rechnungsblatt!#REF!","v":{"$error":"#REF!"}},null,{"$f":"Rechnungsblatt!#REF!","v":{"$error":"#REF!"}},{"$f":"Rechnungsblatt!#REF!","v":{"$error":"#REF!"}},{"$f":"Rechnungsblatt!#REF!","v":{"$error":"#REF!"}},{"$f":"Rechnungsblatt!#REF!","v":{"$error":"#REF!"}},null,{"$f":"Rechnungsblatt!#REF!","v":{"$error":"#REF!"}},{"$f":"Rechnungsblatt!#REF!","v":{"$error":"#REF!"}},{"$f":"Rechnungsblatt!#REF!","v":{"$error":"#REF!"}},{"$f":"Rechnungsblatt!#REF!","v":{"$error":"#REF!"}}]
[{"$f":"Rechnungsblatt!#REF!","v":{"$error":"#REF!"}},{"$f":"Rechnungsblatt!#REF!","v":{"$error":"#REF!"}},{"$f":"Rechnungsblatt!#REF!","v":{"$error":"#REF!"}},null,{"$f":"Rechnungsblatt!#REF!","v":{"$error":"#REF!"}},{"$f":"Rechnungsblatt!#REF!","v":{"$error":"#REF!"}},{"$f":"Rechnungsblatt!#REF!","v":{"$error":"#REF!"}},{"$f":"Rechnungsblatt!#REF!","v":{"$error":"#REF!"}},null,{"$f":"Rechnungsblatt!#REF!","v":{"$error":"#REF!"}},{"$f":"Rechnungsblatt!#REF!","v":{"$error":"#REF!"}},{"$f":"Rechnungsblatt!#REF!","v":{"$error":"#REF!"}},{"$f":"Rechnungsblatt!#REF!","v":{"$error":"#REF!"}}]
[{"$f":"Rechnungsblatt!#REF!","v":{"$error":"#REF!"}},{"$f":"Rechnungsblatt!#REF!","v":{"$error":"#REF!"}},{"$f":"Rechnungsblatt!#REF!","v":{"$error":"#REF!"}},null,{"$f":"Rechnungsblatt!#REF!","v":{"$error":"#REF!"}},{"$f":"Rechnungsblatt!#REF!","v":{"$error":"#REF!"}},{"$f":"Rechnungsblatt!#REF!","v":{"$error":"#REF!"}},{"$f":"Rechnungsblatt!#REF!","v":{"$error":"#REF!"}},null,{"$f":"Rechnungsblatt!#REF!","v":{"$error":"#REF!"}},{"$f":"Rechnungsblatt!#REF!","v":{"$error":"#REF!"}},{"$f":"Rechnungsblatt!#REF!","v":{"$error":"#REF!"}},{"$f":"Rechnungsblatt!#REF!","v":{"$error":"#REF!"}}]
[{"$f":"Rechnungsblatt!#REF!","v":{"$error":"#REF!"}},{"$f":"Rechnungsblatt!#REF!","v":{"$error":"#REF!"}},{"$f":"Rechnungsblatt!#REF!","v":{"$error":"#REF!"}},null,{"$f":"Rechnungsblatt!#REF!","v":{"$error":"#REF!"}},{"$f":"Rechnungsblatt!#REF!","v":{"$error":"#REF!"}},{"$f":"Rechnungsblatt!#REF!","v":{"$error":"#REF!"}},{"$f":"Rechnungsblatt!#REF!","v":{"$error":"#REF!"}},null,{"$f":"Rechnungsblatt!#REF!","v":{"$error":"#REF!"}},{"$f":"Rechnungsblatt!#REF!","v":{"$error":"#REF!"}},{"$f":"Rechnungsblatt!#REF!","v":{"$error":"#REF!"}},{"$f":"Rechnungsblatt!#REF!","v":{"$error":"#REF!"}}]
[{"$f":"Rechnungsblatt!#REF!","v":{"$error":"#REF!"}},{"$f":"Rechnungsblatt!#REF!","v":{"$error":"#REF!"}},{"$f":"Rechnungsblatt!#REF!","v":{"$error":"#REF!"}},null,{"$f":"Rechnungsblatt!#REF!","v":{"$error":"#REF!"}},{"$f":"Rechnungsblatt!#REF!","v":{"$error":"#REF!"}},{"$f":"Rechnungsblatt!#REF!","v":{"$error":"#REF!"}},{"$f":"Rechnungsblatt!#REF!","v":{"$error":"#REF!"}},null,{"$f":"Rechnungsblatt!#REF!","v":{"$error":"#REF!"}},{"$f":"Rechnungsblatt!#REF!","v":{"$error":"#REF!"}},{"$f":"Rechnungsblatt!#REF!","v":{"$error":"#REF!"}},{"$f":"Rechnungsblatt!#REF!","v":{"$error":"#REF!"}}]
[{"$f":"Rechnungsblatt!#REF!","v":{"$error":"#REF!"}},{"$f":"Rechnungsblatt!#REF!","v":{"$error":"#REF!"}},{"$f":"Rechnungsblatt!#REF!","v":{"$error":"#REF!"}},null,{"$f":"Rechnungsblatt!#REF!","v":{"$error":"#REF!"}},{"$f":"Rechnungsblatt!#REF!","v":{"$error":"#REF!"}},{"$f":"Rechnungsblatt!#REF!","v":{"$error":"#REF!"}},{"$f":"Rechnungsblatt!#REF!","v":{"$error":"#REF!"}},null,{"$f":"Rechnungsblatt!#REF!","v":{"$error":"#REF!"}},{"$f":"Rechnungsblatt!#REF!","v":{"$error":"#REF!"}},{"$f":"Rechnungsblatt!#REF!","v":{"$error":"#REF!"}},{"$f":"Rechnungsblatt!#REF!","v":{"$error":"#REF!"}}]
[{"$f":"Rechnungsblatt!#REF!","v":{"$error":"#REF!"}},{"$f":"Rechnungsblatt!#REF!","v":{"$error":"#REF!"}},{"$f":"Rechnungsblatt!#REF!","v":{"$error":"#REF!"}},null,{"$f":"Rechnungsblatt!#REF!","v":{"$error":"#REF!"}},{"$f":"Rechnungsblatt!#REF!","v":{"$error":"#REF!"}},{"$f":"Rechnungsblatt!#REF!","v":{"$error":"#REF!"}},{"$f":"Rechnungsblatt!#REF!","v":{"$error":"#REF!"}},null,{"$f":"Rechnungsblatt!#REF!","v":{"$error":"#REF!"}},{"$f":"Rechnungsblatt!#REF!","v":{"$error":"#REF!"}},{"$f":"Rechnungsblatt!#REF!","v":{"$error":"#REF!"}},{"$f":"Rechnungsblatt!#REF!","v":{"$error":"#REF!"}}]
[{"$f":"Rechnungsblatt!#REF!","v":{"$error":"#REF!"}},{"$f":"Rechnungsblatt!#REF!","v":{"$error":"#REF!"}},{"$f":"Rechnungsblatt!#REF!","v":{"$error":"#REF!"}},null,{"$f":"Rechnungsblatt!#REF!","v":{"$error":"#REF!"}},{"$f":"Rechnungsblatt!#REF!","v":{"$error":"#REF!"}},{"$f":"Rechnungsblatt!#REF!","v":{"$error":"#REF!"}},{"$f":"Rechnungsblatt!#REF!","v":{"$error":"#REF!"}},null,{"$f":"Rechnungsblatt!#REF!","v":{"$error":"#REF!"}},{"$f":"Rechnungsblatt!#REF!","v":{"$error":"#REF!"}},{"$f":"Rechnungsblatt!#REF!","v":{"$error":"#REF!"}},{"$f":"Rechnungsblatt!#REF!","v":{"$error":"#REF!"}}]
[{"$f":"Rechnungsblatt!#REF!","v":{"$error":"#REF!"}},{"$f":"Rechnungsblatt!#REF!","v":{"$error":"#REF!"}},{"$f":"Rechnungsblatt!#REF!","v":{"$error":"#REF!"}},null,{"$f":"Rechnungsblatt!#REF!","v":{"$error":"#REF!"}},{"$f":"Rechnungsblatt!#REF!","v":{"$error":"#REF!"}},{"$f":"Rechnungsblatt!#REF!","v":{"$error":"#REF!"}},{"$f":"Rechnungsblatt!#REF!","v":{"$error":"#REF!"}},null,{"$f":"Rechnungsblatt!#REF!","v":{"$error":"#REF!"}},{"$f":"Rechnungsblatt!#REF!","v":{"$error":"#REF!"}},{"$f":"Rechnungsblatt!#REF!","v":{"$error":"#REF!"}},{"$f":"Rechnungsblatt!#REF!","v":{"$error":"#REF!"}}]
[{"$f":"Rechnungsblatt!#REF!","v":{"$error":"#REF!"}},{"$f":"Rechnungsblatt!#REF!","v":{"$error":"#REF!"}},{"$f":"Rechnungsblatt!#REF!","v":{"$error":"#REF!"}},null,{"$f":"Rechnungsblatt!#REF!","v":{"$error":"#REF!"}},{"$f":"Rechnungsblatt!#REF!","v":{"$error":"#REF!"}},{"$f":"Rechnungsblatt!#REF!","v":{"$error":"#REF!"}},{"$f":"Rechnungsblatt!#REF!","v":{"$error":"#REF!"}},null,{"$f":"Rechnungsblatt!#REF!","v":{"$error":"#REF!"}},{"$f":"Rechnungsblatt!#REF!","v":{"$error":"#REF!"}},{"$f":"Rechnungsblatt!#REF!","v":{"$error":"#REF!"}},{"$f":"Rechnungsblatt!#REF!","v":{"$error":"#REF!"}}]
[{"$f":"Rechnungsblatt!#REF!","v":{"$error":"#REF!"}},{"$f":"Rechnungsblatt!#REF!","v":{"$error":"#REF!"}},{"$f":"Rechnungsblatt!#REF!","v":{"$error":"#REF!"}},null,{"$f":"Rechnungsblatt!#REF!","v":{"$error":"#REF!"}},{"$f":"Rechnungsblatt!#REF!","v":{"$error":"#REF!"}},{"$f":"Rechnungsblatt!#REF!","v":{"$error":"#REF!"}},{"$f":"Rechnungsblatt!#REF!","v":{"$error":"#REF!"}},null,{"$f":"Rechnungsblatt!#REF!","v":{"$error":"#REF!"}},{"$f":"Rechnungsblatt!#REF!","v":{"$error":"#REF!"}},{"$f":"Rechnungsblatt!#REF!","v":{"$error":"#REF!"}},{"$f":"Rechnungsblatt!#REF!","v":{"$error":"#REF!"}}]
[{"$f":"Rechnungsblatt!#REF!","v":{"$error":"#REF!"}},{"$f":"Rechnungsblatt!#REF!","v":{"$error":"#REF!"}},{"$f":"Rechnungsblatt!#REF!","v":{"$error":"#REF!"}},null,{"$f":"Rechnungsblatt!#REF!","v":{"$error":"#REF!"}},{"$f":"Rechnungsblatt!#REF!","v":{"$error":"#REF!"}},{"$f":"Rechnungsblatt!#REF!","v":{"$error":"#REF!"}},{"$f":"Rechnungsblatt!#REF!","v":{"$error":"#REF!"}},null,{"$f":"Rechnungsblatt!#REF!","v":{"$error":"#REF!"}},{"$f":"Rechnungsblatt!#REF!","v":{"$error":"#REF!"}},{"$f":"Rechnungsblatt!#REF!","v":{"$error":"#REF!"}},{"$f":"Rechnungsblatt!#REF!","v":{"$error":"#REF!"}}]
[{"$f":"Rechnungsblatt!#REF!","v":{"$error":"#REF!"}},{"$f":"Rechnungsblatt!#REF!","v":{"$error":"#REF!"}},{"$f":"Rechnungsblatt!#REF!","v":{"$error":"#REF!"}},null,{"$f":"Rechnungsblatt!#REF!","v":{"$error":"#REF!"}},{"$f":"Rechnungsblatt!#REF!","v":{"$error":"#REF!"}},{"$f":"Rechnungsblatt!#REF!","v":{"$error":"#REF!"}},{"$f":"Rechnungsblatt!#REF!","v":{"$error":"#REF!"}},null,{"$f":"Rechnungsblatt!#REF!","v":{"$error":"#REF!"}},{"$f":"Rechnungsblatt!#REF!","v":{"$error":"#REF!"}},{"$f":"Rechnungsblatt!#REF!","v":{"$error":"#REF!"}},{"$f":"Rechnungsblatt!#REF!","v":{"$error":"#REF!"}}]
[{"$f":"Rechnungsblatt!#REF!","v":{"$error":"#REF!"}},{"$f":"Rechnungsblatt!#REF!","v":{"$error":"#REF!"}},{"$f":"Rechnungsblatt!#REF!","v":{"$error":"#REF!"}},null,{"$f":"Rechnungsblatt!#REF!","v":{"$error":"#REF!"}},{"$f":"Rechnungsblatt!#REF!","v":{"$error":"#REF!"}},{"$f":"Rechnungsblatt!#REF!","v":{"$error":"#REF!"}},{"$f":"Rechnungsblatt!#REF!","v":{"$error":"#REF!"}},null,{"$f":"Rechnungsblatt!#REF!","v":{"$error":"#REF!"}},{"$f":"Rechnungsblatt!#REF!","v":{"$error":"#REF!"}},{"$f":"Rechnungsblatt!#REF!","v":{"$error":"#REF!"}},{"$f":"Rechnungsblatt!#REF!","v":{"$error":"#REF!"}}]
[{"$f":"Rechnungsblatt!#REF!","v":{"$error":"#REF!"}},{"$f":"Rechnungsblatt!#REF!","v":{"$error":"#REF!"}},{"$f":"Rechnungsblatt!#REF!","v":{"$error":"#REF!"}},null,{"$f":"Rechnungsblatt!#REF!","v":{"$error":"#REF!"}},{"$f":"Rechnungsblatt!#REF!","v":{"$error":"#REF!"}},{"$f":"Rechnungsblatt!#REF!","v":{"$error":"#REF!"}},{"$f":"Rechnungsblatt!#REF!","v":{"$error":"#REF!"}},null,{"$f":"Rechnungsblatt!#REF!","v":{"$error":"#REF!"}},{"$f":"Rechnungsblatt!#REF!","v":{"$error":"#REF!"}},{"$f":"Rechnungsblatt!#REF!","v":{"$error":"#REF!"}},{"$f":"Rechnungsblatt!#REF!","v":{"$error":"#REF!"}}]
[{"$f":"Rechnungsblatt!#REF!","v":{"$error":"#REF!"}},{"$f":"Rechnungsblatt!#REF!","v":{"$error":"#REF!"}},{"$f":"Rechnungsblatt!#REF!","v":{"$error":"#REF!"}},null,{"$f":"Rechnungsblatt!#REF!","v":{"$error":"#REF!"}},{"$f":"Rechnungsblatt!#REF!","v":{"$error":"#REF!"}},{"$f":"Rechnungsblatt!#REF!","v":{"$error":"#REF!"}},{"$f":"Rechnungsblatt!#REF!","v":{"$error":"#REF!"}},null,{"$f":"Rechnungsblatt!#REF!","v":{"$error":"#REF!"}},{"$f":"Rechnungsblatt!#REF!","v":{"$error":"#REF!"}},{"$f":"Rechnungsblatt!#REF!","v":{"$error":"#REF!"}},{"$f":"Rechnungsblatt!#REF!","v":{"$error":"#REF!"}}]
[{"$f":"Rechnungsblatt!#REF!","v":{"$error":"#REF!"}},{"$f":"Rechnungsblatt!#REF!","v":{"$error":"#REF!"}},{"$f":"Rechnungsblatt!#REF!","v":{"$error":"#REF!"}},null,{"$f":"Rechnungsblatt!#REF!","v":{"$error":"#REF!"}},{"$f":"Rechnungsblatt!#REF!","v":{"$error":"#REF!"}},{"$f":"Rechnungsblatt!#REF!","v":{"$error":"#REF!"}},{"$f":"Rechnungsblatt!#REF!","v":{"$error":"#REF!"}},null,{"$f":"Rechnungsblatt!#REF!","v":{"$error":"#REF!"}},{"$f":"Rechnungsblatt!#REF!","v":{"$error":"#REF!"}},{"$f":"Rechnungsblatt!#REF!","v":{"$error":"#REF!"}},{"$f":"Rechnungsblatt!#REF!","v":{"$error":"#REF!"}}]
[{"$f":"Rechnungsblatt!#REF!","v":{"$error":"#REF!"}},{"$f":"Rechnungsblatt!#REF!","v":{"$error":"#REF!"}},{"$f":"Rechnungsblatt!#REF!","v":{"$error":"#REF!"}},null,{"$f":"Rechnungsblatt!#REF!","v":{"$error":"#REF!"}},{"$f":"Rechnungsblatt!#REF!","v":{"$error":"#REF!"}},{"$f":"Rechnungsblatt!#REF!","v":{"$error":"#REF!"}},{"$f":"Rechnungsblatt!#REF!","v":{"$error":"#REF!"}},null,{"$f":"Rechnungsblatt!#REF!","v":{"$error":"#REF!"}},{"$f":"Rechnungsblatt!#REF!","v":{"$error":"#REF!"}},{"$f":"Rechnungsblatt!#REF!","v":{"$error":"#REF!"}},{"$f":"Rechnungsblatt!#REF!","v":{"$error":"#REF!"}}]
[{"$f":"Rechnungsblatt!#REF!","v":{"$error":"#REF!"}},{"$f":"Rechnungsblatt!#REF!","v":{"$error":"#REF!"}},{"$f":"Rechnungsblatt!#REF!","v":{"$error":"#REF!"}},null,{"$f":"Rechnungsblatt!#REF!","v":{"$error":"#REF!"}},{"$f":"Rechnungsblatt!#REF!","v":{"$error":"#REF!"}},{"$f":"Rechnungsblatt!#REF!","v":{"$error":"#REF!"}},{"$f":"Rechnungsblatt!#REF!","v":{"$error":"#REF!"}},null,{"$f":"Rechnungsblatt!#REF!","v":{"$error":"#REF!"}},{"$f":"Rechnungsblatt!#REF!","v":{"$error":"#REF!"}},{"$f":"Rechnungsblatt!#REF!","v":{"$error":"#REF!"}},{"$f":"Rechnungsblatt!#REF!","v":{"$error":"#REF!"}}]
[{"$f":"Rechnungsblatt!#REF!","v":{"$error":"#REF!"}},{"$f":"Rechnungsblatt!#REF!","v":{"$error":"#REF!"}},{"$f":"Rechnungsblatt!#REF!","v":{"$error":"#REF!"}},null,{"$f":"Rechnungsblatt!#REF!","v":{"$error":"#REF!"}},{"$f":"Rechnungsblatt!#REF!","v":{"$error":"#REF!"}},{"$f":"Rechnungsblatt!#REF!","v":{"$error":"#REF!"}},{"$f":"Rechnungsblatt!#REF!","v":{"$error":"#REF!"}},null,{"$f":"Rechnungsblatt!#REF!","v":{"$error":"#REF!"}},{"$f":"Rechnungsblatt!#REF!","v":{"$error":"#REF!"}},{"$f":"Rechnungsblatt!#REF!","v":{"$error":"#REF!"}},{"$f":"Rechnungsblatt!#REF!","v":{"$error":"#REF!"}}]
[{"$f":"Rechnungsblatt!#REF!","v":{"$error":"#REF!"}},{"$f":"Rechnungsblatt!#REF!","v":{"$error":"#REF!"}},{"$f":"Rechnungsblatt!#REF!","v":{"$error":"#REF!"}},null,{"$f":"Rechnungsblatt!#REF!","v":{"$error":"#REF!"}},{"$f":"Rechnungsblatt!#REF!","v":{"$error":"#REF!"}},{"$f":"Rechnungsblatt!#REF!","v":{"$error":"#REF!"}},{"$f":"Rechnungsblatt!#REF!","v":{"$error":"#REF!"}},null,{"$f":"Rechnungsblatt!#REF!","v":{"$error":"#REF!"}},{"$f":"Rechnungsblatt!#REF!","v":{"$error":"#REF!"}},{"$f":"Rechnungsblatt!#REF!","v":{"$error":"#REF!"}},{"$f":"Rechnungsblatt!#REF!","v":{"$error":"#REF!"}}]
[{"$f":"Rechnungsblatt!#REF!","v":{"$error":"#REF!"}},{"$f":"Rechnungsblatt!#REF!","v":{"$error":"#REF!"}},{"$f":"Rechnungsblatt!#REF!","v":{"$error":"#REF!"}},null,{"$f":"Rechnungsblatt!#REF!","v":{"$error":"#REF!"}},{"$f":"Rechnungsblatt!#REF!","v":{"$error":"#REF!"}},{"$f":"Rechnungsblatt!#REF!","v":{"$error":"#REF!"}},{"$f":"Rechnungsblatt!#REF!","v":{"$error":"#REF!"}},null,{"$f":"Rechnungsblatt!#REF!","v":{"$error":"#REF!"}},{"$f":"Rechnungsblatt!#REF!","v":{"$error":"#REF!"}},{"$f":"Rechnungsblatt!#REF!","v":{"$error":"#REF!"}},{"$f":"Rechnungsblatt!#REF!","v":{"$error":"#REF!"}}]
[{"$f":"Rechnungsblatt!#REF!","v":{"$error":"#REF!"}},{"$f":"Rechnungsblatt!#REF!","v":{"$error":"#REF!"}},{"$f":"Rechnungsblatt!#REF!","v":{"$error":"#REF!"}},null,{"$f":"Rechnungsblatt!#REF!","v":{"$error":"#REF!"}},{"$f":"Rechnungsblatt!#REF!","v":{"$error":"#REF!"}},{"$f":"Rechnungsblatt!#REF!","v":{"$error":"#REF!"}},{"$f":"Rechnungsblatt!#REF!","v":{"$error":"#REF!"}},null,{"$f":"Rechnungsblatt!#REF!","v":{"$error":"#REF!"}},{"$f":"Rechnungsblatt!#REF!","v":{"$error":"#REF!"}},{"$f":"Rechnungsblatt!#REF!","v":{"$error":"#REF!"}},{"$f":"Rechnungsblatt!#REF!","v":{"$error":"#REF!"}}]
[{"$f":"Rechnungsblatt!#REF!","v":{"$error":"#REF!"}},{"$f":"Rechnungsblatt!#REF!","v":{"$error":"#REF!"}},{"$f":"Rechnungsblatt!#REF!","v":{"$error":"#REF!"}},null,{"$f":"Rechnungsblatt!#REF!","v":{"$error":"#REF!"}},{"$f":"Rechnungsblatt!#REF!","v":{"$error":"#REF!"}},{"$f":"Rechnungsblatt!#REF!","v":{"$error":"#REF!"}},{"$f":"Rechnungsblatt!#REF!","v":{"$error":"#REF!"}},null,{"$f":"Rechnungsblatt!#REF!","v":{"$error":"#REF!"}},{"$f":"Rechnungsblatt!#REF!","v":{"$error":"#REF!"}},{"$f":"Rechnungsblatt!#REF!","v":{"$error":"#REF!"}},{"$f":"Rechnungsblatt!#REF!","v":{"$error":"#REF!"}}]
[{"$f":"Rechnungsblatt!#REF!","v":{"$error":"#REF!"}},{"$f":"Rechnungsblatt!#REF!","v":{"$error":"#REF!"}},{"$f":"Rechnungsblatt!#REF!","v":{"$error":"#REF!"}},null,{"$f":"Rechnungsblatt!#REF!","v":{"$error":"#REF!"}},{"$f":"Rechnungsblatt!#REF!","v":{"$error":"#REF!"}},{"$f":"Rechnungsblatt!#REF!","v":{"$error":"#REF!"}},{"$f":"Rechnungsblatt!#REF!","v":{"$error":"#REF!"}},null,{"$f":"Rechnungsblatt!#REF!","v":{"$error":"#REF!"}},{"$f":"Rechnungsblatt!#REF!","v":{"$error":"#REF!"}},{"$f":"Rechnungsblatt!#REF!","v":{"$error":"#REF!"}},{"$f":"Rechnungsblatt!#REF!","v":{"$error":"#REF!"}}]
[{"$f":"Rechnungsblatt!#REF!","v":{"$error":"#REF!"}},{"$f":"Rechnungsblatt!#REF!","v":{"$error":"#REF!"}},{"$f":"Rechnungsblatt!#REF!","v":{"$error":"#REF!"}},null,{"$f":"Rechnungsblatt!#REF!","v":{"$error":"#REF!"}},{"$f":"Rechnungsblatt!#REF!","v":{"$error":"#REF!"}},{"$f":"Rechnungsblatt!#REF!","v":{"$error":"#REF!"}},{"$f":"Rechnungsblatt!#REF!","v":{"$error":"#REF!"}},null,{"$f":"Rechnungsblatt!#REF!","v":{"$error":"#REF!"}},{"$f":"Rechnungsblatt!#REF!","v":{"$error":"#REF!"}},{"$f":"Rechnungsblatt!#REF!","v":{"$error":"#REF!"}},{"$f":"Rechnungsblatt!#REF!","v":{"$error":"#REF!"}}]
[{"$f":"Rechnungsblatt!#REF!","v":{"$error":"#REF!"}},{"$f":"Rechnungsblatt!#REF!","v":{"$error":"#REF!"}},{"$f":"Rechnungsblatt!#REF!","v":{"$error":"#REF!"}},null,{"$f":"Rechnungsblatt!#REF!","v":{"$error":"#REF!"}},{"$f":"Rechnungsblatt!#REF!","v":{"$error":"#REF!"}},{"$f":"Rechnungsblatt!#REF!","v":{"$error":"#REF!"}},{"$f":"Rechnungsblatt!#REF!","v":{"$error":"#REF!"}},null,{"$f":"Rechnungsblatt!#REF!","v":{"$error":"#REF!"}},{"$f":"Rechnungsblatt!#REF!","v":{"$error":"#REF!"}},{"$f":"Rechnungsblatt!#REF!","v":{"$error":"#REF!"}},{"$f":"Rechnungsblatt!#REF!","v":{"$error":"#REF!"}}]
[{"$f":"Rechnungsblatt!#REF!","v":{"$error":"#REF!"}},{"$f":"Rechnungsblatt!#REF!","v":{"$error":"#REF!"}},{"$f":"Rechnungsblatt!#REF!","v":{"$error":"#REF!"}},null,{"$f":"Rechnungsblatt!#REF!","v":{"$error":"#REF!"}},{"$f":"Rechnungsblatt!#REF!","v":{"$error":"#REF!"}},{"$f":"Rechnungsblatt!#REF!","v":{"$error":"#REF!"}},{"$f":"Rechnungsblatt!#REF!","v":{"$error":"#REF!"}},null,{"$f":"Rechnungsblatt!#REF!","v":{"$error":"#REF!"}},{"$f":"Rechnungsblatt!#REF!","v":{"$error":"#REF!"}},{"$f":"Rechnungsblatt!#REF!","v":{"$error":"#REF!"}},{"$f":"Rechnungsblatt!#REF!","v":{"$error":"#REF!"}}]
[{"$f":"Rechnungsblatt!#REF!","v":{"$error":"#REF!"}},{"$f":"Rechnungsblatt!#REF!","v":{"$error":"#REF!"}},{"$f":"Rechnungsblatt!#REF!","v":{"$error":"#REF!"}},null,{"$f":"Rechnungsblatt!#REF!","v":{"$error":"#REF!"}},{"$f":"Rechnungsblatt!#REF!","v":{"$error":"#REF!"}},{"$f":"Rechnungsblatt!#REF!","v":{"$error":"#REF!"}},{"$f":"Rechnungsblatt!#REF!","v":{"$error":"#REF!"}},null,{"$f":"Rechnungsblatt!#REF!","v":{"$error":"#REF!"}},{"$f":"Rechnungsblatt!#REF!","v":{"$error":"#REF!"}},{"$f":"Rechnungsblatt!#REF!","v":{"$error":"#REF!"}},{"$f":"Rechnungsblatt!#REF!","v":{"$error":"#REF!"}}]
[{"$f":"Rechnungsblatt!#REF!","v":{"$error":"#REF!"}},{"$f":"Rechnungsblatt!#REF!","v":{"$error":"#REF!"}},{"$f":"Rechnungsblatt!#REF!","v":{"$error":"#REF!"}},null,{"$f":"Rechnungsblatt!#REF!","v":{"$error":"#REF!"}},{"$f":"Rechnungsblatt!#REF!","v":{"$error":"#REF!"}},{"$f":"Rechnungsblatt!#REF!","v":{"$error":"#REF!"}},{"$f":"Rechnungsblatt!#REF!","v":{"$error":"#REF!"}},null,{"$f":"Rechnungsblatt!#REF!","v":{"$error":"#REF!"}},{"$f":"Rechnungsblatt!#REF!","v":{"$error":"#REF!"}},{"$f":"Rechnungsblatt!#REF!","v":{"$error":"#REF!"}},{"$f":"Rechnungsblatt!#REF!","v":{"$error":"#REF!"}}]
[{"$f":"Rechnungsblatt!#REF!","v":{"$error":"#REF!"}},{"$f":"Rechnungsblatt!#REF!","v":{"$error":"#REF!"}},{"$f":"Rechnungsblatt!#REF!","v":{"$error":"#REF!"}},null,{"$f":"Rechnungsblatt!#REF!","v":{"$error":"#REF!"}},{"$f":"Rechnungsblatt!#REF!","v":{"$error":"#REF!"}},{"$f":"Rechnungsblatt!#REF!","v":{"$error":"#REF!"}},{"$f":"Rechnungsblatt!#REF!","v":{"$error":"#REF!"}},null,{"$f":"Rechnungsblatt!#REF!","v":{"$error":"#REF!"}},{"$f":"Rechnungsblatt!#REF!","v":{"$error":"#REF!"}},{"$f":"Rechnungsblatt!#REF!","v":{"$error":"#REF!"}},{"$f":"Rechnungsblatt!#REF!","v":{"$error":"#REF!"}}]
[{"$f":"Rechnungsblatt!#REF!","v":{"$error":"#REF!"}},{"$f":"Rechnungsblatt!#REF!","v":{"$error":"#REF!"}},{"$f":"Rechnungsblatt!#REF!","v":{"$error":"#REF!"}},null,{"$f":"Rechnungsblatt!#REF!","v":{"$error":"#REF!"}},{"$f":"Rechnungsblatt!#REF!","v":{"$error":"#REF!"}},{"$f":"Rechnungsblatt!#REF!","v":{"$error":"#REF!"}},{"$f":"Rechnungsblatt!#REF!","v":{"$error":"#REF!"}},null,{"$f":"Rechnungsblatt!#REF!","v":{"$error":"#REF!"}},{"$f":"Rechnungsblatt!#REF!","v":{"$error":"#REF!"}},{"$f":"Rechnungsblatt!#REF!","v":{"$error":"#REF!"}},{"$f":"Rechnungsblatt!#REF!","v":{"$error":"#REF!"}}]
[{"$f":"Rechnungsblatt!#REF!","v":{"$error":"#REF!"}},{"$f":"Rechnungsblatt!#REF!","v":{"$error":"#REF!"}},{"$f":"Rechnungsblatt!#REF!","v":{"$error":"#REF!"}},null,{"$f":"Rechnungsblatt!#REF!","v":{"$error":"#REF!"}},{"$f":"Rechnungsblatt!#REF!","v":{"$error":"#REF!"}},{"$f":"Rechnungsblatt!#REF!","v":{"$error":"#REF!"}},{"$f":"Rechnungsblatt!#REF!","v":{"$error":"#REF!"}},null,{"$f":"Rechnungsblatt!#REF!","v":{"$error":"#REF!"}},{"$f":"Rechnungsblatt!#REF!","v":{"$error":"#REF!"}},{"$f":"Rechnungsblatt!#REF!","v":{"$error":"#REF!"}},{"$f":"Rechnungsblatt!#REF!","v":{"$error":"#REF!"}}]
[{"$f":"Rechnungsblatt!#REF!","v":{"$error":"#REF!"}},{"$f":"Rechnungsblatt!#REF!","v":{"$error":"#REF!"}},{"$f":"Rechnungsblatt!#REF!","v":{"$error":"#REF!"}},null,{"$f":"Rechnungsblatt!#REF!","v":{"$error":"#REF!"}},{"$f":"Rechnungsblatt!#REF!","v":{"$error":"#REF!"}},{"$f":"Rechnungsblatt!#REF!","v":{"$error":"#REF!"}},{"$f":"Rechnungsblatt!#REF!","v":{"$error":"#REF!"}},null,{"$f":"Rechnungsblatt!#REF!","v":{"$error":"#REF!"}},{"$f":"Rechnungsblatt!#REF!","v":{"$error":"#REF!"}},{"$f":"Rechnungsblatt!#REF!","v":{"$error":"#REF!"}},{"$f":"Rechnungsblatt!#REF!","v":{"$error":"#REF!"}}]
[{"$f":"Rechnungsblatt!#REF!","v":{"$error":"#REF!"}},{"$f":"Rechnungsblatt!#REF!","v":{"$error":"#REF!"}},{"$f":"Rechnungsblatt!#REF!","v":{"$error":"#REF!"}},null,{"$f":"Rechnungsblatt!#REF!","v":{"$error":"#REF!"}},{"$f":"Rechnungsblatt!#REF!","v":{"$error":"#REF!"}},{"$f":"Rechnungsblatt!#REF!","v":{"$error":"#REF!"}},{"$f":"Rechnungsblatt!#REF!","v":{"$error":"#REF!"}},null,{"$f":"Rechnungsblatt!#REF!","v":{"$error":"#REF!"}},{"$f":"Rechnungsblatt!#REF!","v":{"$error":"#REF!"}},{"$f":"Rechnungsblatt!#REF!","v":{"$error":"#REF!"}},{"$f":"Rechnungsblatt!#REF!","v":{"$error":"#REF!"}}]
[{"$f":"Rechnungsblatt!#REF!","v":{"$error":"#REF!"}},{"$f":"Rechnungsblatt!#REF!","v":{"$error":"#REF!"}},{"$f":"Rechnungsblatt!#REF!","v":{"$error":"#REF!"}},null,{"$f":"Rechnungsblatt!#REF!","v":{"$error":"#REF!"}},{"$f":"Rechnungsblatt!#REF!","v":{"$error":"#REF!"}},{"$f":"Rechnungsblatt!#REF!","v":{"$error":"#REF!"}},{"$f":"Rechnungsblatt!#REF!","v":{"$error":"#REF!"}},null,{"$f":"Rechnungsblatt!#REF!","v":{"$error":"#REF!"}},{"$f":"Rechnungsblatt!#REF!","v":{"$error":"#REF!"}},{"$f":"Rechnungsblatt!#REF!","v":{"$error":"#REF!"}},{"$f":"Rechnungsblatt!#REF!","v":{"$error":"#REF!"}}]
[{"$f":"Rechnungsblatt!#REF!","v":{"$error":"#REF!"}},{"$f":"Rechnungsblatt!#REF!","v":{"$error":"#REF!"}},{"$f":"Rechnungsblatt!#REF!","v":{"$error":"#REF!"}},null,{"$f":"Rechnungsblatt!#REF!","v":{"$error":"#REF!"}},{"$f":"Rechnungsblatt!#REF!","v":{"$error":"#REF!"}},{"$f":"Rechnungsblatt!#REF!","v":{"$error":"#REF!"}},{"$f":"Rechnungsblatt!#REF!","v":{"$error":"#REF!"}},null,{"$f":"Rechnungsblatt!#REF!","v":{"$error":"#REF!"}},{"$f":"Rechnungsblatt!#REF!","v":{"$error":"#REF!"}},{"$f":"Rechnungsblatt!#REF!","v":{"$error":"#REF!"}},{"$f":"Rechnungsblatt!#REF!","v":{"$error":"#REF!"}}]
[{"$f":"Rechnungsblatt!#REF!","v":{"$error":"#REF!"}},{"$f":"Rechnungsblatt!#REF!","v":{"$error":"#REF!"}},{"$f":"Rechnungsblatt!#REF!","v":{"$error":"#REF!"}},null,{"$f":"Rechnungsblatt!#REF!","v":{"$error":"#REF!"}},{"$f":"Rechnungsblatt!#REF!","v":{"$error":"#REF!"}},{"$f":"Rechnungsblatt!#REF!","v":{"$error":"#REF!"}},{"$f":"Rechnungsblatt!#REF!","v":{"$error":"#REF!"}},null,{"$f":"Rechnungsblatt!#REF!","v":{"$error":"#REF!"}},{"$f":"Rechnungsblatt!#REF!","v":{"$error":"#REF!"}},{"$f":"Rechnungsblatt!#REF!","v":{"$error":"#REF!"}},{"$f":"Rechnungsblatt!#REF!","v":{"$error":"#REF!"}}]
[{"$f":"Rechnungsblatt!#REF!","v":{"$error":"#REF!"}},{"$f":"Rechnungsblatt!#REF!","v":{"$error":"#REF!"}},{"$f":"Rechnungsblatt!#REF!","v":{"$error":"#REF!"}},null,{"$f":"Rechnungsblatt!#REF!","v":{"$error":"#REF!"}},{"$f":"Rechnungsblatt!#REF!","v":{"$error":"#REF!"}},{"$f":"Rechnungsblatt!#REF!","v":{"$error":"#REF!"}},{"$f":"Rechnungsblatt!#REF!","v":{"$error":"#REF!"}},null,{"$f":"Rechnungsblatt!#REF!","v":{"$error":"#REF!"}},{"$f":"Rechnungsblatt!#REF!","v":{"$error":"#REF!"}},{"$f":"Rechnungsblatt!#REF!","v":{"$error":"#REF!"}},{"$f":"Rechnungsblatt!#REF!","v":{"$error":"#REF!"}}]
[{"$f":"Rechnungsblatt!#REF!","v":{"$error":"#REF!"}},{"$f":"Rechnungsblatt!#REF!","v":{"$error":"#REF!"}},{"$f":"Rechnungsblatt!#REF!","v":{"$error":"#REF!"}},null,{"$f":"Rechnungsblatt!#REF!","v":{"$error":"#REF!"}},{"$f":"Rechnungsblatt!#REF!","v":{"$error":"#REF!"}},{"$f":"Rechnungsblatt!#REF!","v":{"$error":"#REF!"}},{"$f":"Rechnungsblatt!#REF!","v":{"$error":"#REF!"}},null,{"$f":"Rechnungsblatt!#REF!","v":{"$error":"#REF!"}},{"$f":"Rechnungsblatt!#REF!","v":{"$error":"#REF!"}},{"$f":"Rechnungsblatt!#REF!","v":{"$error":"#REF!"}},{"$f":"Rechnungsblatt!#REF!","v":{"$error":"#REF!"}}]
[{"$f":"Rechnungsblatt!#REF!","v":{"$error":"#REF!"}},{"$f":"Rechnungsblatt!#REF!","v":{"$error":"#REF!"}},{"$f":"Rechnungsblatt!#REF!","v":{"$error":"#REF!"}},null,{"$f":"Rechnungsblatt!#REF!","v":{"$error":"#REF!"}},{"$f":"Rechnungsblatt!#REF!","v":{"$error":"#REF!"}},{"$f":"Rechnungsblatt!#REF!","v":{"$error":"#REF!"}},{"$f":"Rechnungsblatt!#REF!","v":{"$error":"#REF!"}},null,{"$f":"Rechnungsblatt!#REF!","v":{"$error":"#REF!"}},{"$f":"Rechnungsblatt!#REF!","v":{"$error":"#REF!"}},{"$f":"Rechnungsblatt!#REF!","v":{"$error":"#REF!"}},{"$f":"Rechnungsblatt!#REF!","v":{"$error":"#REF!"}}]
[{"$f":"Rechnungsblatt!#REF!","v":{"$error":"#REF!"}},{"$f":"Rechnungsblatt!#REF!","v":{"$error":"#REF!"}},{"$f":"Rechnungsblatt!#REF!","v":{"$error":"#REF!"}},null,{"$f":"Rechnungsblatt!#REF!","v":{"$error":"#REF!"}},{"$f":"Rechnungsblatt!#REF!","v":{"$error":"#REF!"}},{"$f":"Rechnungsblatt!#REF!","v":{"$error":"#REF!"}},{"$f":"Rechnungsblatt!#REF!","v":{"$error":"#REF!"}},null,{"$f":"Rechnungsblatt!#REF!","v":{"$error":"#REF!"}},{"$f":"Rechnungsblatt!#REF!","v":{"$error":"#REF!"}},{"$f":"Rechnungsblatt!#REF!","v":{"$error":"#REF!"}},{"$f":"Rechnungsblatt!#REF!","v":{"$error":"#REF!"}}]
[{"$f":"Rechnungsblatt!#REF!","v":{"$error":"#REF!"}},{"$f":"Rechnungsblatt!#REF!","v":{"$error":"#REF!"}},{"$f":"Rechnungsblatt!#REF!","v":{"$error":"#REF!"}},null,{"$f":"Rechnungsblatt!#REF!","v":{"$error":"#REF!"}},{"$f":"Rechnungsblatt!#REF!","v":{"$error":"#REF!"}},{"$f":"Rechnungsblatt!#REF!","v":{"$error":"#REF!"}},{"$f":"Rechnungsblatt!#REF!","v":{"$error":"#REF!"}},null,{"$f":"Rechnungsblatt!#REF!","v":{"$error":"#REF!"}},{"$f":"Rechnungsblatt!#REF!","v":{"$error":"#REF!"}},{"$f":"Rechnungsblatt!#REF!","v":{"$error":"#REF!"}},{"$f":"Rechnungsblatt!#REF!","v":{"$error":"#REF!"}}]
[{"$f":"Rechnungsblatt!#REF!","v":{"$error":"#REF!"}},{"$f":"Rechnungsblatt!#REF!","v":{"$error":"#REF!"}},{"$f":"Rechnungsblatt!#REF!","v":{"$error":"#REF!"}},null,{"$f":"Rechnungsblatt!#REF!","v":{"$error":"#REF!"}},{"$f":"Rechnungsblatt!#REF!","v":{"$error":"#REF!"}},{"$f":"Rechnungsblatt!#REF!","v":{"$error":"#REF!"}},{"$f":"Rechnungsblatt!#REF!","v":{"$error":"#REF!"}},null,{"$f":"Rechnungsblatt!#REF!","v":{"$error":"#REF!"}},{"$f":"Rechnungsblatt!#REF!","v":{"$error":"#REF!"}},{"$f":"Rechnungsblatt!#REF!","v":{"$error":"#REF!"}},{"$f":"Rechnungsblatt!#REF!","v":{"$error":"#REF!"}}]
[{"$f":"Rechnungsblatt!#REF!","v":{"$error":"#REF!"}},{"$f":"Rechnungsblatt!#REF!","v":{"$error":"#REF!"}},{"$f":"Rechnungsblatt!#REF!","v":{"$error":"#REF!"}},null,{"$f":"Rechnungsblatt!#REF!","v":{"$error":"#REF!"}},{"$f":"Rechnungsblatt!#REF!","v":{"$error":"#REF!"}},{"$f":"Rechnungsblatt!#REF!","v":{"$error":"#REF!"}},{"$f":"Rechnungsblatt!#REF!","v":{"$error":"#REF!"}},null,{"$f":"Rechnungsblatt!#REF!","v":{"$error":"#REF!"}},{"$f":"Rechnungsblatt!#REF!","v":{"$error":"#REF!"}},{"$f":"Rechnungsblatt!#REF!","v":{"$error":"#REF!"}},{"$f":"Rechnungsblatt!#REF!","v":{"$error":"#REF!"}}]
[{"$f":"Rechnungsblatt!#REF!","v":{"$error":"#REF!"}},{"$f":"Rechnungsblatt!#REF!","v":{"$error":"#REF!"}},{"$f":"Rechnungsblatt!#REF!","v":{"$error":"#REF!"}},null,{"$f":"Rechnungsblatt!#REF!","v":{"$error":"#REF!"}},{"$f":"Rechnungsblatt!#REF!","v":{"$error":"#REF!"}},{"$f":"Rechnungsblatt!#REF!","v":{"$error":"#REF!"}},{"$f":"Rechnungsblatt!#REF!","v":{"$error":"#REF!"}},null,{"$f":"Rechnungsblatt!#REF!","v":{"$error":"#REF!"}},{"$f":"Rechnungsblatt!#REF!","v":{"$error":"#REF!"}},{"$f":"Rechnungsblatt!#REF!","v":{"$error":"#REF!"}},{"$f":"Rechnungsblatt!#REF!","v":{"$error":"#REF!"}}]
[{"$f":"Rechnungsblatt!#REF!","v":{"$error":"#REF!"}},{"$f":"Rechnungsblatt!#REF!","v":{"$error":"#REF!"}},{"$f":"Rechnungsblatt!#REF!","v":{"$error":"#REF!"}},null,{"$f":"Rechnungsblatt!#REF!","v":{"$error":"#REF!"}},{"$f":"Rechnungsblatt!#REF!","v":{"$error":"#REF!"}},{"$f":"Rechnungsblatt!#REF!","v":{"$error":"#REF!"}},{"$f":"Rechnungsblatt!#REF!","v":{"$error":"#REF!"}},null,{"$f":"Rechnungsblatt!#REF!","v":{"$error":"#REF!"}},{"$f":"Rechnungsblatt!#REF!","v":{"$error":"#REF!"}},{"$f":"Rechnungsblatt!#REF!","v":{"$error":"#REF!"}},{"$f":"Rechnungsblatt!#REF!","v":{"$error":"#REF!"}}]
[{"$f":"Rechnungsblatt!#REF!","v":{"$error":"#REF!"}},{"$f":"Rechnungsblatt!#REF!","v":{"$error":"#REF!"}},{"$f":"Rechnungsblatt!#REF!","v":{"$error":"#REF!"}},null,{"$f":"Rechnungsblatt!#REF!","v":{"$error":"#REF!"}},{"$f":"Rechnungsblatt!#REF!","v":{"$error":"#REF!"}},{"$f":"Rechnungsblatt!#REF!","v":{"$error":"#REF!"}},{"$f":"Rechnungsblatt!#REF!","v":{"$error":"#REF!"}},null,{"$f":"Rechnungsblatt!#REF!","v":{"$error":"#REF!"}},{"$f":"Rechnungsblatt!#REF!","v":{"$error":"#REF!"}},{"$f":"Rechnungsblatt!#REF!","v":{"$error":"#REF!"}},{"$f":"Rechnungsblatt!#REF!","v":{"$error":"#REF!"}}]
[{"$f":"Rechnungsblatt!#REF!","v":{"$error":"#REF!"}},{"$f":"Rechnungsblatt!#REF!","v":{"$error":"#REF!"}},{"$f":"Rechnungsblatt!#REF!","v":{"$error":"#REF!"}},null,{"$f":"Rechnungsblatt!#REF!","v":{"$error":"#REF!"}},{"$f":"Rechnungsblatt!#REF!","v":{"$error":"#REF!"}},{"$f":"Rechnungsblatt!#REF!","v":{"$error":"#REF!"}},{"$f":"Rechnungsblatt!#REF!","v":{"$error":"#REF!"}},null,{"$f":"Rechnungsblatt!#REF!","v":{"$error":"#REF!"}},{"$f":"Rechnungsblatt!#REF!","v":{"$error":"#REF!"}},{"$f":"Rechnungsblatt!#REF!","v":{"$error":"#REF!"}},{"$f":"Rechnungsblatt!#REF!","v":{"$error":"#REF!"}}]
[{"$f":"Rechnungsblatt!#REF!","v":{"$error":"#REF!"}},{"$f":"Rechnungsblatt!#REF!","v":{"$error":"#REF!"}},{"$f":"Rechnungsblatt!#REF!","v":{"$error":"#REF!"}},null,{"$f":"Rechnungsblatt!#REF!","v":{"$error":"#REF!"}},{"$f":"Rechnungsblatt!#REF!","v":{"$error":"#REF!"}},{"$f":"Rechnungsblatt!#REF!","v":{"$error":"#REF!"}},{"$f":"Rechnungsblatt!#REF!","v":{"$error":"#REF!"}},null,{"$f":"Rechnungsblatt!#REF!","v":{"$error":"#REF!"}},{"$f":"Rechnungsblatt!#REF!","v":{"$error":"#REF!"}},{"$f":"Rechnungsblatt!#REF!","v":{"$error":"#REF!"}},{"$f":"Rechnungsblatt!#REF!","v":{"$error":"#REF!"}}]
[{"$f":"Rechnungsblatt!#REF!","v":{"$error":"#REF!"}},{"$f":"Rechnungsblatt!#REF!","v":{"$error":"#REF!"}},{"$f":"Rechnungsblatt!#REF!","v":{"$error":"#REF!"}},null,{"$f":"Rechnungsblatt!#REF!","v":{"$error":"#REF!"}},{"$f":"Rechnungsblatt!#REF!","v":{"$error":"#REF!"}},{"$f":"Rechnungsblatt!#REF!","v":{"$error":"#REF!"}},{"$f":"Rechnungsblatt!#REF!","v":{"$error":"#REF!"}},null,{"$f":"Rechnungsblatt!#REF!","v":{"$error":"#REF!"}},{"$f":"Rechnungsblatt!#REF!","v":{"$error":"#REF!"}},{"$f":"Rechnungsblatt!#REF!","v":{"$error":"#REF!"}},{"$f":"Rechnungsblatt!#REF!","v":{"$error":"#REF!"}}]
[{"$f":"Rechnungsblatt!#REF!","v":{"$error":"#REF!"}},{"$f":"Rechnungsblatt!#REF!","v":{"$error":"#REF!"}},{"$f":"Rechnungsblatt!#REF!","v":{"$error":"#REF!"}},null,{"$f":"Rechnungsblatt!#REF!","v":{"$error":"#REF!"}},{"$f":"Rechnungsblatt!#REF!","v":{"$error":"#REF!"}},{"$f":"Rechnungsblatt!#REF!","v":{"$error":"#REF!"}},{"$f":"Rechnungsblatt!#REF!","v":{"$error":"#REF!"}},null,{"$f":"Rechnungsblatt!#REF!","v":{"$error":"#REF!"}},{"$f":"Rechnungsblatt!#REF!","v":{"$error":"#REF!"}},{"$f":"Rechnungsblatt!#REF!","v":{"$error":"#REF!"}},{"$f":"Rechnungsblatt!#REF!","v":{"$error":"#REF!"}}]
[{"$f":"Rechnungsblatt!#REF!","v":{"$error":"#REF!"}},{"$f":"Rechnungsblatt!#REF!","v":{"$error":"#REF!"}},{"$f":"Rechnungsblatt!#REF!","v":{"$error":"#REF!"}},null,{"$f":"Rechnungsblatt!#REF!","v":{"$error":"#REF!"}},{"$f":"Rechnungsblatt!#REF!","v":{"$error":"#REF!"}},{"$f":"Rechnungsblatt!#REF!","v":{"$error":"#REF!"}},{"$f":"Rechnungsblatt!#REF!","v":{"$error":"#REF!"}},null,{"$f":"Rechnungsblatt!#REF!","v":{"$error":"#REF!"}},{"$f":"Rechnungsblatt!#REF!","v":{"$error":"#REF!"}},{"$f":"Rechnungsblatt!#REF!","v":{"$error":"#REF!"}},{"$f":"Rechnungsblatt!#REF!","v":{"$error":"#REF!"}}]
[{"$f":"Rechnungsblatt!#REF!","v":{"$error":"#REF!"}},{"$f":"Rechnungsblatt!#REF!","v":{"$error":"#REF!"}},{"$f":"Rechnungsblatt!#REF!","v":{"$error":"#REF!"}},null,{"$f":"Rechnungsblatt!#REF!","v":{"$error":"#REF!"}},{"$f":"Rechnungsblatt!#REF!","v":{"$error":"#REF!"}},{"$f":"Rechnungsblatt!#REF!","v":{"$error":"#REF!"}},{"$f":"Rechnungsblatt!#REF!","v":{"$error":"#REF!"}},null,{"$f":"Rechnungsblatt!#REF!","v":{"$error":"#REF!"}},{"$f":"Rechnungsblatt!#REF!","v":{"$error":"#REF!"}},{"$f":"Rechnungsblatt!#REF!","v":{"$error":"#REF!"}},{"$f":"Rechnungsblatt!#REF!","v":{"$error":"#REF!"}}]
[{"$f":"Rechnungsblatt!#REF!","v":{"$error":"#REF!"}},{"$f":"Rechnungsblatt!#REF!","v":{"$error":"#REF!"}},{"$f":"Rechnungsblatt!#REF!","v":{"$error":"#REF!"}},null,{"$f":"Rechnungsblatt!#REF!","v":{"$error":"#REF!"}},{"$f":"Rechnungsblatt!#REF!","v":{"$error":"#REF!"}},{"$f":"Rechnungsblatt!#REF!","v":{"$error":"#REF!"}},{"$f":"Rechnungsblatt!#REF!","v":{"$error":"#REF!"}},null,{"$f":"Rechnungsblatt!#REF!","v":{"$error":"#REF!"}},{"$f":"Rechnungsblatt!#REF!","v":{"$error":"#REF!"}},{"$f":"Rechnungsblatt!#REF!","v":{"$error":"#REF!"}},{"$f":"Rechnungsblatt!#REF!","v":{"$error":"#REF!"}}]
[{"$f":"Rechnungsblatt!#REF!","v":{"$error":"#REF!"}},{"$f":"Rechnungsblatt!#REF!","v":{"$error":"#REF!"}},{"$f":"Rechnungsblatt!#REF!","v":{"$error":"#REF!"}},null,{"$f":"Rechnungsblatt!#REF!","v":{"$error":"#REF!"}},{"$f":"Rechnungsblatt!#REF!","v":{"$error":"#REF!"}},{"$f":"Rechnungsblatt!#REF!","v":{"$error":"#REF!"}},{"$f":"Rechnungsblatt!#REF!","v":{"$error":"#REF!"}},null,{"$f":"Rechnungsblatt!#REF!","v":{"$error":"#REF!"}},{"$f":"Rechnungsblatt!#REF!","v":{"$error":"#REF!"}},{"$f":"Rechnungsblatt!#REF!","v":{"$error":"#REF!"}},{"$f":"Rechnungsblatt!#REF!","v":{"$error":"#REF!"}}]
[{"$f":"Rechnungsblatt!#REF!","v":{"$error":"#REF!"}},{"$f":"Rechnungsblatt!#REF!","v":{"$error":"#REF!"}},{"$f":"Rechnungsblatt!#REF!","v":{"$error":"#REF!"}},null,{"$f":"Rechnungsblatt!#REF!","v":{"$error":"#REF!"}},{"$f":"Rechnungsblatt!#REF!","v":{"$error":"#REF!"}},{"$f":"Rechnungsblatt!#REF!","v":{"$error":"#REF!"}},{"$f":"Rechnungsblatt!#REF!","v":{"$error":"#REF!"}},null,{"$f":"Rechnungsblatt!#REF!","v":{"$error":"#REF!"}},{"$f":"Rechnungsblatt!#REF!","v":{"$error":"#REF!"}},{"$f":"Rechnungsblatt!#REF!","v":{"$error":"#REF!"}},{"$f":"Rechnungsblatt!#REF!","v":{"$error":"#REF!"}}]
[{"$f":"Rechnungsblatt!#REF!","v":{"$error":"#REF!"}},{"$f":"Rechnungsblatt!#REF!","v":{"$error":"#REF!"}},{"$f":"Rechnungsblatt!#REF!","v":{"$error":"#REF!"}},null,{"$f":"Rechnungsblatt!#REF!","v":{"$error":"#REF!"}},{"$f":"Rechnungsblatt!#REF!","v":{"$error":"#REF!"}},{"$f":"Rechnungsblatt!#REF!","v":{"$error":"#REF!"}},{"$f":"Rechnungsblatt!#REF!","v":{"$error":"#REF!"}},null,{"$f":"Rechnungsblatt!#REF!","v":{"$error":"#REF!"}},{"$f":"Rechnungsblatt!#REF!","v":{"$error":"#REF!"}},{"$f":"Rechnungsblatt!#REF!","v":{"$error":"#REF!"}},{"$f":"Rechnungsblatt!#REF!","v":{"$error":"#REF!"}}]
[{"$f":"Rechnungsblatt!#REF!","v":{"$error":"#REF!"}},{"$f":"Rechnungsblatt!#REF!","v":{"$error":"#REF!"}},{"$f":"Rechnungsblatt!#REF!","v":{"$error":"#REF!"}},null,{"$f":"Rechnungsblatt!#REF!","v":{"$error":"#REF!"}},{"$f":"Rechnungsblatt!#REF!","v":{"$error":"#REF!"}},{"$f":"Rechnungsblatt!#REF!","v":{"$error":"#REF!"}},{"$f":"Rechnungsblatt!#REF!","v":{"$error":"#REF!"}},null,{"$f":"Rechnungsblatt!#REF!","v":{"$error":"#REF!"}},{"$f":"Rechnungsblatt!#REF!","v":{"$error":"#REF!"}},{"$f":"Rechnungsblatt!#REF!","v":{"$error":"#REF!"}},{"$f":"Rechnungsblatt!#REF!","v":{"$error":"#REF!"}}]
[{"$f":"Rechnungsblatt!#REF!","v":{"$error":"#REF!"}},{"$f":"Rechnungsblatt!#REF!","v":{"$error":"#REF!"}},{"$f":"Rechnungsblatt!#REF!","v":{"$error":"#REF!"}},null,{"$f":"Rechnungsblatt!#REF!","v":{"$error":"#REF!"}},{"$f":"Rechnungsblatt!#REF!","v":{"$error":"#REF!"}},{"$f":"Rechnungsblatt!#REF!","v":{"$error":"#REF!"}},{"$f":"Rechnungsblatt!#REF!","v":{"$error":"#REF!"}},null,{"$f":"Rechnungsblatt!#REF!","v":{"$error":"#REF!"}},{"$f":"Rechnungsblatt!#REF!","v":{"$error":"#REF!"}},{"$f":"Rechnungsblatt!#REF!","v":{"$error":"#REF!"}},{"$f":"Rechnungsblatt!#REF!","v":{"$error":"#REF!"}}]
[{"$f":"Rechnungsblatt!#REF!","v":{"$error":"#REF!"}},{"$f":"Rechnungsblatt!#REF!","v":{"$error":"#REF!"}},{"$f":"Rechnungsblatt!#REF!","v":{"$error":"#REF!"}},null,{"$f":"Rechnungsblatt!#REF!","v":{"$error":"#REF!"}},{"$f":"Rechnungsblatt!#REF!","v":{"$error":"#REF!"}},{"$f":"Rechnungsblatt!#REF!","v":{"$error":"#REF!"}},{"$f":"Rechnungsblatt!#REF!","v":{"$error":"#REF!"}},null,{"$f":"Rechnungsblatt!#REF!","v":{"$error":"#REF!"}},{"$f":"Rechnungsblatt!#REF!","v":{"$error":"#REF!"}},{"$f":"Rechnungsblatt!#REF!","v":{"$error":"#REF!"}},{"$f":"Rechnungsblatt!#REF!","v":{"$error":"#REF!"}}]
[{"$f":"Rechnungsblatt!#REF!","v":{"$error":"#REF!"}},{"$f":"Rechnungsblatt!#REF!","v":{"$error":"#REF!"}},{"$f":"Rechnungsblatt!#REF!","v":{"$error":"#REF!"}},null,{"$f":"Rechnungsblatt!#REF!","v":{"$error":"#REF!"}},{"$f":"Rechnungsblatt!#REF!","v":{"$error":"#REF!"}},{"$f":"Rechnungsblatt!#REF!","v":{"$error":"#REF!"}},{"$f":"Rechnungsblatt!#REF!","v":{"$error":"#REF!"}},null,{"$f":"Rechnungsblatt!#REF!","v":{"$error":"#REF!"}},{"$f":"Rechnungsblatt!#REF!","v":{"$error":"#REF!"}},{"$f":"Rechnungsblatt!#REF!","v":{"$error":"#REF!"}},{"$f":"Rechnungsblatt!#REF!","v":{"$error":"#REF!"}}]
[{"$f":"Rechnungsblatt!#REF!","v":{"$error":"#REF!"}},{"$f":"Rechnungsblatt!#REF!","v":{"$error":"#REF!"}},{"$f":"Rechnungsblatt!#REF!","v":{"$error":"#REF!"}},null,{"$f":"Rechnungsblatt!#REF!","v":{"$error":"#REF!"}},{"$f":"Rechnungsblatt!#REF!","v":{"$error":"#REF!"}},{"$f":"Rechnungsblatt!#REF!","v":{"$error":"#REF!"}},{"$f":"Rechnungsblatt!#REF!","v":{"$error":"#REF!"}},null,{"$f":"Rechnungsblatt!#REF!","v":{"$error":"#REF!"}},{"$f":"Rechnungsblatt!#REF!","v":{"$error":"#REF!"}},{"$f":"Rechnungsblatt!#REF!","v":{"$error":"#REF!"}},{"$f":"Rechnungsblatt!#REF!","v":{"$error":"#REF!"}}]
[{"$f":"Rechnungsblatt!#REF!","v":{"$error":"#REF!"}},{"$f":"Rechnungsblatt!#REF!","v":{"$error":"#REF!"}},{"$f":"Rechnungsblatt!#REF!","v":{"$error":"#REF!"}},null,{"$f":"Rechnungsblatt!#REF!","v":{"$error":"#REF!"}},{"$f":"Rechnungsblatt!#REF!","v":{"$error":"#REF!"}},{"$f":"Rechnungsblatt!#REF!","v":{"$error":"#REF!"}},{"$f":"Rechnungsblatt!#REF!","v":{"$error":"#REF!"}},null,{"$f":"Rechnungsblatt!#REF!","v":{"$error":"#REF!"}},{"$f":"Rechnungsblatt!#REF!","v":{"$error":"#REF!"}},{"$f":"Rechnungsblatt!#REF!","v":{"$error":"#REF!"}},{"$f":"Rechnungsblatt!#REF!","v":{"$error":"#REF!"}}]
[{"$f":"Rechnungsblatt!#REF!","v":{"$error":"#REF!"}},{"$f":"Rechnungsblatt!#REF!","v":{"$error":"#REF!"}},{"$f":"Rechnungsblatt!#REF!","v":{"$error":"#REF!"}},null,{"$f":"Rechnungsblatt!#REF!","v":{"$error":"#REF!"}},{"$f":"Rechnungsblatt!#REF!","v":{"$error":"#REF!"}},{"$f":"Rechnungsblatt!#REF!","v":{"$error":"#REF!"}},{"$f":"Rechnungsblatt!#REF!","v":{"$error":"#REF!"}},null,{"$f":"Rechnungsblatt!#REF!","v":{"$error":"#REF!"}},{"$f":"Rechnungsblatt!#REF!","v":{"$error":"#REF!"}},{"$f":"Rechnungsblatt!#REF!","v":{"$error":"#REF!"}},{"$f":"Rechnungsblatt!#REF!","v":{"$error":"#REF!"}}]
[{"$f":"Rechnungsblatt!#REF!","v":{"$error":"#REF!"}},{"$f":"Rechnungsblatt!#REF!","v":{"$error":"#REF!"}},{"$f":"Rechnungsblatt!#REF!","v":{"$error":"#REF!"}},null,{"$f":"Rechnungsblatt!#REF!","v":{"$error":"#REF!"}},{"$f":"Rechnungsblatt!#REF!","v":{"$error":"#REF!"}},{"$f":"Rechnungsblatt!#REF!","v":{"$error":"#REF!"}},{"$f":"Rechnungsblatt!#REF!","v":{"$error":"#REF!"}},null,{"$f":"Rechnungsblatt!#REF!","v":{"$error":"#REF!"}},{"$f":"Rechnungsblatt!#REF!","v":{"$error":"#REF!"}},{"$f":"Rechnungsblatt!#REF!","v":{"$error":"#REF!"}},{"$f":"Rechnungsblatt!#REF!","v":{"$error":"#REF!"}}]
[{"$f":"Rechnungsblatt!#REF!","v":{"$error":"#REF!"}},{"$f":"Rechnungsblatt!#REF!","v":{"$error":"#REF!"}},{"$f":"Rechnungsblatt!#REF!","v":{"$error":"#REF!"}},null,{"$f":"Rechnungsblatt!#REF!","v":{"$error":"#REF!"}},{"$f":"Rechnungsblatt!#REF!","v":{"$error":"#REF!"}},{"$f":"Rechnungsblatt!#REF!","v":{"$error":"#REF!"}},{"$f":"Rechnungsblatt!#REF!","v":{"$error":"#REF!"}},null,{"$f":"Rechnungsblatt!#REF!","v":{"$error":"#REF!"}},{"$f":"Rechnungsblatt!#REF!","v":{"$error":"#REF!"}},{"$f":"Rechnungsblatt!#REF!","v":{"$error":"#REF!"}},{"$f":"Rechnungsblatt!#REF!","v":{"$error":"#REF!"}}]
[{"$f":"Rechnungsblatt!#REF!","v":{"$error":"#REF!"}},{"$f":"Rechnungsblatt!#REF!","v":{"$error":"#REF!"}},{"$f":"Rechnungsblatt!#REF!","v":{"$error":"#REF!"}},null,{"$f":"Rechnungsblatt!#REF!","v":{"$error":"#REF!"}},{"$f":"Rechnungsblatt!#REF!","v":{"$error":"#REF!"}},{"$f":"Rechnungsblatt!#REF!","v":{"$error":"#REF!"}},{"$f":"Rechnungsblatt!#REF!","v":{"$error":"#REF!"}},null,{"$f":"Rechnungsblatt!#REF!","v":{"$error":"#REF!"}},{"$f":"Rechnungsblatt!#REF!","v":{"$error":"#REF!"}},{"$f":"Rechnungsblatt!#REF!","v":{"$error":"#REF!"}},{"$f":"Rechnungsblatt!#REF!","v":{"$error":"#REF!"}}]
[{"$f":"Rechnungsblatt!#REF!","v":{"$error":"#REF!"}},{"$f":"Rechnungsblatt!#REF!","v":{"$error":"#REF!"}},{"$f":"Rechnungsblatt!#REF!","v":{"$error":"#REF!"}},null,{"$f":"Rechnungsblatt!#REF!","v":{"$error":"#REF!"}},{"$f":"Rechnungsblatt!#REF!","v":{"$error":"#REF!"}},{"$f":"Rechnungsblatt!#REF!","v":{"$error":"#REF!"}},{"$f":"Rechnungsblatt!#REF!","v":{"$error":"#REF!"}},null,{"$f":"Rechnungsblatt!#REF!","v":{"$error":"#REF!"}},{"$f":"Rechnungsblatt!#REF!","v":{"$error":"#REF!"}},{"$f":"Rechnungsblatt!#REF!","v":{"$error":"#REF!"}},{"$f":"Rechnungsblatt!#REF!","v":{"$error":"#REF!"}}]
[{"$f":"Rechnungsblatt!#REF!","v":{"$error":"#REF!"}},{"$f":"Rechnungsblatt!#REF!","v":{"$error":"#REF!"}},{"$f":"Rechnungsblatt!#REF!","v":{"$error":"#REF!"}},null,{"$f":"Rechnungsblatt!#REF!","v":{"$error":"#REF!"}},{"$f":"Rechnungsblatt!#REF!","v":{"$error":"#REF!"}},{"$f":"Rechnungsblatt!#REF!","v":{"$error":"#REF!"}},{"$f":"Rechnungsblatt!#REF!","v":{"$error":"#REF!"}},null,{"$f":"Rechnungsblatt!#REF!","v":{"$error":"#REF!"}},{"$f":"Rechnungsblatt!#REF!","v":{"$error":"#REF!"}},{"$f":"Rechnungsblatt!#REF!","v":{"$error":"#REF!"}},{"$f":"Rechnungsblatt!#REF!","v":{"$error":"#REF!"}}]
[{"$f":"Rechnungsblatt!#REF!","v":{"$error":"#REF!"}},{"$f":"Rechnungsblatt!#REF!","v":{"$error":"#REF!"}},{"$f":"Rechnungsblatt!#REF!","v":{"$error":"#REF!"}},null,{"$f":"Rechnungsblatt!#REF!","v":{"$error":"#REF!"}},{"$f":"Rechnungsblatt!#REF!","v":{"$error":"#REF!"}},{"$f":"Rechnungsblatt!#REF!","v":{"$error":"#REF!"}},{"$f":"Rechnungsblatt!#REF!","v":{"$error":"#REF!"}},null,{"$f":"Rechnungsblatt!#REF!","v":{"$error":"#REF!"}},{"$f":"Rechnungsblatt!#REF!","v":{"$error":"#REF!"}},{"$f":"Rechnungsblatt!#REF!","v":{"$error":"#REF!"}},{"$f":"Rechnungsblatt!#REF!","v":{"$error":"#REF!"}}]
[{"$f":"Rechnungsblatt!#REF!","v":{"$error":"#REF!"}},{"$f":"Rechnungsblatt!#REF!","v":{"$error":"#REF!"}},{"$f":"Rechnungsblatt!#REF!","v":{"$error":"#REF!"}},null,{"$f":"Rechnungsblatt!#REF!","v":{"$error":"#REF!"}},{"$f":"Rechnungsblatt!#REF!","v":{"$error":"#REF!"}},{"$f":"Rechnungsblatt!#REF!","v":{"$error":"#REF!"}},{"$f":"Rechnungsblatt!#REF!","v":{"$error":"#REF!"}},null,{"$f":"Rechnungsblatt!#REF!","v":{"$error":"#REF!"}},{"$f":"Rechnungsblatt!#REF!","v":{"$error":"#REF!"}},{"$f":"Rechnungsblatt!#REF!","v":{"$error":"#REF!"}},{"$f":"Rechnungsblatt!#REF!","v":{"$error":"#REF!"}}]
[{"$f":"Rechnungsblatt!#REF!","v":{"$error":"#REF!"}},{"$f":"Rechnungsblatt!#REF!","v":{"$error":"#REF!"}},{"$f":"Rechnungsblatt!#REF!","v":{"$error":"#REF!"}},null,{"$f":"Rechnungsblatt!#REF!","v":{"$error":"#REF!"}},{"$f":"Rechnungsblatt!#REF!","v":{"$error":"#REF!"}},{"$f":"Rechnungsblatt!#REF!","v":{"$error":"#REF!"}},{"$f":"Rechnungsblatt!#REF!","v":{"$error":"#REF!"}},null,{"$f":"Rechnungsblatt!#REF!","v":{"$error":"#REF!"}},{"$f":"Rechnungsblatt!#REF!","v":{"$error":"#REF!"}},{"$f":"Rechnungsblatt!#REF!","v":{"$error":"#REF!"}},{"$f":"Rechnungsblatt!#REF!","v":{"$error":"#REF!"}}]
[{"$f":"Rechnungsblatt!#REF!","v":{"$error":"#REF!"}},{"$f":"Rechnungsblatt!#REF!","v":{"$error":"#REF!"}},{"$f":"Rechnungsblatt!#REF!","v":{"$error":"#REF!"}},null,{"$f":"Rechnungsblatt!#REF!","v":{"$error":"#REF!"}},{"$f":"Rechnungsblatt!#REF!","v":{"$error":"#REF!"}},{"$f":"Rechnungsblatt!#REF!","v":{"$error":"#REF!"}},{"$f":"Rechnungsblatt!#REF!","v":{"$error":"#REF!"}},null,{"$f":"Rechnungsblatt!#REF!","v":{"$error":"#REF!"}},{"$f":"Rechnungsblatt!#REF!","v":{"$error":"#REF!"}},{"$f":"Rechnungsblatt!#REF!","v":{"$error":"#REF!"}},{"$f":"Rechnungsblatt!#REF!","v":{"$error":"#REF!"}}]
[{"$f":"Rechnungsblatt!#REF!","v":{"$error":"#REF!"}},{"$f":"Rechnungsblatt!#REF!","v":{"$error":"#REF!"}},{"$f":"Rechnungsblatt!#REF!","v":{"$error":"#REF!"}},null,{"$f":"Rechnungsblatt!#REF!","v":{"$error":"#REF!"}},{"$f":"Rechnungsblatt!#REF!","v":{"$error":"#REF!"}},{"$f":"Rechnungsblatt!#REF!","v":{"$error":"#REF!"}},{"$f":"Rechnungsblatt!#REF!","v":{"$error":"#REF!"}},null,{"$f":"Rechnungsblatt!#REF!","v":{"$error":"#REF!"}},{"$f":"Rechnungsblatt!#REF!","v":{"$error":"#REF!"}},{"$f":"Rechnungsblatt!#REF!","v":{"$error":"#REF!"}},{"$f":"Rechnungsblatt!#REF!","v":{"$error":"#REF!"}}]
[{"$f":"Rechnungsblatt!#REF!","v":{"$error":"#REF!"}},{"$f":"Rechnungsblatt!#REF!","v":{"$error":"#REF!"}},{"$f":"Rechnungsblatt!#REF!","v":{"$error":"#REF!"}},null,{"$f":"Rechnungsblatt!#REF!","v":{"$error":"#REF!"}},{"$f":"Rechnungsblatt!#REF!","v":{"$error":"#REF!"}},{"$f":"Rechnungsblatt!#REF!","v":{"$error":"#REF!"}},{"$f":"Rechnungsblatt!#REF!","v":{"$error":"#REF!"}},null,{"$f":"Rechnungsblatt!#REF!","v":{"$error":"#REF!"}},{"$f":"Rechnungsblatt!#REF!","v":{"$error":"#REF!"}},{"$f":"Rechnungsblatt!#REF!","v":{"$error":"#REF!"}},{"$f":"Rechnungsblatt!#REF!","v":{"$error":"#REF!"}}]
[{"$f":"Rechnungsblatt!#REF!","v":{"$error":"#REF!"}},{"$f":"Rechnungsblatt!#REF!","v":{"$error":"#REF!"}},{"$f":"Rechnungsblatt!#REF!","v":{"$error":"#REF!"}},null,{"$f":"Rechnungsblatt!#REF!","v":{"$error":"#REF!"}},{"$f":"Rechnungsblatt!#REF!","v":{"$error":"#REF!"}},{"$f":"Rechnungsblatt!#REF!","v":{"$error":"#REF!"}},{"$f":"Rechnungsblatt!#REF!","v":{"$error":"#REF!"}},null,{"$f":"Rechnungsblatt!#REF!","v":{"$error":"#REF!"}},{"$f":"Rechnungsblatt!#REF!","v":{"$error":"#REF!"}},{"$f":"Rechnungsblatt!#REF!","v":{"$error":"#REF!"}},{"$f":"Rechnungsblatt!#REF!","v":{"$error":"#REF!"}}]
[{"$f":"Rechnungsblatt!#REF!","v":{"$error":"#REF!"}},{"$f":"Rechnungsblatt!#REF!","v":{"$error":"#REF!"}},{"$f":"Rechnungsblatt!#REF!","v":{"$error":"#REF!"}},null,{"$f":"Rechnungsblatt!#REF!","v":{"$error":"#REF!"}},{"$f":"Rechnungsblatt!#REF!","v":{"$error":"#REF!"}},{"$f":"Rechnungsblatt!#REF!","v":{"$error":"#REF!"}},{"$f":"Rechnungsblatt!#REF!","v":{"$error":"#REF!"}},null,{"$f":"Rechnungsblatt!#REF!","v":{"$error":"#REF!"}},{"$f":"Rechnungsblatt!#REF!","v":{"$error":"#REF!"}},{"$f":"Rechnungsblatt!#REF!","v":{"$error":"#REF!"}},{"$f":"Rechnungsblatt!#REF!","v":{"$error":"#REF!"}}]
[{"$f":"Rechnungsblatt!#REF!","v":{"$error":"#REF!"}},{"$f":"Rechnungsblatt!#REF!","v":{"$error":"#REF!"}},{"$f":"Rechnungsblatt!#REF!","v":{"$error":"#REF!"}},null,{"$f":"Rechnungsblatt!#REF!","v":{"$error":"#REF!"}},{"$f":"Rechnungsblatt!#REF!","v":{"$error":"#REF!"}},{"$f":"Rechnungsblatt!#REF!","v":{"$error":"#REF!"}},{"$f":"Rechnungsblatt!#REF!","v":{"$error":"#REF!"}},null,{"$f":"Rechnungsblatt!#REF!","v":{"$error":"#REF!"}},{"$f":"Rechnungsblatt!#REF!","v":{"$error":"#REF!"}},{"$f":"Rechnungsblatt!#REF!","v":{"$error":"#REF!"}},{"$f":"Rechnungsblatt!#REF!","v":{"$error":"#REF!"}}]
[{"$f":"Rechnungsblatt!#REF!","v":{"$error":"#REF!"}},{"$f":"Rechnungsblatt!#REF!","v":{"$error":"#REF!"}},{"$f":"Rechnungsblatt!#REF!","v":{"$error":"#REF!"}},null,{"$f":"Rechnungsblatt!#REF!","v":{"$error":"#REF!"}},{"$f":"Rechnungsblatt!#REF!","v":{"$error":"#REF!"}},{"$f":"Rechnungsblatt!#REF!","v":{"$error":"#REF!"}},{"$f":"Rechnungsblatt!#REF!","v":{"$error":"#REF!"}},null,{"$f":"Rechnungsblatt!#REF!","v":{"$error":"#REF!"}},{"$f":"Rechnungsblatt!#REF!","v":{"$error":"#REF!"}},{"$f":"Rechnungsblatt!#REF!","v":{"$error":"#REF!"}},{"$f":"Rechnungsblatt!#REF!","v":{"$error":"#REF!"}}]
[{"$f":"Rechnungsblatt!#REF!","v":{"$error":"#REF!"}},{"$f":"Rechnungsblatt!#REF!","v":{"$error":"#REF!"}},{"$f":"Rechnungsblatt!#REF!","v":{"$error":"#REF!"}},null,{"$f":"Rechnungsblatt!#REF!","v":{"$error":"#REF!"}},{"$f":"Rechnungsblatt!#REF!","v":{"$error":"#REF!"}},{"$f":"Rechnungsblatt!#REF!","v":{"$error":"#REF!"}},{"$f":"Rechnungsblatt!#REF!","v":{"$error":"#REF!"}},null,{"$f":"Rechnungsblatt!#REF!","v":{"$error":"#REF!"}},{"$f":"Rechnungsblatt!#REF!","v":{"$error":"#REF!"}},{"$f":"Rechnungsblatt!#REF!","v":{"$error":"#REF!"}},{"$f":"Rechnungsblatt!#REF!","v":{"$error":"#REF!"}}]
[{"$f":"Rechnungsblatt!#REF!","v":{"$error":"#REF!"}},{"$f":"Rechnungsblatt!#REF!","v":{"$error":"#REF!"}},{"$f":"Rechnungsblatt!#REF!","v":{"$error":"#REF!"}},null,{"$f":"Rechnungsblatt!#REF!","v":{"$error":"#REF!"}},{"$f":"Rechnungsblatt!#REF!","v":{"$error":"#REF!"}},{"$f":"Rechnungsblatt!#REF!","v":{"$error":"#REF!"}},{"$f":"Rechnungsblatt!#REF!","v":{"$error":"#REF!"}},null,{"$f":"Rechnungsblatt!#REF!","v":{"$error":"#REF!"}},{"$f":"Rechnungsblatt!#REF!","v":{"$error":"#REF!"}},{"$f":"Rechnungsblatt!#REF!","v":{"$error":"#REF!"}},{"$f":"Rechnungsblatt!#REF!","v":{"$error":"#REF!"}}]
[{"$f":"Rechnungsblatt!#REF!","v":{"$error":"#REF!"}},{"$f":"Rechnungsblatt!#REF!","v":{"$error":"#REF!"}},{"$f":"Rechnungsblatt!#REF!","v":{"$error":"#REF!"}},null,{"$f":"Rechnungsblatt!#REF!","v":{"$error":"#REF!"}},{"$f":"Rechnungsblatt!#REF!","v":{"$error":"#REF!"}},{"$f":"Rechnungsblatt!#REF!","v":{"$error":"#REF!"}},{"$f":"Rechnungsblatt!#REF!","v":{"$error":"#REF!"}},null,{"$f":"Rechnungsblatt!#REF!","v":{"$error":"#REF!"}},{"$f":"Rechnungsblatt!#REF!","v":{"$error":"#REF!"}},{"$f":"Rechnungsblatt!#REF!","v":{"$error":"#REF!"}},{"$f":"Rechnungsblatt!#REF!","v":{"$error":"#REF!"}}]
[{"$f":"Rechnungsblatt!#REF!","v":{"$error":"#REF!"}},{"$f":"Rechnungsblatt!#REF!","v":{"$error":"#REF!"}},{"$f":"Rechnungsblatt!#REF!","v":{"$error":"#REF!"}},null,{"$f":"Rechnungsblatt!#REF!","v":{"$error":"#REF!"}},{"$f":"Rechnungsblatt!#REF!","v":{"$error":"#REF!"}},{"$f":"Rechnungsblatt!#REF!","v":{"$error":"#REF!"}},{"$f":"Rechnungsblatt!#REF!","v":{"$error":"#REF!"}},null,{"$f":"Rechnungsblatt!#REF!","v":{"$error":"#REF!"}},{"$f":"Rechnungsblatt!#REF!","v":{"$error":"#REF!"}},{"$f":"Rechnungsblatt!#REF!","v":{"$error":"#REF!"}},{"$f":"Rechnungsblatt!#REF!","v":{"$error":"#REF!"}}]
[{"$f":"Rechnungsblatt!#REF!","v":{"$error":"#REF!"}},{"$f":"Rechnungsblatt!#REF!","v":{"$error":"#REF!"}},{"$f":"Rechnungsblatt!#REF!","v":{"$error":"#REF!"}},null,{"$f":"Rechnungsblatt!#REF!","v":{"$error":"#REF!"}},{"$f":"Rechnungsblatt!#REF!","v":{"$error":"#REF!"}},{"$f":"Rechnungsblatt!#REF!","v":{"$error":"#REF!"}},{"$f":"Rechnungsblatt!#REF!","v":{"$error":"#REF!"}},null,{"$f":"Rechnungsblatt!#REF!","v":{"$error":"#REF!"}},{"$f":"Rechnungsblatt!#REF!","v":{"$error":"#REF!"}},{"$f":"Rechnungsblatt!#REF!","v":{"$error":"#REF!"}},{"$f":"Rechnungsblatt!#REF!","v":{"$error":"#REF!"}}]
[{"$f":"Rechnungsblatt!#REF!","v":{"$error":"#REF!"}},{"$f":"Rechnungsblatt!#REF!","v":{"$error":"#REF!"}},{"$f":"Rechnungsblatt!#REF!","v":{"$error":"#REF!"}},null,{"$f":"Rechnungsblatt!#REF!","v":{"$error":"#REF!"}},{"$f":"Rechnungsblatt!#REF!","v":{"$error":"#REF!"}},{"$f":"Rechnungsblatt!#REF!","v":{"$error":"#REF!"}},{"$f":"Rechnungsblatt!#REF!","v":{"$error":"#REF!"}},null,{"$f":"Rechnungsblatt!#REF!","v":{"$error":"#REF!"}},{"$f":"Rechnungsblatt!#REF!","v":{"$error":"#REF!"}},{"$f":"Rechnungsblatt!#REF!","v":{"$error":"#REF!"}},{"$f":"Rechnungsblatt!#REF!","v":{"$error":"#REF!"}}]
[{"$f":"Rechnungsblatt!#REF!","v":{"$error":"#REF!"}},{"$f":"Rechnungsblatt!#REF!","v":{"$error":"#REF!"}},{"$f":"Rechnungsblatt!#REF!","v":{"$error":"#REF!"}},null,{"$f":"Rechnungsblatt!#REF!","v":{"$error":"#REF!"}},{"$f":"Rechnungsblatt!#REF!","v":{"$error":"#REF!"}},{"$f":"Rechnungsblatt!#REF!","v":{"$error":"#REF!"}},{"$f":"Rechnungsblatt!#REF!","v":{"$error":"#REF!"}},null,{"$f":"Rechnungsblatt!#REF!","v":{"$error":"#REF!"}},{"$f":"Rechnungsblatt!#REF!","v":{"$error":"#REF!"}},{"$f":"Rechnungsblatt!#REF!","v":{"$error":"#REF!"}},{"$f":"Rechnungsblatt!#REF!","v":{"$error":"#REF!"}}]
[{"$f":"Rechnungsblatt!#REF!","v":{"$error":"#REF!"}},{"$f":"Rechnungsblatt!#REF!","v":{"$error":"#REF!"}},{"$f":"Rechnungsblatt!#REF!","v":{"$error":"#REF!"}},null,{"$f":"Rechnungsblatt!#REF!","v":{"$error":"#REF!"}},{"$f":"Rechnungsblatt!#REF!","v":{"$error":"#REF!"}},{"$f":"Rechnungsblatt!#REF!","v":{"$error":"#REF!"}},{"$f":"Rechnungsblatt!#REF!","v":{"$error":"#REF!"}},null,{"$f":"Rechnungsblatt!#REF!","v":{"$error":"#REF!"}},{"$f":"Rechnungsblatt!#REF!","v":{"$error":"#REF!"}},{"$f":"Rechnungsblatt!#REF!","v":{"$error":"#REF!"}},{"$f":"Rechnungsblatt!#REF!","v":{"$error":"#REF!"}}]
[{"$f":"Rechnungsblatt!#REF!","v":{"$error":"#REF!"}},{"$f":"Rechnungsblatt!#REF!","v":{"$error":"#REF!"}},{"$f":"Rechnungsblatt!#REF!","v":{"$error":"#REF!"}},null,{"$f":"Rechnungsblatt!#REF!","v":{"$error":"#REF!"}},{"$f":"Rechnungsblatt!#REF!","v":{"$error":"#REF!"}},{"$f":"Rechnungsblatt!#REF!","v":{"$error":"#REF!"}},{"$f":"Rechnungsblatt!#REF!","v":{"$error":"#REF!"}},null,{"$f":"Rechnungsblatt!#REF!","v":{"$error":"#REF!"}},{"$f":"Rechnungsblatt!#REF!","v":{"$error":"#REF!"}},{"$f":"Rechnungsblatt!#REF!","v":{"$error":"#REF!"}},{"$f":"Rechnungsblatt!#REF!","v":{"$error":"#REF!"}}]
[{"$f":"Rechnungsblatt!#REF!","v":{"$error":"#REF!"}},{"$f":"Rechnungsblatt!#REF!","v":{"$error":"#REF!"}},{"$f":"Rechnungsblatt!#REF!","v":{"$error":"#REF!"}},null,{"$f":"Rechnungsblatt!#REF!","v":{"$error":"#REF!"}},{"$f":"Rechnungsblatt!#REF!","v":{"$error":"#REF!"}},{"$f":"Rechnungsblatt!#REF!","v":{"$error":"#REF!"}},{"$f":"Rechnungsblatt!#REF!","v":{"$error":"#REF!"}},null,{"$f":"Rechnungsblatt!#REF!","v":{"$error":"#REF!"}},{"$f":"Rechnungsblatt!#REF!","v":{"$error":"#REF!"}},{"$f":"Rechnungsblatt!#REF!","v":{"$error":"#REF!"}},{"$f":"Rechnungsblatt!#REF!","v":{"$error":"#REF!"}}]
[{"$f":"Rechnungsblatt!#REF!","v":{"$error":"#REF!"}},{"$f":"Rechnungsblatt!#REF!","v":{"$error":"#REF!"}},{"$f":"Rechnungsblatt!#REF!","v":{"$error":"#REF!"}},null,{"$f":"Rechnungsblatt!#REF!","v":{"$error":"#REF!"}},{"$f":"Rechnungsblatt!#REF!","v":{"$error":"#REF!"}},{"$f":"Rechnungsblatt!#REF!","v":{"$error":"#REF!"}},{"$f":"Rechnungsblatt!#REF!","v":{"$error":"#REF!"}},null,{"$f":"Rechnungsblatt!#REF!","v":{"$error":"#REF!"}},{"$f":"Rechnungsblatt!#REF!","v":{"$error":"#REF!"}},{"$f":"Rechnungsblatt!#REF!","v":{"$error":"#REF!"}},{"$f":"Rechnungsblatt!#REF!","v":{"$error":"#REF!"}}]
[{"$f":"Rechnungsblatt!#REF!","v":{"$error":"#REF!"}},{"$f":"Rechnungsblatt!#REF!","v":{"$error":"#REF!"}},{"$f":"Rechnungsblatt!#REF!","v":{"$error":"#REF!"}},null,{"$f":"Rechnungsblatt!#REF!","v":{"$error":"#REF!"}},{"$f":"Rechnungsblatt!#REF!","v":{"$error":"#REF!"}},{"$f":"Rechnungsblatt!#REF!","v":{"$error":"#REF!"}},{"$f":"Rechnungsblatt!#REF!","v":{"$error":"#REF!"}},null,{"$f":"Rechnungsblatt!#REF!","v":{"$error":"#REF!"}},{"$f":"Rechnungsblatt!#REF!","v":{"$error":"#REF!"}},{"$f":"Rechnungsblatt!#REF!","v":{"$error":"#REF!"}},{"$f":"Rechnungsblatt!#REF!","v":{"$error":"#REF!"}}]
[{"$f":"Rechnungsblatt!#REF!","v":{"$error":"#REF!"}},{"$f":"Rechnungsblatt!#REF!","v":{"$error":"#REF!"}},{"$f":"Rechnungsblatt!#REF!","v":{"$error":"#REF!"}},null,{"$f":"Rechnungsblatt!#REF!","v":{"$error":"#REF!"}},{"$f":"Rechnungsblatt!#REF!","v":{"$error":"#REF!"}},{"$f":"Rechnungsblatt!#REF!","v":{"$error":"#REF!"}},{"$f":"Rechnungsblatt!#REF!","v":{"$error":"#REF!"}},null,{"$f":"Rechnungsblatt!#REF!","v":{"$error":"#REF!"}},{"$f":"Rechnungsblatt!#REF!","v":{"$error":"#REF!"}},{"$f":"Rechnungsblatt!#REF!","v":{"$error":"#REF!"}},{"$f":"Rechnungsblatt!#REF!","v":{"$error":"#REF!"}}]
[{"$f":"Rechnungsblatt!#REF!","v":{"$error":"#REF!"}},{"$f":"Rechnungsblatt!#REF!","v":{"$error":"#REF!"}},{"$f":"Rechnungsblatt!#REF!","v":{"$error":"#REF!"}},null,{"$f":"Rechnungsblatt!#REF!","v":{"$error":"#REF!"}},{"$f":"Rechnungsblatt!#REF!","v":{"$error":"#REF!"}},{"$f":"Rechnungsblatt!#REF!","v":{"$error":"#REF!"}},{"$f":"Rechnungsblatt!#REF!","v":{"$error":"#REF!"}},null,{"$f":"Rechnungsblatt!#REF!","v":{"$error":"#REF!"}},{"$f":"Rechnungsblatt!#REF!","v":{"$error":"#REF!"}},{"$f":"Rechnungsblatt!#REF!","v":{"$error":"#REF!"}},{"$f":"Rechnungsblatt!#REF!","v":{"$error":"#REF!"}}]
[{"$f":"Rechnungsblatt!#REF!","v":{"$error":"#REF!"}},{"$f":"Rechnungsblatt!#REF!","v":{"$error":"#REF!"}},{"$f":"Rechnungsblatt!#REF!","v":{"$error":"#REF!"}},null,{"$f":"Rechnungsblatt!#REF!","v":{"$error":"#REF!"}},{"$f":"Rechnungsblatt!#REF!","v":{"$error":"#REF!"}},{"$f":"Rechnungsblatt!#REF!","v":{"$error":"#REF!"}},{"$f":"Rechnungsblatt!#REF!","v":{"$error":"#REF!"}},null,{"$f":"Rechnungsblatt!#REF!","v":{"$error":"#REF!"}},{"$f":"Rechnungsblatt!#REF!","v":{"$error":"#REF!"}},{"$f":"Rechnungsblatt!#REF!","v":{"$error":"#REF!"}},{"$f":"Rechnungsblatt!#REF!","v":{"$error":"#REF!"}}]
[{"$f":"Rechnungsblatt!#REF!","v":{"$error":"#REF!"}},{"$f":"Rechnungsblatt!#REF!","v":{"$error":"#REF!"}},{"$f":"Rechnungsblatt!#REF!","v":{"$error":"#REF!"}},null,{"$f":"Rechnungsblatt!#REF!","v":{"$error":"#REF!"}},{"$f":"Rechnungsblatt!#REF!","v":{"$error":"#REF!"}},{"$f":"Rechnungsblatt!#REF!","v":{"$error":"#REF!"}},{"$f":"Rechnungsblatt!#REF!","v":{"$error":"#REF!"}},null,{"$f":"Rechnungsblatt!#REF!","v":{"$error":"#REF!"}},{"$f":"Rechnungsblatt!#REF!","v":{"$error":"#REF!"}},{"$f":"Rechnungsblatt!#REF!","v":{"$error":"#REF!"}},{"$f":"Rechnungsblatt!#REF!","v":{"$error":"#REF!"}}]
[{"$f":"Rechnungsblatt!#REF!","v":{"$error":"#REF!"}},{"$f":"Rechnungsblatt!#REF!","v":{"$error":"#REF!"}},{"$f":"Rechnungsblatt!#REF!","v":{"$error":"#REF!"}},null,{"$f":"Rechnungsblatt!#REF!","v":{"$error":"#REF!"}},{"$f":"Rechnungsblatt!#REF!","v":{"$error":"#REF!"}},{"$f":"Rechnungsblatt!#REF!","v":{"$error":"#REF!"}},{"$f":"Rechnungsblatt!#REF!","v":{"$error":"#REF!"}},null,{"$f":"Rechnungsblatt!#REF!","v":{"$error":"#REF!"}},{"$f":"Rechnungsblatt!#REF!","v":{"$error":"#REF!"}},{"$f":"Rechnungsblatt!#REF!","v":{"$error":"#REF!"}},{"$f":"Rechnungsblatt!#REF!","v":{"$error":"#REF!"}}]
[{"$f":"Rechnungsblatt!#REF!","v":{"$error":"#REF!"}},{"$f":"Rechnungsblatt!#REF!","v":{"$error":"#REF!"}},{"$f":"Rechnungsblatt!#REF!","v":{"$error":"#REF!"}},null,{"$f":"Rechnungsblatt!#REF!","v":{"$error":"#REF!"}},{"$f":"Rechnungsblatt!#REF!","v":{"$error":"#REF!"}},{"$f":"Rechnungsblatt!#REF!","v":{"$error":"#REF!"}},{"$f":"Rechnungsblatt!#REF!","v":{"$error":"#REF!"}},null,{"$f":"Rechnungsblatt!#REF!","v":{"$error":"#REF!"}},{"$f":"Rechnungsblatt!#REF!","v":{"$error":"#REF!"}},{"$f":"Rechnungsblatt!#REF!","v":{"$error":"#REF!"}},{"$f":"Rechnungsblatt!#REF!","v":{"$error":"#REF!"}}]
[{"$f":"Rechnungsblatt!#REF!","v":{"$error":"#REF!"}},{"$f":"Rechnungsblatt!#REF!","v":{"$error":"#REF!"}},{"$f":"Rechnungsblatt!#REF!","v":{"$error":"#REF!"}},null,{"$f":"Rechnungsblatt!#REF!","v":{"$error":"#REF!"}},{"$f":"Rechnungsblatt!#REF!","v":{"$error":"#REF!"}},{"$f":"Rechnungsblatt!#REF!","v":{"$error":"#REF!"}},{"$f":"Rechnungsblatt!#REF!","v":{"$error":"#REF!"}},null,{"$f":"Rechnungsblatt!#REF!","v":{"$error":"#REF!"}},{"$f":"Rechnungsblatt!#REF!","v":{"$error":"#REF!"}},{"$f":"Rechnungsblatt!#REF!","v":{"$error":"#REF!"}},{"$f":"Rechnungsblatt!#REF!","v":{"$error":"#REF!"}}]
[{"$f":"Rechnungsblatt!#REF!","v":{"$error":"#REF!"}},{"$f":"Rechnungsblatt!#REF!","v":{"$error":"#REF!"}},{"$f":"Rechnungsblatt!#REF!","v":{"$error":"#REF!"}},null,{"$f":"Rechnungsblatt!#REF!","v":{"$error":"#REF!"}},{"$f":"Rechnungsblatt!#REF!","v":{"$error":"#REF!"}},{"$f":"Rechnungsblatt!#REF!","v":{"$error":"#REF!"}},{"$f":"Rechnungsblatt!#REF!","v":{"$error":"#REF!"}},null,{"$f":"Rechnungsblatt!#REF!","v":{"$error":"#REF!"}},{"$f":"Rechnungsblatt!#REF!","v":{"$error":"#REF!"}},{"$f":"Rechnungsblatt!#REF!","v":{"$error":"#REF!"}},{"$f":"Rechnungsblatt!#REF!","v":{"$error":"#REF!"}}]
[{"$f":"Rechnungsblatt!#REF!","v":{"$error":"#REF!"}},{"$f":"Rechnungsblatt!#REF!","v":{"$error":"#REF!"}},{"$f":"Rechnungsblatt!#REF!","v":{"$error":"#REF!"}},null,{"$f":"Rechnungsblatt!#REF!","v":{"$error":"#REF!"}},{"$f":"Rechnungsblatt!#REF!","v":{"$error":"#REF!"}},{"$f":"Rechnungsblatt!#REF!","v":{"$error":"#REF!"}},{"$f":"Rechnungsblatt!#REF!","v":{"$error":"#REF!"}},null,{"$f":"Rechnungsblatt!#REF!","v":{"$error":"#REF!"}},{"$f":"Rechnungsblatt!#REF!","v":{"$error":"#REF!"}},{"$f":"Rechnungsblatt!#REF!","v":{"$error":"#REF!"}},{"$f":"Rechnungsblatt!#REF!","v":{"$error":"#REF!"}}]
[{"$f":"Rechnungsblatt!#REF!","v":{"$error":"#REF!"}},{"$f":"Rechnungsblatt!#REF!","v":{"$error":"#REF!"}},{"$f":"Rechnungsblatt!#REF!","v":{"$error":"#REF!"}},null,{"$f":"Rechnungsblatt!#REF!","v":{"$error":"#REF!"}},{"$f":"Rechnungsblatt!#REF!","v":{"$error":"#REF!"}},{"$f":"Rechnungsblatt!#REF!","v":{"$error":"#REF!"}},{"$f":"Rechnungsblatt!#REF!","v":{"$error":"#REF!"}},null,{"$f":"Rechnungsblatt!#REF!","v":{"$error":"#REF!"}},{"$f":"Rechnungsblatt!#REF!","v":{"$error":"#REF!"}},{"$f":"Rechnungsblatt!#REF!","v":{"$error":"#REF!"}},{"$f":"Rechnungsblatt!#REF!","v":{"$error":"#REF!"}}]
[{"$f":"Rechnungsblatt!#REF!","v":{"$error":"#REF!"}},{"$f":"Rechnungsblatt!#REF!","v":{"$error":"#REF!"}},{"$f":"Rechnungsblatt!#REF!","v":{"$error":"#REF!"}},null,{"$f":"Rechnungsblatt!#REF!","v":{"$error":"#REF!"}},{"$f":"Rechnungsblatt!#REF!","v":{"$error":"#REF!"}},{"$f":"Rechnungsblatt!#REF!","v":{"$error":"#REF!"}},{"$f":"Rechnungsblatt!#REF!","v":{"$error":"#REF!"}},null,{"$f":"Rechnungsblatt!#REF!","v":{"$error":"#REF!"}},{"$f":"Rechnungsblatt!#REF!","v":{"$error":"#REF!"}},{"$f":"Rechnungsblatt!#REF!","v":{"$error":"#REF!"}},{"$f":"Rechnungsblatt!#REF!","v":{"$error":"#REF!"}}]
[{"$f":"Rechnungsblatt!#REF!","v":{"$error":"#REF!"}},{"$f":"Rechnungsblatt!#REF!","v":{"$error":"#REF!"}},{"$f":"Rechnungsblatt!#REF!","v":{"$error":"#REF!"}},null,{"$f":"Rechnungsblatt!#REF!","v":{"$error":"#REF!"}},{"$f":"Rechnungsblatt!#REF!","v":{"$error":"#REF!"}},{"$f":"Rechnungsblatt!#REF!","v":{"$error":"#REF!"}},{"$f":"Rechnungsblatt!#REF!","v":{"$error":"#REF!"}},null,{"$f":"Rechnungsblatt!#REF!","v":{"$error":"#REF!"}},{"$f":"Rechnungsblatt!#REF!","v":{"$error":"#REF!"}},{"$f":"Rechnungsblatt!#REF!","v":{"$error":"#REF!"}},{"$f":"Rechnungsblatt!#REF!","v":{"$error":"#REF!"}}]
[{"$f":"Rechnungsblatt!#REF!","v":{"$error":"#REF!"}},{"$f":"Rechnungsblatt!#REF!","v":{"$error":"#REF!"}},{"$f":"Rechnungsblatt!#REF!","v":{"$error":"#REF!"}},null,{"$f":"Rechnungsblatt!#REF!","v":{"$error":"#REF!"}},{"$f":"Rechnungsblatt!#REF!","v":{"$error":"#REF!"}},{"$f":"Rechnungsblatt!#REF!","v":{"$error":"#REF!"}},{"$f":"Rechnungsblatt!#REF!","v":{"$error":"#REF!"}},null,{"$f":"Rechnungsblatt!#REF!","v":{"$error":"#REF!"}},{"$f":"Rechnungsblatt!#REF!","v":{"$error":"#REF!"}},{"$f":"Rechnungsblatt!#REF!","v":{"$error":"#REF!"}},{"$f":"Rechnungsblatt!#REF!","v":{"$error":"#REF!"}}]
[{"$f":"Rechnungsblatt!#REF!","v":{"$error":"#REF!"}},{"$f":"Rechnungsblatt!#REF!","v":{"$error":"#REF!"}},{"$f":"Rechnungsblatt!#REF!","v":{"$error":"#REF!"}},null,{"$f":"Rechnungsblatt!#REF!","v":{"$error":"#REF!"}},{"$f":"Rechnungsblatt!#REF!","v":{"$error":"#REF!"}},{"$f":"Rechnungsblatt!#REF!","v":{"$error":"#REF!"}},{"$f":"Rechnungsblatt!#REF!","v":{"$error":"#REF!"}},null,{"$f":"Rechnungsblatt!#REF!","v":{"$error":"#REF!"}},{"$f":"Rechnungsblatt!#REF!","v":{"$error":"#REF!"}},{"$f":"Rechnungsblatt!#REF!","v":{"$error":"#REF!"}},{"$f":"Rechnungsblatt!#REF!","v":{"$error":"#REF!"}}]
[{"$f":"Rechnungsblatt!#REF!","v":{"$error":"#REF!"}},{"$f":"Rechnungsblatt!#REF!","v":{"$error":"#REF!"}},{"$f":"Rechnungsblatt!#REF!","v":{"$error":"#REF!"}},null,{"$f":"Rechnungsblatt!#REF!","v":{"$error":"#REF!"}},{"$f":"Rechnungsblatt!#REF!","v":{"$error":"#REF!"}},{"$f":"Rechnungsblatt!#REF!","v":{"$error":"#REF!"}},{"$f":"Rechnungsblatt!#REF!","v":{"$error":"#REF!"}},null,{"$f":"Rechnungsblatt!#REF!","v":{"$error":"#REF!"}},{"$f":"Rechnungsblatt!#REF!","v":{"$error":"#REF!"}},{"$f":"Rechnungsblatt!#REF!","v":{"$error":"#REF!"}},{"$f":"Rechnungsblatt!#REF!","v":{"$error":"#REF!"}}]
[{"$f":"Rechnungsblatt!#REF!","v":{"$error":"#REF!"}},{"$f":"Rechnungsblatt!#REF!","v":{"$error":"#REF!"}},{"$f":"Rechnungsblatt!#REF!","v":{"$error":"#REF!"}},null,{"$f":"Rechnungsblatt!#REF!","v":{"$error":"#REF!"}},{"$f":"Rechnungsblatt!#REF!","v":{"$error":"#REF!"}},{"$f":"Rechnungsblatt!#REF!","v":{"$error":"#REF!"}},{"$f":"Rechnungsblatt!#REF!","v":{"$error":"#REF!"}},null,{"$f":"Rechnungsblatt!#REF!","v":{"$error":"#REF!"}},{"$f":"Rechnungsblatt!#REF!","v":{"$error":"#REF!"}},{"$f":"Rechnungsblatt!#REF!","v":{"$error":"#REF!"}},{"$f":"Rechnungsblatt!#REF!","v":{"$error":"#REF!"}}]
[{"$f":"Rechnungsblatt!#REF!","v":{"$error":"#REF!"}},{"$f":"Rechnungsblatt!#REF!","v":{"$error":"#REF!"}},{"$f":"Rechnungsblatt!#REF!","v":{"$error":"#REF!"}},null,{"$f":"Rechnungsblatt!#REF!","v":{"$error":"#REF!"}},{"$f":"Rechnungsblatt!#REF!","v":{"$error":"#REF!"}},{"$f":"Rechnungsblatt!#REF!","v":{"$error":"#REF!"}},{"$f":"Rechnungsblatt!#REF!","v":{"$error":"#REF!"}},null,{"$f":"Rechnungsblatt!#REF!","v":{"$error":"#REF!"}},{"$f":"Rechnungsblatt!#REF!","v":{"$error":"#REF!"}},{"$f":"Rechnungsblatt!#REF!","v":{"$error":"#REF!"}},{"$f":"Rechnungsblatt!#REF!","v":{"$error":"#REF!"}}]
[{"$f":"Rechnungsblatt!#REF!","v":{"$error":"#REF!"}},{"$f":"Rechnungsblatt!#REF!","v":{"$error":"#REF!"}},{"$f":"Rechnungsblatt!#REF!","v":{"$error":"#REF!"}},null,{"$f":"Rechnungsblatt!#REF!","v":{"$error":"#REF!"}},{"$f":"Rechnungsblatt!#REF!","v":{"$error":"#REF!"}},{"$f":"Rechnungsblatt!#REF!","v":{"$error":"#REF!"}},{"$f":"Rechnungsblatt!#REF!","v":{"$error":"#REF!"}},null,{"$f":"Rechnungsblatt!#REF!","v":{"$error":"#REF!"}},{"$f":"Rechnungsblatt!#REF!","v":{"$error":"#REF!"}},{"$f":"Rechnungsblatt!#REF!","v":{"$error":"#REF!"}},{"$f":"Rechnungsblatt!#REF!","v":{"$error":"#REF!"}}]
[{"$f":"Rechnungsblatt!#REF!","v":{"$error":"#REF!"}},{"$f":"Rechnungsblatt!#REF!","v":{"$error":"#REF!"}},{"$f":"Rechnungsblatt!#REF!","v":{"$error":"#REF!"}},null,{"$f":"Rechnungsblatt!#REF!","v":{"$error":"#REF!"}},{"$f":"Rechnungsblatt!#REF!","v":{"$error":"#REF!"}},{"$f":"Rechnungsblatt!#REF!","v":{"$error":"#REF!"}},{"$f":"Rechnungsblatt!#REF!","v":{"$error":"#REF!"}},null,{"$f":"Rechnungsblatt!#REF!","v":{"$error":"#REF!"}},{"$f":"Rechnungsblatt!#REF!","v":{"$error":"#REF!"}},{"$f":"Rechnungsblatt!#REF!","v":{"$error":"#REF!"}},{"$f":"Rechnungsblatt!#REF!","v":{"$error":"#REF!"}}]
[{"$f":"Rechnungsblatt!#REF!","v":{"$error":"#REF!"}},{"$f":"Rechnungsblatt!#REF!","v":{"$error":"#REF!"}},{"$f":"Rechnungsblatt!#REF!","v":{"$error":"#REF!"}},null,{"$f":"Rechnungsblatt!#REF!","v":{"$error":"#REF!"}},{"$f":"Rechnungsblatt!#REF!","v":{"$error":"#REF!"}},{"$f":"Rechnungsblatt!#REF!","v":{"$error":"#REF!"}},{"$f":"Rechnungsblatt!#REF!","v":{"$error":"#REF!"}},null,{"$f":"Rechnungsblatt!#REF!","v":{"$error":"#REF!"}},{"$f":"Rechnungsblatt!#REF!","v":{"$error":"#REF!"}},{"$f":"Rechnungsblatt!#REF!","v":{"$error":"#REF!"}},{"$f":"Rechnungsblatt!#REF!","v":{"$error":"#REF!"}}]
[{"$f":"Rechnungsblatt!#REF!","v":{"$error":"#REF!"}},{"$f":"Rechnungsblatt!#REF!","v":{"$error":"#REF!"}},{"$f":"Rechnungsblatt!#REF!","v":{"$error":"#REF!"}},null,{"$f":"Rechnungsblatt!#REF!","v":{"$error":"#REF!"}},{"$f":"Rechnungsblatt!#REF!","v":{"$error":"#REF!"}},{"$f":"Rechnungsblatt!#REF!","v":{"$error":"#REF!"}},{"$f":"Rechnungsblatt!#REF!","v":{"$error":"#REF!"}},null,{"$f":"Rechnungsblatt!#REF!","v":{"$error":"#REF!"}},{"$f":"Rechnungsblatt!#REF!","v":{"$error":"#REF!"}},{"$f":"Rechnungsblatt!#REF!","v":{"$error":"#REF!"}},{"$f":"Rechnungsblatt!#REF!","v":{"$error":"#REF!"}}]
[{"$f":"Rechnungsblatt!#REF!","v":{"$error":"#REF!"}},{"$f":"Rechnungsblatt!#REF!","v":{"$error":"#REF!"}},{"$f":"Rechnungsblatt!#REF!","v":{"$error":"#REF!"}},null,{"$f":"Rechnungsblatt!#REF!","v":{"$error":"#REF!"}},{"$f":"Rechnungsblatt!#REF!","v":{"$error":"#REF!"}},{"$f":"Rechnungsblatt!#REF!","v":{"$error":"#REF!"}},{"$f":"Rechnungsblatt!#REF!","v":{"$error":"#REF!"}},null,{"$f":"Rechnungsblatt!#REF!","v":{"$error":"#REF!"}},{"$f":"Rechnungsblatt!#REF!","v":{"$error":"#REF!"}},{"$f":"Rechnungsblatt!#REF!","v":{"$error":"#REF!"}},{"$f":"Rechnungsblatt!#REF!","v":{"$error":"#REF!"}}]
[{"$f":"Rechnungsblatt!#REF!","v":{"$error":"#REF!"}},{"$f":"Rechnungsblatt!#REF!","v":{"$error":"#REF!"}},{"$f":"Rechnungsblatt!#REF!","v":{"$error":"#REF!"}},null,{"$f":"Rechnungsblatt!#REF!","v":{"$error":"#REF!"}},{"$f":"Rechnungsblatt!#REF!","v":{"$error":"#REF!"}},{"$f":"Rechnungsblatt!#REF!","v":{"$error":"#REF!"}},{"$f":"Rechnungsblatt!#REF!","v":{"$error":"#REF!"}},null,{"$f":"Rechnungsblatt!#REF!","v":{"$error":"#REF!"}},{"$f":"Rechnungsblatt!#REF!","v":{"$error":"#REF!"}},{"$f":"Rechnungsblatt!#REF!","v":{"$error":"#REF!"}},{"$f":"Rechnungsblatt!#REF!","v":{"$error":"#REF!"}}]
[{"$f":"Rechnungsblatt!#REF!","v":{"$error":"#REF!"}},{"$f":"Rechnungsblatt!#REF!","v":{"$error":"#REF!"}},{"$f":"Rechnungsblatt!#REF!","v":{"$error":"#REF!"}},null,{"$f":"Rechnungsblatt!#REF!","v":{"$error":"#REF!"}},{"$f":"Rechnungsblatt!#REF!","v":{"$error":"#REF!"}},{"$f":"Rechnungsblatt!#REF!","v":{"$error":"#REF!"}},{"$f":"Rechnungsblatt!#REF!","v":{"$error":"#REF!"}},null,{"$f":"Rechnungsblatt!#REF!","v":{"$error":"#REF!"}},{"$f":"Rechnungsblatt!#REF!","v":{"$error":"#REF!"}},{"$f":"Rechnungsblatt!#REF!","v":{"$error":"#REF!"}},{"$f":"Rechnungsblatt!#REF!","v":{"$error":"#REF!"}}]
[{"$f":"Rechnungsblatt!#REF!","v":{"$error":"#REF!"}},{"$f":"Rechnungsblatt!#REF!","v":{"$error":"#REF!"}},{"$f":"Rechnungsblatt!#REF!","v":{"$error":"#REF!"}},null,{"$f":"Rechnungsblatt!#REF!","v":{"$error":"#REF!"}},{"$f":"Rechnungsblatt!#REF!","v":{"$error":"#REF!"}},{"$f":"Rechnungsblatt!#REF!","v":{"$error":"#REF!"}},{"$f":"Rechnungsblatt!#REF!","v":{"$error":"#REF!"}},null,{"$f":"Rechnungsblatt!#REF!","v":{"$error":"#REF!"}},{"$f":"Rechnungsblatt!#REF!","v":{"$error":"#REF!"}},{"$f":"Rechnungsblatt!#REF!","v":{"$error":"#REF!"}},{"$f":"Rechnungsblatt!#REF!","v":{"$error":"#REF!"}}]
[{"$f":"Rechnungsblatt!#REF!","v":{"$error":"#REF!"}},{"$f":"Rechnungsblatt!#REF!","v":{"$error":"#REF!"}},{"$f":"Rechnungsblatt!#REF!","v":{"$error":"#REF!"}},null,{"$f":"Rechnungsblatt!#REF!","v":{"$error":"#REF!"}},{"$f":"Rechnungsblatt!#REF!","v":{"$error":"#REF!"}},{"$f":"Rechnungsblatt!#REF!","v":{"$error":"#REF!"}},{"$f":"Rechnungsblatt!#REF!","v":{"$error":"#REF!"}},null,{"$f":"Rechnungsblatt!#REF!","v":{"$error":"#REF!"}},{"$f":"Rechnungsblatt!#REF!","v":{"$error":"#REF!"}},{"$f":"Rechnungsblatt!#REF!","v":{"$error":"#REF!"}},{"$f":"Rechnungsblatt!#REF!","v":{"$error":"#REF!"}}]
[{"$f":"Rechnungsblatt!#REF!","v":{"$error":"#REF!"}},{"$f":"Rechnungsblatt!#REF!","v":{"$error":"#REF!"}},{"$f":"Rechnungsblatt!#REF!","v":{"$error":"#REF!"}},null,{"$f":"Rechnungsblatt!#REF!","v":{"$error":"#REF!"}},{"$f":"Rechnungsblatt!#REF!","v":{"$error":"#REF!"}},{"$f":"Rechnungsblatt!#REF!","v":{"$error":"#REF!"}},{"$f":"Rechnungsblatt!#REF!","v":{"$error":"#REF!"}},null,{"$f":"Rechnungsblatt!#REF!","v":{"$error":"#REF!"}},{"$f":"Rechnungsblatt!#REF!","v":{"$error":"#REF!"}},{"$f":"Rechnungsblatt!#REF!","v":{"$error":"#REF!"}},{"$f":"Rechnungsblatt!#REF!","v":{"$error":"#REF!"}}]
[{"$f":"Rechnungsblatt!#REF!","v":{"$error":"#REF!"}},{"$f":"Rechnungsblatt!#REF!","v":{"$error":"#REF!"}},{"$f":"Rechnungsblatt!#REF!","v":{"$error":"#REF!"}},null,{"$f":"Rechnungsblatt!#REF!","v":{"$error":"#REF!"}},{"$f":"Rechnungsblatt!#REF!","v":{"$error":"#REF!"}},{"$f":"Rechnungsblatt!#REF!","v":{"$error":"#REF!"}},{"$f":"Rechnungsblatt!#REF!","v":{"$error":"#REF!"}},null,{"$f":"Rechnungsblatt!#REF!","v":{"$error":"#REF!"}},{"$f":"Rechnungsblatt!#REF!","v":{"$error":"#REF!"}},{"$f":"Rechnungsblatt!#REF!","v":{"$error":"#REF!"}},{"$f":"Rechnungsblatt!#REF!","v":{"$error":"#REF!"}}]
[{"$f":"Rechnungsblatt!#REF!","v":{"$error":"#REF!"}},{"$f":"Rechnungsblatt!#REF!","v":{"$error":"#REF!"}},{"$f":"Rechnungsblatt!#REF!","v":{"$error":"#REF!"}},null,{"$f":"Rechnungsblatt!#REF!","v":{"$error":"#REF!"}},{"$f":"Rechnungsblatt!#REF!","v":{"$error":"#REF!"}},{"$f":"Rechnungsblatt!#REF!","v":{"$error":"#REF!"}},{"$f":"Rechnungsblatt!#REF!","v":{"$error":"#REF!"}},null,{"$f":"Rechnungsblatt!#REF!","v":{"$error":"#REF!"}},{"$f":"Rechnungsblatt!#REF!","v":{"$error":"#REF!"}},{"$f":"Rechnungsblatt!#REF!","v":{"$error":"#REF!"}},{"$f":"Rechnungsblatt!#REF!","v":{"$error":"#REF!"}}]
[{"$f":"Rechnungsblatt!#REF!","v":{"$error":"#REF!"}},{"$f":"Rechnungsblatt!#REF!","v":{"$error":"#REF!"}},{"$f":"Rechnungsblatt!#REF!","v":{"$error":"#REF!"}},null,{"$f":"Rechnungsblatt!#REF!","v":{"$error":"#REF!"}},{"$f":"Rechnungsblatt!#REF!","v":{"$error":"#REF!"}},{"$f":"Rechnungsblatt!#REF!","v":{"$error":"#REF!"}},{"$f":"Rechnungsblatt!#REF!","v":{"$error":"#REF!"}},null,{"$f":"Rechnungsblatt!#REF!","v":{"$error":"#REF!"}},{"$f":"Rechnungsblatt!#REF!","v":{"$error":"#REF!"}},{"$f":"Rechnungsblatt!#REF!","v":{"$error":"#REF!"}},{"$f":"Rechnungsblatt!#REF!","v":{"$error":"#REF!"}}]
[{"$f":"Rechnungsblatt!#REF!","v":{"$error":"#REF!"}},{"$f":"Rechnungsblatt!#REF!","v":{"$error":"#REF!"}},{"$f":"Rechnungsblatt!#REF!","v":{"$error":"#REF!"}},null,{"$f":"Rechnungsblatt!#REF!","v":{"$error":"#REF!"}},{"$f":"Rechnungsblatt!#REF!","v":{"$error":"#REF!"}},{"$f":"Rechnungsblatt!#REF!","v":{"$error":"#REF!"}},{"$f":"Rechnungsblatt!#REF!","v":{"$error":"#REF!"}},null,{"$f":"Rechnungsblatt!#REF!","v":{"$error":"#REF!"}},{"$f":"Rechnungsblatt!#REF!","v":{"$error":"#REF!"}},{"$f":"Rechnungsblatt!#REF!","v":{"$error":"#REF!"}},{"$f":"Rechnungsblatt!#REF!","v":{"$error":"#REF!"}}]
[{"$f":"Rechnungsblatt!#REF!","v":{"$error":"#REF!"}},{"$f":"Rechnungsblatt!#REF!","v":{"$error":"#REF!"}},{"$f":"Rechnungsblatt!#REF!","v":{"$error":"#REF!"}},null,{"$f":"Rechnungsblatt!#REF!","v":{"$error":"#REF!"}},{"$f":"Rechnungsblatt!#REF!","v":{"$error":"#REF!"}},{"$f":"Rechnungsblatt!#REF!","v":{"$error":"#REF!"}},{"$f":"Rechnungsblatt!#REF!","v":{"$error":"#REF!"}},null,{"$f":"Rechnungsblatt!#REF!","v":{"$error":"#REF!"}},{"$f":"Rechnungsblatt!#REF!","v":{"$error":"#REF!"}},{"$f":"Rechnungsblatt!#REF!","v":{"$error":"#REF!"}},{"$f":"Rechnungsblatt!#REF!","v":{"$error":"#REF!"}}]
[{"$f":"Rechnungsblatt!#REF!","v":{"$error":"#REF!"}},{"$f":"Rechnungsblatt!#REF!","v":{"$error":"#REF!"}},{"$f":"Rechnungsblatt!#REF!","v":{"$error":"#REF!"}},null,{"$f":"Rechnungsblatt!#REF!","v":{"$error":"#REF!"}},{"$f":"Rechnungsblatt!#REF!","v":{"$error":"#REF!"}},{"$f":"Rechnungsblatt!#REF!","v":{"$error":"#REF!"}},{"$f":"Rechnungsblatt!#REF!","v":{"$error":"#REF!"}},null,{"$f":"Rechnungsblatt!#REF!","v":{"$error":"#REF!"}},{"$f":"Rechnungsblatt!#REF!","v":{"$error":"#REF!"}},{"$f":"Rechnungsblatt!#REF!","v":{"$error":"#REF!"}},{"$f":"Rechnungsblatt!#REF!","v":{"$error":"#REF!"}}]
[{"$f":"Rechnungsblatt!#REF!","v":{"$error":"#REF!"}},{"$f":"Rechnungsblatt!#REF!","v":{"$error":"#REF!"}},{"$f":"Rechnungsblatt!#REF!","v":{"$error":"#REF!"}},null,{"$f":"Rechnungsblatt!#REF!","v":{"$error":"#REF!"}},{"$f":"Rechnungsblatt!#REF!","v":{"$error":"#REF!"}},{"$f":"Rechnungsblatt!#REF!","v":{"$error":"#REF!"}},{"$f":"Rechnungsblatt!#REF!","v":{"$error":"#REF!"}},null,{"$f":"Rechnungsblatt!#REF!","v":{"$error":"#REF!"}},{"$f":"Rechnungsblatt!#REF!","v":{"$error":"#REF!"}},{"$f":"Rechnungsblatt!#REF!","v":{"$error":"#REF!"}},{"$f":"Rechnungsblatt!#REF!","v":{"$error":"#REF!"}}]
[{"$f":"Rechnungsblatt!#REF!","v":{"$error":"#REF!"}},{"$f":"Rechnungsblatt!#REF!","v":{"$error":"#REF!"}},{"$f":"Rechnungsblatt!#REF!","v":{"$error":"#REF!"}},null,{"$f":"Rechnungsblatt!#REF!","v":{"$error":"#REF!"}},{"$f":"Rechnungsblatt!#REF!","v":{"$error":"#REF!"}},{"$f":"Rechnungsblatt!#REF!","v":{"$error":"#REF!"}},{"$f":"Rechnungsblatt!#REF!","v":{"$error":"#REF!"}},null,{"$f":"Rechnungsblatt!#REF!","v":{"$error":"#REF!"}},{"$f":"Rechnungsblatt!#REF!","v":{"$error":"#REF!"}},{"$f":"Rechnungsblatt!#REF!","v":{"$error":"#REF!"}},{"$f":"Rechnungsblatt!#REF!","v":{"$error":"#REF!"}}]
[{"$f":"Rechnungsblatt!#REF!","v":{"$error":"#REF!"}},{"$f":"Rechnungsblatt!#REF!","v":{"$error":"#REF!"}},{"$f":"Rechnungsblatt!#REF!","v":{"$error":"#REF!"}},null,{"$f":"Rechnungsblatt!#REF!","v":{"$error":"#REF!"}},{"$f":"Rechnungsblatt!#REF!","v":{"$error":"#REF!"}},{"$f":"Rechnungsblatt!#REF!","v":{"$error":"#REF!"}},{"$f":"Rechnungsblatt!#REF!","v":{"$error":"#REF!"}},null,{"$f":"Rechnungsblatt!#REF!","v":{"$error":"#REF!"}},{"$f":"Rechnungsblatt!#REF!","v":{"$error":"#REF!"}},{"$f":"Rechnungsblatt!#REF!","v":{"$error":"#REF!"}},{"$f":"Rechnungsblatt!#REF!","v":{"$error":"#REF!"}}]
[{"$f":"Rechnungsblatt!#REF!","v":{"$error":"#REF!"}},{"$f":"Rechnungsblatt!#REF!","v":{"$error":"#REF!"}},{"$f":"Rechnungsblatt!#REF!","v":{"$error":"#REF!"}},null,{"$f":"Rechnungsblatt!#REF!","v":{"$error":"#REF!"}},{"$f":"Rechnungsblatt!#REF!","v":{"$error":"#REF!"}},{"$f":"Rechnungsblatt!#REF!","v":{"$error":"#REF!"}},{"$f":"Rechnungsblatt!#REF!","v":{"$error":"#REF!"}},null,{"$f":"Rechnungsblatt!#REF!","v":{"$error":"#REF!"}},{"$f":"Rechnungsblatt!#REF!","v":{"$error":"#REF!"}},{"$f":"Rechnungsblatt!#REF!","v":{"$error":"#REF!"}},{"$f":"Rechnungsblatt!#REF!","v":{"$error":"#REF!"}}]
[{"$f":"Rechnungsblatt!#REF!","v":{"$error":"#REF!"}},{"$f":"Rechnungsblatt!#REF!","v":{"$error":"#REF!"}},{"$f":"Rechnungsblatt!#REF!","v":{"$error":"#REF!"}},null,{"$f":"Rechnungsblatt!#REF!","v":{"$error":"#REF!"}},{"$f":"Rechnungsblatt!#REF!","v":{"$error":"#REF!"}},{"$f":"Rechnungsblatt!#REF!","v":{"$error":"#REF!"}},{"$f":"Rechnungsblatt!#REF!","v":{"$error":"#REF!"}},null,{"$f":"Rechnungsblatt!#REF!","v":{"$error":"#REF!"}},{"$f":"Rechnungsblatt!#REF!","v":{"$error":"#REF!"}},{"$f":"Rechnungsblatt!#REF!","v":{"$error":"#REF!"}},{"$f":"Rechnungsblatt!#REF!","v":{"$error":"#REF!"}}]
[{"$f":"Rechnungsblatt!#REF!","v":{"$error":"#REF!"}},{"$f":"Rechnungsblatt!#REF!","v":{"$error":"#REF!"}},{"$f":"Rechnungsblatt!#REF!","v":{"$error":"#REF!"}},null,{"$f":"Rechnungsblatt!#REF!","v":{"$error":"#REF!"}},{"$f":"Rechnungsblatt!#REF!","v":{"$error":"#REF!"}},{"$f":"Rechnungsblatt!#REF!","v":{"$error":"#REF!"}},{"$f":"Rechnungsblatt!#REF!","v":{"$error":"#REF!"}},null,{"$f":"Rechnungsblatt!#REF!","v":{"$error":"#REF!"}},{"$f":"Rechnungsblatt!#REF!","v":{"$error":"#REF!"}},{"$f":"Rechnungsblatt!#REF!","v":{"$error":"#REF!"}},{"$f":"Rechnungsblatt!#REF!","v":{"$error":"#REF!"}}]
[{"$f":"Rechnungsblatt!#REF!","v":{"$error":"#REF!"}},{"$f":"Rechnungsblatt!#REF!","v":{"$error":"#REF!"}},{"$f":"Rechnungsblatt!#REF!","v":{"$error":"#REF!"}},null,{"$f":"Rechnungsblatt!#REF!","v":{"$error":"#REF!"}},{"$f":"Rechnungsblatt!#REF!","v":{"$error":"#REF!"}},{"$f":"Rechnungsblatt!#REF!","v":{"$error":"#REF!"}},{"$f":"Rechnungsblatt!#REF!","v":{"$error":"#REF!"}},null,{"$f":"Rechnungsblatt!#REF!","v":{"$error":"#REF!"}},{"$f":"Rechnungsblatt!#REF!","v":{"$error":"#REF!"}},{"$f":"Rechnungsblatt!#REF!","v":{"$error":"#REF!"}},{"$f":"Rechnungsblatt!#REF!","v":{"$error":"#REF!"}}]
[{"$f":"Rechnungsblatt!#REF!","v":{"$error":"#REF!"}},{"$f":"Rechnungsblatt!#REF!","v":{"$error":"#REF!"}},{"$f":"Rechnungsblatt!#REF!","v":{"$error":"#REF!"}},null,{"$f":"Rechnungsblatt!#REF!","v":{"$error":"#REF!"}},{"$f":"Rechnungsblatt!#REF!","v":{"$error":"#REF!"}},{"$f":"Rechnungsblatt!#REF!","v":{"$error":"#REF!"}},{"$f":"Rechnungsblatt!#REF!","v":{"$error":"#REF!"}},null,{"$f":"Rechnungsblatt!#REF!","v":{"$error":"#REF!"}},{"$f":"Rechnungsblatt!#REF!","v":{"$error":"#REF!"}},{"$f":"Rechnungsblatt!#REF!","v":{"$error":"#REF!"}},{"$f":"Rechnungsblatt!#REF!","v":{"$error":"#REF!"}}]
[{"$f":"Rechnungsblatt!#REF!","v":{"$error":"#REF!"}},{"$f":"Rechnungsblatt!#REF!","v":{"$error":"#REF!"}},{"$f":"Rechnungsblatt!#REF!","v":{"$error":"#REF!"}},null,{"$f":"Rechnungsblatt!#REF!","v":{"$error":"#REF!"}},{"$f":"Rechnungsblatt!#REF!","v":{"$error":"#REF!"}},{"$f":"Rechnungsblatt!#REF!","v":{"$error":"#REF!"}},{"$f":"Rechnungsblatt!#REF!","v":{"$error":"#REF!"}},null,{"$f":"Rechnungsblatt!#REF!","v":{"$error":"#REF!"}},{"$f":"Rechnungsblatt!#REF!","v":{"$error":"#REF!"}},{"$f":"Rechnungsblatt!#REF!","v":{"$error":"#REF!"}},{"$f":"Rechnungsblatt!#REF!","v":{"$error":"#REF!"}}]
[{"$f":"Rechnungsblatt!#REF!","v":{"$error":"#REF!"}},{"$f":"Rechnungsblatt!#REF!","v":{"$error":"#REF!"}},{"$f":"Rechnungsblatt!#REF!","v":{"$error":"#REF!"}},null,{"$f":"Rechnungsblatt!#REF!","v":{"$error":"#REF!"}},{"$f":"Rechnungsblatt!#REF!","v":{"$error":"#REF!"}},{"$f":"Rechnungsblatt!#REF!","v":{"$error":"#REF!"}},{"$f":"Rechnungsblatt!#REF!","v":{"$error":"#REF!"}},null,{"$f":"Rechnungsblatt!#REF!","v":{"$error":"#REF!"}},{"$f":"Rechnungsblatt!#REF!","v":{"$error":"#REF!"}},{"$f":"Rechnungsblatt!#REF!","v":{"$error":"#REF!"}},{"$f":"Rechnungsblatt!#REF!","v":{"$error":"#REF!"}}]
[{"$f":"Rechnungsblatt!#REF!","v":{"$error":"#REF!"}},{"$f":"Rechnungsblatt!#REF!","v":{"$error":"#REF!"}},{"$f":"Rechnungsblatt!#REF!","v":{"$error":"#REF!"}},null,{"$f":"Rechnungsblatt!#REF!","v":{"$error":"#REF!"}},{"$f":"Rechnungsblatt!#REF!","v":{"$error":"#REF!"}},{"$f":"Rechnungsblatt!#REF!","v":{"$error":"#REF!"}},{"$f":"Rechnungsblatt!#REF!","v":{"$error":"#REF!"}},null,{"$f":"Rechnungsblatt!#REF!","v":{"$error":"#REF!"}},{"$f":"Rechnungsblatt!#REF!","v":{"$error":"#REF!"}},{"$f":"Rechnungsblatt!#REF!","v":{"$error":"#REF!"}},{"$f":"Rechnungsblatt!#REF!","v":{"$error":"#REF!"}}]
[{"$f":"Rechnungsblatt!#REF!","v":{"$error":"#REF!"}},{"$f":"Rechnungsblatt!#REF!","v":{"$error":"#REF!"}},{"$f":"Rechnungsblatt!#REF!","v":{"$error":"#REF!"}},null,{"$f":"Rechnungsblatt!#REF!","v":{"$error":"#REF!"}},{"$f":"Rechnungsblatt!#REF!","v":{"$error":"#REF!"}},{"$f":"Rechnungsblatt!#REF!","v":{"$error":"#REF!"}},{"$f":"Rechnungsblatt!#REF!","v":{"$error":"#REF!"}},null,{"$f":"Rechnungsblatt!#REF!","v":{"$error":"#REF!"}},{"$f":"Rechnungsblatt!#REF!","v":{"$error":"#REF!"}},{"$f":"Rechnungsblatt!#REF!","v":{"$error":"#REF!"}},{"$f":"Rechnungsblatt!#REF!","v":{"$error":"#REF!"}}]
[{"$f":"Rechnungsblatt!#REF!","v":{"$error":"#REF!"}},{"$f":"Rechnungsblatt!#REF!","v":{"$error":"#REF!"}},{"$f":"Rechnungsblatt!#REF!","v":{"$error":"#REF!"}},null,{"$f":"Rechnungsblatt!#REF!","v":{"$error":"#REF!"}},{"$f":"Rechnungsblatt!#REF!","v":{"$error":"#REF!"}},{"$f":"Rechnungsblatt!#REF!","v":{"$error":"#REF!"}},{"$f":"Rechnungsblatt!#REF!","v":{"$error":"#REF!"}},null,{"$f":"Rechnungsblatt!#REF!","v":{"$error":"#REF!"}},{"$f":"Rechnungsblatt!#REF!","v":{"$error":"#REF!"}},{"$f":"Rechnungsblatt!#REF!","v":{"$error":"#REF!"}},{"$f":"Rechnungsblatt!#REF!","v":{"$error":"#REF!"}}]
[{"$f":"Rechnungsblatt!#REF!","v":{"$error":"#REF!"}},{"$f":"Rechnungsblatt!#REF!","v":{"$error":"#REF!"}},{"$f":"Rechnungsblatt!#REF!","v":{"$error":"#REF!"}},null,{"$f":"Rechnungsblatt!#REF!","v":{"$error":"#REF!"}},{"$f":"Rechnungsblatt!#REF!","v":{"$error":"#REF!"}},{"$f":"Rechnungsblatt!#REF!","v":{"$error":"#REF!"}},{"$f":"Rechnungsblatt!#REF!","v":{"$error":"#REF!"}},null,{"$f":"Rechnungsblatt!#REF!","v":{"$error":"#REF!"}},{"$f":"Rechnungsblatt!#REF!","v":{"$error":"#REF!"}},{"$f":"Rechnungsblatt!#REF!","v":{"$error":"#REF!"}},{"$f":"Rechnungsblatt!#REF!","v":{"$error":"#REF!"}}]
[{"$f":"Rechnungsblatt!#REF!","v":{"$error":"#REF!"}},{"$f":"Rechnungsblatt!#REF!","v":{"$error":"#REF!"}},{"$f":"Rechnungsblatt!#REF!","v":{"$error":"#REF!"}},null,{"$f":"Rechnungsblatt!#REF!","v":{"$error":"#REF!"}},{"$f":"Rechnungsblatt!#REF!","v":{"$error":"#REF!"}},{"$f":"Rechnungsblatt!#REF!","v":{"$error":"#REF!"}},{"$f":"Rechnungsblatt!#REF!","v":{"$error":"#REF!"}},null,{"$f":"Rechnungsblatt!#REF!","v":{"$error":"#REF!"}},{"$f":"Rechnungsblatt!#REF!","v":{"$error":"#REF!"}},{"$f":"Rechnungsblatt!#REF!","v":{"$error":"#REF!"}},{"$f":"Rechnungsblatt!#REF!","v":{"$error":"#REF!"}}]
[{"$f":"Rechnungsblatt!#REF!","v":{"$error":"#REF!"}},{"$f":"Rechnungsblatt!#REF!","v":{"$error":"#REF!"}},{"$f":"Rechnungsblatt!#REF!","v":{"$error":"#REF!"}},null,{"$f":"Rechnungsblatt!#REF!","v":{"$error":"#REF!"}},{"$f":"Rechnungsblatt!#REF!","v":{"$error":"#REF!"}},{"$f":"Rechnungsblatt!#REF!","v":{"$error":"#REF!"}},{"$f":"Rechnungsblatt!#REF!","v":{"$error":"#REF!"}},null,{"$f":"Rechnungsblatt!#REF!","v":{"$error":"#REF!"}},{"$f":"Rechnungsblatt!#REF!","v":{"$error":"#REF!"}},{"$f":"Rechnungsblatt!#REF!","v":{"$error":"#REF!"}},{"$f":"Rechnungsblatt!#REF!","v":{"$error":"#REF!"}}]
[{"$f":"Rechnungsblatt!#REF!","v":{"$error":"#REF!"}},{"$f":"Rechnungsblatt!#REF!","v":{"$error":"#REF!"}},{"$f":"Rechnungsblatt!#REF!","v":{"$error":"#REF!"}},null,{"$f":"Rechnungsblatt!#REF!","v":{"$error":"#REF!"}},{"$f":"Rechnungsblatt!#REF!","v":{"$error":"#REF!"}},{"$f":"Rechnungsblatt!#REF!","v":{"$error":"#REF!"}},{"$f":"Rechnungsblatt!#REF!","v":{"$error":"#REF!"}},null,{"$f":"Rechnungsblatt!#REF!","v":{"$error":"#REF!"}},{"$f":"Rechnungsblatt!#REF!","v":{"$error":"#REF!"}},{"$f":"Rechnungsblatt!#REF!","v":{"$error":"#REF!"}},{"$f":"Rechnungsblatt!#REF!","v":{"$error":"#REF!"}}]
[{"$f":"Rechnungsblatt!#REF!","v":{"$error":"#REF!"}},{"$f":"Rechnungsblatt!#REF!","v":{"$error":"#REF!"}},{"$f":"Rechnungsblatt!#REF!","v":{"$error":"#REF!"}},null,{"$f":"Rechnungsblatt!#REF!","v":{"$error":"#REF!"}},{"$f":"Rechnungsblatt!#REF!","v":{"$error":"#REF!"}},{"$f":"Rechnungsblatt!#REF!","v":{"$error":"#REF!"}},{"$f":"Rechnungsblatt!#REF!","v":{"$error":"#REF!"}},null,{"$f":"Rechnungsblatt!#REF!","v":{"$error":"#REF!"}},{"$f":"Rechnungsblatt!#REF!","v":{"$error":"#REF!"}},{"$f":"Rechnungsblatt!#REF!","v":{"$error":"#REF!"}},{"$f":"Rechnungsblatt!#REF!","v":{"$error":"#REF!"}}]
[{"$f":"Rechnungsblatt!#REF!","v":{"$error":"#REF!"}},{"$f":"Rechnungsblatt!#REF!","v":{"$error":"#REF!"}},{"$f":"Rechnungsblatt!#REF!","v":{"$error":"#REF!"}},null,{"$f":"Rechnungsblatt!#REF!","v":{"$error":"#REF!"}},{"$f":"Rechnungsblatt!#REF!","v":{"$error":"#REF!"}},{"$f":"Rechnungsblatt!#REF!","v":{"$error":"#REF!"}},{"$f":"Rechnungsblatt!#REF!","v":{"$error":"#REF!"}},null,{"$f":"Rechnungsblatt!#REF!","v":{"$error":"#REF!"}},{"$f":"Rechnungsblatt!#REF!","v":{"$error":"#REF!"}},{"$f":"Rechnungsblatt!#REF!","v":{"$error":"#REF!"}},{"$f":"Rechnungsblatt!#REF!","v":{"$error":"#REF!"}}]
[{"$f":"Rechnungsblatt!#REF!","v":{"$error":"#REF!"}},{"$f":"Rechnungsblatt!#REF!","v":{"$error":"#REF!"}},{"$f":"Rechnungsblatt!#REF!","v":{"$error":"#REF!"}},null,{"$f":"Rechnungsblatt!#REF!","v":{"$error":"#REF!"}},{"$f":"Rechnungsblatt!#REF!","v":{"$error":"#REF!"}},{"$f":"Rechnungsblatt!#REF!","v":{"$error":"#REF!"}},{"$f":"Rechnungsblatt!#REF!","v":{"$error":"#REF!"}},null,{"$f":"Rechnungsblatt!#REF!","v":{"$error":"#REF!"}},{"$f":"Rechnungsblatt!#REF!","v":{"$error":"#REF!"}},{"$f":"Rechnungsblatt!#REF!","v":{"$error":"#REF!"}},{"$f":"Rechnungsblatt!#REF!","v":{"$error":"#REF!"}}]
[{"$f":"Rechnungsblatt!#REF!","v":{"$error":"#REF!"}},{"$f":"Rechnungsblatt!#REF!","v":{"$error":"#REF!"}},{"$f":"Rechnungsblatt!#REF!","v":{"$error":"#REF!"}},null,{"$f":"Rechnungsblatt!#REF!","v":{"$error":"#REF!"}},{"$f":"Rechnungsblatt!#REF!","v":{"$error":"#REF!"}},{"$f":"Rechnungsblatt!#REF!","v":{"$error":"#REF!"}},{"$f":"Rechnungsblatt!#REF!","v":{"$error":"#REF!"}},null,{"$f":"Rechnungsblatt!#REF!","v":{"$error":"#REF!"}},{"$f":"Rechnungsblatt!#REF!","v":{"$error":"#REF!"}},{"$f":"Rechnungsblatt!#REF!","v":{"$error":"#REF!"}},{"$f":"Rechnungsblatt!#REF!","v":{"$error":"#REF!"}}]
[{"$f":"Rechnungsblatt!#REF!","v":{"$error":"#REF!"}},{"$f":"Rechnungsblatt!#REF!","v":{"$error":"#REF!"}},{"$f":"Rechnungsblatt!#REF!","v":{"$error":"#REF!"}},null,{"$f":"Rechnungsblatt!#REF!","v":{"$error":"#REF!"}},{"$f":"Rechnungsblatt!#REF!","v":{"$error":"#REF!"}},{"$f":"Rechnungsblatt!#REF!","v":{"$error":"#REF!"}},{"$f":"Rechnungsblatt!#REF!","v":{"$error":"#REF!"}},null,{"$f":"Rechnungsblatt!#REF!","v":{"$error":"#REF!"}},{"$f":"Rechnungsblatt!#REF!","v":{"$error":"#REF!"}},{"$f":"Rechnungsblatt!#REF!","v":{"$error":"#REF!"}},{"$f":"Rechnungsblatt!#REF!","v":{"$error":"#REF!"}}]
[{"$f":"Rechnungsblatt!#REF!","v":{"$error":"#REF!"}},{"$f":"Rechnungsblatt!#REF!","v":{"$error":"#REF!"}},{"$f":"Rechnungsblatt!#REF!","v":{"$error":"#REF!"}},null,{"$f":"Rechnungsblatt!#REF!","v":{"$error":"#REF!"}},{"$f":"Rechnungsblatt!#REF!","v":{"$error":"#REF!"}},{"$f":"Rechnungsblatt!#REF!","v":{"$error":"#REF!"}},{"$f":"Rechnungsblatt!#REF!","v":{"$error":"#REF!"}},null,{"$f":"Rechnungsblatt!#REF!","v":{"$error":"#REF!"}},{"$f":"Rechnungsblatt!#REF!","v":{"$error":"#REF!"}},{"$f":"Rechnungsblatt!#REF!","v":{"$error":"#REF!"}},{"$f":"Rechnungsblatt!#REF!","v":{"$error":"#REF!"}}]
[{"$f":"Rechnungsblatt!#REF!","v":{"$error":"#REF!"}},{"$f":"Rechnungsblatt!#REF!","v":{"$error":"#REF!"}},{"$f":"Rechnungsblatt!#REF!","v":{"$error":"#REF!"}},null,{"$f":"Rechnungsblatt!#REF!","v":{"$error":"#REF!"}},{"$f":"Rechnungsblatt!#REF!","v":{"$error":"#REF!"}},{"$f":"Rechnungsblatt!#REF!","v":{"$error":"#REF!"}},{"$f":"Rechnungsblatt!#REF!","v":{"$error":"#REF!"}},null,{"$f":"Rechnungsblatt!#REF!","v":{"$error":"#REF!"}},{"$f":"Rechnungsblatt!#REF!","v":{"$error":"#REF!"}},{"$f":"Rechnungsblatt!#REF!","v":{"$error":"#REF!"}},{"$f":"Rechnungsblatt!#REF!","v":{"$error":"#REF!"}}]
[{"$f":"Rechnungsblatt!#REF!","v":{"$error":"#REF!"}},{"$f":"Rechnungsblatt!#REF!","v":{"$error":"#REF!"}},{"$f":"Rechnungsblatt!#REF!","v":{"$error":"#REF!"}},null,{"$f":"Rechnungsblatt!#REF!","v":{"$error":"#REF!"}},{"$f":"Rechnungsblatt!#REF!","v":{"$error":"#REF!"}},{"$f":"Rechnungsblatt!#REF!","v":{"$error":"#REF!"}},{"$f":"Rechnungsblatt!#REF!","v":{"$error":"#REF!"}},null,{"$f":"Rechnungsblatt!#REF!","v":{"$error":"#REF!"}},{"$f":"Rechnungsblatt!#REF!","v":{"$error":"#REF!"}},{"$f":"Rechnungsblatt!#REF!","v":{"$error":"#REF!"}},{"$f":"Rechnungsblatt!#REF!","v":{"$error":"#REF!"}}]
[{"$f":"Rechnungsblatt!#REF!","v":{"$error":"#REF!"}},{"$f":"Rechnungsblatt!#REF!","v":{"$error":"#REF!"}},{"$f":"Rechnungsblatt!#REF!","v":{"$error":"#REF!"}},null,{"$f":"Rechnungsblatt!#REF!","v":{"$error":"#REF!"}},{"$f":"Rechnungsblatt!#REF!","v":{"$error":"#REF!"}},{"$f":"Rechnungsblatt!#REF!","v":{"$error":"#REF!"}},{"$f":"Rechnungsblatt!#REF!","v":{"$error":"#REF!"}},null,{"$f":"Rechnungsblatt!#REF!","v":{"$error":"#REF!"}},{"$f":"Rechnungsblatt!#REF!","v":{"$error":"#REF!"}},{"$f":"Rechnungsblatt!#REF!","v":{"$error":"#REF!"}},{"$f":"Rechnungsblatt!#REF!","v":{"$error":"#REF!"}}]
[{"$f":"Rechnungsblatt!#REF!","v":{"$error":"#REF!"}},{"$f":"Rechnungsblatt!#REF!","v":{"$error":"#REF!"}},{"$f":"Rechnungsblatt!#REF!","v":{"$error":"#REF!"}},null,{"$f":"Rechnungsblatt!#REF!","v":{"$error":"#REF!"}},{"$f":"Rechnungsblatt!#REF!","v":{"$error":"#REF!"}},{"$f":"Rechnungsblatt!#REF!","v":{"$error":"#REF!"}},{"$f":"Rechnungsblatt!#REF!","v":{"$error":"#REF!"}},null,{"$f":"Rechnungsblatt!#REF!","v":{"$error":"#REF!"}},{"$f":"Rechnungsblatt!#REF!","v":{"$error":"#REF!"}},{"$f":"Rechnungsblatt!#REF!","v":{"$error":"#REF!"}},{"$f":"Rechnungsblatt!#REF!","v":{"$error":"#REF!"}}]
[{"$f":"Rechnungsblatt!#REF!","v":{"$error":"#REF!"}},{"$f":"Rechnungsblatt!#REF!","v":{"$error":"#REF!"}},{"$f":"Rechnungsblatt!#REF!","v":{"$error":"#REF!"}},null,{"$f":"Rechnungsblatt!#REF!","v":{"$error":"#REF!"}},{"$f":"Rechnungsblatt!#REF!","v":{"$error":"#REF!"}},{"$f":"Rechnungsblatt!#REF!","v":{"$error":"#REF!"}},{"$f":"Rechnungsblatt!#REF!","v":{"$error":"#REF!"}},null,{"$f":"Rechnungsblatt!#REF!","v":{"$error":"#REF!"}},{"$f":"Rechnungsblatt!#REF!","v":{"$error":"#REF!"}},{"$f":"Rechnungsblatt!#REF!","v":{"$error":"#REF!"}},{"$f":"Rechnungsblatt!#REF!","v":{"$error":"#REF!"}}]
[{"$f":"Rechnungsblatt!#REF!","v":{"$error":"#REF!"}},{"$f":"Rechnungsblatt!#REF!","v":{"$error":"#REF!"}},{"$f":"Rechnungsblatt!#REF!","v":{"$error":"#REF!"}},null,{"$f":"Rechnungsblatt!#REF!","v":{"$error":"#REF!"}},{"$f":"Rechnungsblatt!#REF!","v":{"$error":"#REF!"}},{"$f":"Rechnungsblatt!#REF!","v":{"$error":"#REF!"}},{"$f":"Rechnungsblatt!#REF!","v":{"$error":"#REF!"}},null,{"$f":"Rechnungsblatt!#REF!","v":{"$error":"#REF!"}},{"$f":"Rechnungsblatt!#REF!","v":{"$error":"#REF!"}},{"$f":"Rechnungsblatt!#REF!","v":{"$error":"#REF!"}},{"$f":"Rechnungsblatt!#REF!","v":{"$error":"#REF!"}}]
[{"$f":"Rechnungsblatt!#REF!","v":{"$error":"#REF!"}},{"$f":"Rechnungsblatt!#REF!","v":{"$error":"#REF!"}},{"$f":"Rechnungsblatt!#REF!","v":{"$error":"#REF!"}},null,{"$f":"Rechnungsblatt!#REF!","v":{"$error":"#REF!"}},{"$f":"Rechnungsblatt!#REF!","v":{"$error":"#REF!"}},{"$f":"Rechnungsblatt!#REF!","v":{"$error":"#REF!"}},{"$f":"Rechnungsblatt!#REF!","v":{"$error":"#REF!"}},null,{"$f":"Rechnungsblatt!#REF!","v":{"$error":"#REF!"}},{"$f":"Rechnungsblatt!#REF!","v":{"$error":"#REF!"}},{"$f":"Rechnungsblatt!#REF!","v":{"$error":"#REF!"}},{"$f":"Rechnungsblatt!#REF!","v":{"$error":"#REF!"}}]
[{"$f":"Rechnungsblatt!#REF!","v":{"$error":"#REF!"}},{"$f":"Rechnungsblatt!#REF!","v":{"$error":"#REF!"}},{"$f":"Rechnungsblatt!#REF!","v":{"$error":"#REF!"}},null,{"$f":"Rechnungsblatt!#REF!","v":{"$error":"#REF!"}},{"$f":"Rechnungsblatt!#REF!","v":{"$error":"#REF!"}},{"$f":"Rechnungsblatt!#REF!","v":{"$error":"#REF!"}},{"$f":"Rechnungsblatt!#REF!","v":{"$error":"#REF!"}},null,{"$f":"Rechnungsblatt!#REF!","v":{"$error":"#REF!"}},{"$f":"Rechnungsblatt!#REF!","v":{"$error":"#REF!"}},{"$f":"Rechnungsblatt!#REF!","v":{"$error":"#REF!"}},{"$f":"Rechnungsblatt!#REF!","v":{"$error":"#REF!"}}]
[{"$f":"Rechnungsblatt!#REF!","v":{"$error":"#REF!"}},{"$f":"Rechnungsblatt!#REF!","v":{"$error":"#REF!"}},{"$f":"Rechnungsblatt!#REF!","v":{"$error":"#REF!"}},null,{"$f":"Rechnungsblatt!#REF!","v":{"$error":"#REF!"}},{"$f":"Rechnungsblatt!#REF!","v":{"$error":"#REF!"}},{"$f":"Rechnungsblatt!#REF!","v":{"$error":"#REF!"}},{"$f":"Rechnungsblatt!#REF!","v":{"$error":"#REF!"}},null,{"$f":"Rechnungsblatt!#REF!","v":{"$error":"#REF!"}},{"$f":"Rechnungsblatt!#REF!","v":{"$error":"#REF!"}},{"$f":"Rechnungsblatt!#REF!","v":{"$error":"#REF!"}},{"$f":"Rechnungsblatt!#REF!","v":{"$error":"#REF!"}}]
[{"$f":"Rechnungsblatt!#REF!","v":{"$error":"#REF!"}},{"$f":"Rechnungsblatt!#REF!","v":{"$error":"#REF!"}},{"$f":"Rechnungsblatt!#REF!","v":{"$error":"#REF!"}},null,{"$f":"Rechnungsblatt!#REF!","v":{"$error":"#REF!"}},{"$f":"Rechnungsblatt!#REF!","v":{"$error":"#REF!"}},{"$f":"Rechnungsblatt!#REF!","v":{"$error":"#REF!"}},{"$f":"Rechnungsblatt!#REF!","v":{"$error":"#REF!"}},null,{"$f":"Rechnungsblatt!#REF!","v":{"$error":"#REF!"}},{"$f":"Rechnungsblatt!#REF!","v":{"$error":"#REF!"}},{"$f":"Rechnungsblatt!#REF!","v":{"$error":"#REF!"}},{"$f":"Rechnungsblatt!#REF!","v":{"$error":"#REF!"}}]
[{"$f":"Rechnungsblatt!#REF!","v":{"$error":"#REF!"}},{"$f":"Rechnungsblatt!#REF!","v":{"$error":"#REF!"}},{"$f":"Rechnungsblatt!#REF!","v":{"$error":"#REF!"}},null,{"$f":"Rechnungsblatt!#REF!","v":{"$error":"#REF!"}},{"$f":"Rechnungsblatt!#REF!","v":{"$error":"#REF!"}},{"$f":"Rechnungsblatt!#REF!","v":{"$error":"#REF!"}},{"$f":"Rechnungsblatt!#REF!","v":{"$error":"#REF!"}},null,{"$f":"Rechnungsblatt!#REF!","v":{"$error":"#REF!"}},{"$f":"Rechnungsblatt!#REF!","v":{"$error":"#REF!"}},{"$f":"Rechnungsblatt!#REF!","v":{"$error":"#REF!"}},{"$f":"Rechnungsblatt!#REF!","v":{"$error":"#REF!"}}]
[{"$f":"Rechnungsblatt!#REF!","v":{"$error":"#REF!"}},{"$f":"Rechnungsblatt!#REF!","v":{"$error":"#REF!"}},{"$f":"Rechnungsblatt!#REF!","v":{"$error":"#REF!"}},null,{"$f":"Rechnungsblatt!#REF!","v":{"$error":"#REF!"}},{"$f":"Rechnungsblatt!#REF!","v":{"$error":"#REF!"}},{"$f":"Rechnungsblatt!#REF!","v":{"$error":"#REF!"}},{"$f":"Rechnungsblatt!#REF!","v":{"$error":"#REF!"}},null,{"$f":"Rechnungsblatt!#REF!","v":{"$error":"#REF!"}},{"$f":"Rechnungsblatt!#REF!","v":{"$error":"#REF!"}},{"$f":"Rechnungsblatt!#REF!","v":{"$error":"#REF!"}},{"$f":"Rechnungsblatt!#REF!","v":{"$error":"#REF!"}}]
[{"$f":"Rechnungsblatt!#REF!","v":{"$error":"#REF!"}},{"$f":"Rechnungsblatt!#REF!","v":{"$error":"#REF!"}},{"$f":"Rechnungsblatt!#REF!","v":{"$error":"#REF!"}},null,{"$f":"Rechnungsblatt!#REF!","v":{"$error":"#REF!"}},{"$f":"Rechnungsblatt!#REF!","v":{"$error":"#REF!"}},{"$f":"Rechnungsblatt!#REF!","v":{"$error":"#REF!"}},{"$f":"Rechnungsblatt!#REF!","v":{"$error":"#REF!"}},null,{"$f":"Rechnungsblatt!#REF!","v":{"$error":"#REF!"}},{"$f":"Rechnungsblatt!#REF!","v":{"$error":"#REF!"}},{"$f":"Rechnungsblatt!#REF!","v":{"$error":"#REF!"}},{"$f":"Rechnungsblatt!#REF!","v":{"$error":"#REF!"}}]
[{"$f":"Rechnungsblatt!#REF!","v":{"$error":"#REF!"}},{"$f":"Rechnungsblatt!#REF!","v":{"$error":"#REF!"}},{"$f":"Rechnungsblatt!#REF!","v":{"$error":"#REF!"}},null,{"$f":"Rechnungsblatt!#REF!","v":{"$error":"#REF!"}},{"$f":"Rechnungsblatt!#REF!","v":{"$error":"#REF!"}},{"$f":"Rechnungsblatt!#REF!","v":{"$error":"#REF!"}},{"$f":"Rechnungsblatt!#REF!","v":{"$error":"#REF!"}},null,{"$f":"Rechnungsblatt!#REF!","v":{"$error":"#REF!"}},{"$f":"Rechnungsblatt!#REF!","v":{"$error":"#REF!"}},{"$f":"Rechnungsblatt!#REF!","v":{"$error":"#REF!"}},{"$f":"Rechnungsblatt!#REF!","v":{"$error":"#REF!"}}]
[{"$f":"Rechnungsblatt!#REF!","v":{"$error":"#REF!"}},{"$f":"Rechnungsblatt!#REF!","v":{"$error":"#REF!"}},{"$f":"Rechnungsblatt!#REF!","v":{"$error":"#REF!"}},null,{"$f":"Rechnungsblatt!#REF!","v":{"$error":"#REF!"}},{"$f":"Rechnungsblatt!#REF!","v":{"$error":"#REF!"}},{"$f":"Rechnungsblatt!#REF!","v":{"$error":"#REF!"}},{"$f":"Rechnungsblatt!#REF!","v":{"$error":"#REF!"}},null,{"$f":"Rechnungsblatt!#REF!","v":{"$error":"#REF!"}},{"$f":"Rechnungsblatt!#REF!","v":{"$error":"#REF!"}},{"$f":"Rechnungsblatt!#REF!","v":{"$error":"#REF!"}},{"$f":"Rechnungsblatt!#REF!","v":{"$error":"#REF!"}}]
[{"$f":"Rechnungsblatt!#REF!","v":{"$error":"#REF!"}},{"$f":"Rechnungsblatt!#REF!","v":{"$error":"#REF!"}},{"$f":"Rechnungsblatt!#REF!","v":{"$error":"#REF!"}},null,{"$f":"Rechnungsblatt!#REF!","v":{"$error":"#REF!"}},{"$f":"Rechnungsblatt!#REF!","v":{"$error":"#REF!"}},{"$f":"Rechnungsblatt!#REF!","v":{"$error":"#REF!"}},{"$f":"Rechnungsblatt!#REF!","v":{"$error":"#REF!"}},null,{"$f":"Rechnungsblatt!#REF!","v":{"$error":"#REF!"}},{"$f":"Rechnungsblatt!#REF!","v":{"$error":"#REF!"}},{"$f":"Rechnungsblatt!#REF!","v":{"$error":"#REF!"}},{"$f":"Rechnungsblatt!#REF!","v":{"$error":"#REF!"}}]
[{"$f":"Rechnungsblatt!#REF!","v":{"$error":"#REF!"}},{"$f":"Rechnungsblatt!#REF!","v":{"$error":"#REF!"}},{"$f":"Rechnungsblatt!#REF!","v":{"$error":"#REF!"}},null,{"$f":"Rechnungsblatt!#REF!","v":{"$error":"#REF!"}},{"$f":"Rechnungsblatt!#REF!","v":{"$error":"#REF!"}},{"$f":"Rechnungsblatt!#REF!","v":{"$error":"#REF!"}},{"$f":"Rechnungsblatt!#REF!","v":{"$error":"#REF!"}},null,{"$f":"Rechnungsblatt!#REF!","v":{"$error":"#REF!"}},{"$f":"Rechnungsblatt!#REF!","v":{"$error":"#REF!"}},{"$f":"Rechnungsblatt!#REF!","v":{"$error":"#REF!"}},{"$f":"Rechnungsblatt!#REF!","v":{"$error":"#REF!"}}]
[{"$f":"Rechnungsblatt!#REF!","v":{"$error":"#REF!"}},{"$f":"Rechnungsblatt!#REF!","v":{"$error":"#REF!"}},{"$f":"Rechnungsblatt!#REF!","v":{"$error":"#REF!"}},null,{"$f":"Rechnungsblatt!#REF!","v":{"$error":"#REF!"}},{"$f":"Rechnungsblatt!#REF!","v":{"$error":"#REF!"}},{"$f":"Rechnungsblatt!#REF!","v":{"$error":"#REF!"}},{"$f":"Rechnungsblatt!#REF!","v":{"$error":"#REF!"}},null,{"$f":"Rechnungsblatt!#REF!","v":{"$error":"#REF!"}},{"$f":"Rechnungsblatt!#REF!","v":{"$error":"#REF!"}},{"$f":"Rechnungsblatt!#REF!","v":{"$error":"#REF!"}},{"$f":"Rechnungsblatt!#REF!","v":{"$error":"#REF!"}}]
[{"$f":"Rechnungsblatt!#REF!","v":{"$error":"#REF!"}},{"$f":"Rechnungsblatt!#REF!","v":{"$error":"#REF!"}},{"$f":"Rechnungsblatt!#REF!","v":{"$error":"#REF!"}},null,{"$f":"Rechnungsblatt!#REF!","v":{"$error":"#REF!"}},{"$f":"Rechnungsblatt!#REF!","v":{"$error":"#REF!"}},{"$f":"Rechnungsblatt!#REF!","v":{"$error":"#REF!"}},{"$f":"Rechnungsblatt!#REF!","v":{"$error":"#REF!"}},null,{"$f":"Rechnungsblatt!#REF!","v":{"$error":"#REF!"}},{"$f":"Rechnungsblatt!#REF!","v":{"$error":"#REF!"}},{"$f":"Rechnungsblatt!#REF!","v":{"$error":"#REF!"}},{"$f":"Rechnungsblatt!#REF!","v":{"$error":"#REF!"}}]
[{"$f":"Rechnungsblatt!#REF!","v":{"$error":"#REF!"}},{"$f":"Rechnungsblatt!#REF!","v":{"$error":"#REF!"}},{"$f":"Rechnungsblatt!#REF!","v":{"$error":"#REF!"}},null,{"$f":"Rechnungsblatt!#REF!","v":{"$error":"#REF!"}},{"$f":"Rechnungsblatt!#REF!","v":{"$error":"#REF!"}},{"$f":"Rechnungsblatt!#REF!","v":{"$error":"#REF!"}},{"$f":"Rechnungsblatt!#REF!","v":{"$error":"#REF!"}},null,{"$f":"Rechnungsblatt!#REF!","v":{"$error":"#REF!"}},{"$f":"Rechnungsblatt!#REF!","v":{"$error":"#REF!"}},{"$f":"Rechnungsblatt!#REF!","v":{"$error":"#REF!"}},{"$f":"Rechnungsblatt!#REF!","v":{"$error":"#REF!"}}]
[{"$f":"Rechnungsblatt!#REF!","v":{"$error":"#REF!"}},{"$f":"Rechnungsblatt!#REF!","v":{"$error":"#REF!"}},{"$f":"Rechnungsblatt!#REF!","v":{"$error":"#REF!"}},null,{"$f":"Rechnungsblatt!#REF!","v":{"$error":"#REF!"}},{"$f":"Rechnungsblatt!#REF!","v":{"$error":"#REF!"}},{"$f":"Rechnungsblatt!#REF!","v":{"$error":"#REF!"}},{"$f":"Rechnungsblatt!#REF!","v":{"$error":"#REF!"}},null,{"$f":"Rechnungsblatt!#REF!","v":{"$error":"#REF!"}},{"$f":"Rechnungsblatt!#REF!","v":{"$error":"#REF!"}},{"$f":"Rechnungsblatt!#REF!","v":{"$error":"#REF!"}},{"$f":"Rechnungsblatt!#REF!","v":{"$error":"#REF!"}}]
[{"$f":"Rechnungsblatt!#REF!","v":{"$error":"#REF!"}},{"$f":"Rechnungsblatt!#REF!","v":{"$error":"#REF!"}},{"$f":"Rechnungsblatt!#REF!","v":{"$error":"#REF!"}},null,{"$f":"Rechnungsblatt!#REF!","v":{"$error":"#REF!"}},{"$f":"Rechnungsblatt!#REF!","v":{"$error":"#REF!"}},{"$f":"Rechnungsblatt!#REF!","v":{"$error":"#REF!"}},{"$f":"Rechnungsblatt!#REF!","v":{"$error":"#REF!"}},null,{"$f":"Rechnungsblatt!#REF!","v":{"$error":"#REF!"}},{"$f":"Rechnungsblatt!#REF!","v":{"$error":"#REF!"}},{"$f":"Rechnungsblatt!#REF!","v":{"$error":"#REF!"}},{"$f":"Rechnungsblatt!#REF!","v":{"$error":"#REF!"}}]
[{"$f":"Rechnungsblatt!#REF!","v":{"$error":"#REF!"}},{"$f":"Rechnungsblatt!#REF!","v":{"$error":"#REF!"}},{"$f":"Rechnungsblatt!#REF!","v":{"$error":"#REF!"}},null,{"$f":"Rechnungsblatt!#REF!","v":{"$error":"#REF!"}},{"$f":"Rechnungsblatt!#REF!","v":{"$error":"#REF!"}},{"$f":"Rechnungsblatt!#REF!","v":{"$error":"#REF!"}},{"$f":"Rechnungsblatt!#REF!","v":{"$error":"#REF!"}},null,{"$f":"Rechnungsblatt!#REF!","v":{"$error":"#REF!"}},{"$f":"Rechnungsblatt!#REF!","v":{"$error":"#REF!"}},{"$f":"Rechnungsblatt!#REF!","v":{"$error":"#REF!"}},{"$f":"Rechnungsblatt!#REF!","v":{"$error":"#REF!"}}]
[{"$f":"Rechnungsblatt!#REF!","v":{"$error":"#REF!"}},{"$f":"Rechnungsblatt!#REF!","v":{"$error":"#REF!"}},{"$f":"Rechnungsblatt!#REF!","v":{"$error":"#REF!"}},null,{"$f":"Rechnungsblatt!#REF!","v":{"$error":"#REF!"}},{"$f":"Rechnungsblatt!#REF!","v":{"$error":"#REF!"}},{"$f":"Rechnungsblatt!#REF!","v":{"$error":"#REF!"}},{"$f":"Rechnungsblatt!#REF!","v":{"$error":"#REF!"}},null,{"$f":"Rechnungsblatt!#REF!","v":{"$error":"#REF!"}},{"$f":"Rechnungsblatt!#REF!","v":{"$error":"#REF!"}},{"$f":"Rechnungsblatt!#REF!","v":{"$error":"#REF!"}},{"$f":"Rechnungsblatt!#REF!","v":{"$error":"#REF!"}}]
[{"$f":"Rechnungsblatt!#REF!","v":{"$error":"#REF!"}},{"$f":"Rechnungsblatt!#REF!","v":{"$error":"#REF!"}},{"$f":"Rechnungsblatt!#REF!","v":{"$error":"#REF!"}},null,{"$f":"Rechnungsblatt!#REF!","v":{"$error":"#REF!"}},{"$f":"Rechnungsblatt!#REF!","v":{"$error":"#REF!"}},{"$f":"Rechnungsblatt!#REF!","v":{"$error":"#REF!"}},{"$f":"Rechnungsblatt!#REF!","v":{"$error":"#REF!"}},null,{"$f":"Rechnungsblatt!#REF!","v":{"$error":"#REF!"}},{"$f":"Rechnungsblatt!#REF!","v":{"$error":"#REF!"}},{"$f":"Rechnungsblatt!#REF!","v":{"$error":"#REF!"}},{"$f":"Rechnungsblatt!#REF!","v":{"$error":"#REF!"}}]
[{"$f":"Rechnungsblatt!#REF!","v":{"$error":"#REF!"}},{"$f":"Rechnungsblatt!#REF!","v":{"$error":"#REF!"}},{"$f":"Rechnungsblatt!#REF!","v":{"$error":"#REF!"}},null,{"$f":"Rechnungsblatt!#REF!","v":{"$error":"#REF!"}},{"$f":"Rechnungsblatt!#REF!","v":{"$error":"#REF!"}},{"$f":"Rechnungsblatt!#REF!","v":{"$error":"#REF!"}},{"$f":"Rechnungsblatt!#REF!","v":{"$error":"#REF!"}},null,{"$f":"Rechnungsblatt!#REF!","v":{"$error":"#REF!"}},{"$f":"Rechnungsblatt!#REF!","v":{"$error":"#REF!"}},{"$f":"Rechnungsblatt!#REF!","v":{"$error":"#REF!"}},{"$f":"Rechnungsblatt!#REF!","v":{"$error":"#REF!"}}]
[{"$f":"Rechnungsblatt!#REF!","v":{"$error":"#REF!"}},{"$f":"Rechnungsblatt!#REF!","v":{"$error":"#REF!"}},{"$f":"Rechnungsblatt!#REF!","v":{"$error":"#REF!"}},null,{"$f":"Rechnungsblatt!#REF!","v":{"$error":"#REF!"}},{"$f":"Rechnungsblatt!#REF!","v":{"$error":"#REF!"}},{"$f":"Rechnungsblatt!#REF!","v":{"$error":"#REF!"}},{"$f":"Rechnungsblatt!#REF!","v":{"$error":"#REF!"}},null,{"$f":"Rechnungsblatt!#REF!","v":{"$error":"#REF!"}},{"$f":"Rechnungsblatt!#REF!","v":{"$error":"#REF!"}},{"$f":"Rechnungsblatt!#REF!","v":{"$error":"#REF!"}},{"$f":"Rechnungsblatt!#REF!","v":{"$error":"#REF!"}}]
[{"$f":"Rechnungsblatt!#REF!","v":{"$error":"#REF!"}},{"$f":"Rechnungsblatt!#REF!","v":{"$error":"#REF!"}},{"$f":"Rechnungsblatt!#REF!","v":{"$error":"#REF!"}},null,{"$f":"Rechnungsblatt!#REF!","v":{"$error":"#REF!"}},{"$f":"Rechnungsblatt!#REF!","v":{"$error":"#REF!"}},{"$f":"Rechnungsblatt!#REF!","v":{"$error":"#REF!"}},{"$f":"Rechnungsblatt!#REF!","v":{"$error":"#REF!"}},null,{"$f":"Rechnungsblatt!#REF!","v":{"$error":"#REF!"}},{"$f":"Rechnungsblatt!#REF!","v":{"$error":"#REF!"}},{"$f":"Rechnungsblatt!#REF!","v":{"$error":"#REF!"}},{"$f":"Rechnungsblatt!#REF!","v":{"$error":"#REF!"}}]
[{"$f":"Rechnungsblatt!#REF!","v":{"$error":"#REF!"}},{"$f":"Rechnungsblatt!#REF!","v":{"$error":"#REF!"}},{"$f":"Rechnungsblatt!#REF!","v":{"$error":"#REF!"}},null,{"$f":"Rechnungsblatt!#REF!","v":{"$error":"#REF!"}},{"$f":"Rechnungsblatt!#REF!","v":{"$error":"#REF!"}},{"$f":"Rechnungsblatt!#REF!","v":{"$error":"#REF!"}},{"$f":"Rechnungsblatt!#REF!","v":{"$error":"#REF!"}},null,{"$f":"Rechnungsblatt!#REF!","v":{"$error":"#REF!"}},{"$f":"Rechnungsblatt!#REF!","v":{"$error":"#REF!"}},{"$f":"Rechnungsblatt!#REF!","v":{"$error":"#REF!"}},{"$f":"Rechnungsblatt!#REF!","v":{"$error":"#REF!"}}]
[{"$f":"Rechnungsblatt!#REF!","v":{"$error":"#REF!"}},{"$f":"Rechnungsblatt!#REF!","v":{"$error":"#REF!"}},{"$f":"Rechnungsblatt!#REF!","v":{"$error":"#REF!"}},null,{"$f":"Rechnungsblatt!#REF!","v":{"$error":"#REF!"}},{"$f":"Rechnungsblatt!#REF!","v":{"$error":"#REF!"}},{"$f":"Rechnungsblatt!#REF!","v":{"$error":"#REF!"}},{"$f":"Rechnungsblatt!#REF!","v":{"$error":"#REF!"}},null,{"$f":"Rechnungsblatt!#REF!","v":{"$error":"#REF!"}},{"$f":"Rechnungsblatt!#REF!","v":{"$error":"#REF!"}},{"$f":"Rechnungsblatt!#REF!","v":{"$error":"#REF!"}},{"$f":"Rechnungsblatt!#REF!","v":{"$error":"#REF!"}}]
[{"$f":"Rechnungsblatt!#REF!","v":{"$error":"#REF!"}},{"$f":"Rechnungsblatt!#REF!","v":{"$error":"#REF!"}},{"$f":"Rechnungsblatt!#REF!","v":{"$error":"#REF!"}},null,{"$f":"Rechnungsblatt!#REF!","v":{"$error":"#REF!"}},{"$f":"Rechnungsblatt!#REF!","v":{"$error":"#REF!"}},{"$f":"Rechnungsblatt!#REF!","v":{"$error":"#REF!"}},{"$f":"Rechnungsblatt!#REF!","v":{"$error":"#REF!"}},null,{"$f":"Rechnungsblatt!#REF!","v":{"$error":"#REF!"}},{"$f":"Rechnungsblatt!#REF!","v":{"$error":"#REF!"}},{"$f":"Rechnungsblatt!#REF!","v":{"$error":"#REF!"}},{"$f":"Rechnungsblatt!#REF!","v":{"$error":"#REF!"}}]
[{"$f":"Rechnungsblatt!#REF!","v":{"$error":"#REF!"}},{"$f":"Rechnungsblatt!#REF!","v":{"$error":"#REF!"}},{"$f":"Rechnungsblatt!#REF!","v":{"$error":"#REF!"}},null,{"$f":"Rechnungsblatt!#REF!","v":{"$error":"#REF!"}},{"$f":"Rechnungsblatt!#REF!","v":{"$error":"#REF!"}},{"$f":"Rechnungsblatt!#REF!","v":{"$error":"#REF!"}},{"$f":"Rechnungsblatt!#REF!","v":{"$error":"#REF!"}},null,{"$f":"Rechnungsblatt!#REF!","v":{"$error":"#REF!"}},{"$f":"Rechnungsblatt!#REF!","v":{"$error":"#REF!"}},{"$f":"Rechnungsblatt!#REF!","v":{"$error":"#REF!"}},{"$f":"Rechnungsblatt!#REF!","v":{"$error":"#REF!"}}]
[{"$f":"Rechnungsblatt!#REF!","v":{"$error":"#REF!"}},{"$f":"Rechnungsblatt!#REF!","v":{"$error":"#REF!"}},{"$f":"Rechnungsblatt!#REF!","v":{"$error":"#REF!"}},null,{"$f":"Rechnungsblatt!#REF!","v":{"$error":"#REF!"}},{"$f":"Rechnungsblatt!#REF!","v":{"$error":"#REF!"}},{"$f":"Rechnungsblatt!#REF!","v":{"$error":"#REF!"}},{"$f":"Rechnungsblatt!#REF!","v":{"$error":"#REF!"}},null,{"$f":"Rechnungsblatt!#REF!","v":{"$error":"#REF!"}},{"$f":"Rechnungsblatt!#REF!","v":{"$error":"#REF!"}},{"$f":"Rechnungsblatt!#REF!","v":{"$error":"#REF!"}},{"$f":"Rechnungsblatt!#REF!","v":{"$error":"#REF!"}}]
[{"$f":"Rechnungsblatt!#REF!","v":{"$error":"#REF!"}},{"$f":"Rechnungsblatt!#REF!","v":{"$error":"#REF!"}},{"$f":"Rechnungsblatt!#REF!","v":{"$error":"#REF!"}},null,{"$f":"Rechnungsblatt!#REF!","v":{"$error":"#REF!"}},{"$f":"Rechnungsblatt!#REF!","v":{"$error":"#REF!"}},{"$f":"Rechnungsblatt!#REF!","v":{"$error":"#REF!"}},{"$f":"Rechnungsblatt!#REF!","v":{"$error":"#REF!"}},null,{"$f":"Rechnungsblatt!#REF!","v":{"$error":"#REF!"}},{"$f":"Rechnungsblatt!#REF!","v":{"$error":"#REF!"}},{"$f":"Rechnungsblatt!#REF!","v":{"$error":"#REF!"}},{"$f":"Rechnungsblatt!#REF!","v":{"$error":"#REF!"}}]
[{"$f":"Rechnungsblatt!#REF!","v":{"$error":"#REF!"}},{"$f":"Rechnungsblatt!#REF!","v":{"$error":"#REF!"}},{"$f":"Rechnungsblatt!#REF!","v":{"$error":"#REF!"}},null,{"$f":"Rechnungsblatt!#REF!","v":{"$error":"#REF!"}},{"$f":"Rechnungsblatt!#REF!","v":{"$error":"#REF!"}},{"$f":"Rechnungsblatt!#REF!","v":{"$error":"#REF!"}},{"$f":"Rechnungsblatt!#REF!","v":{"$error":"#REF!"}},null,{"$f":"Rechnungsblatt!#REF!","v":{"$error":"#REF!"}},{"$f":"Rechnungsblatt!#REF!","v":{"$error":"#REF!"}},{"$f":"Rechnungsblatt!#REF!","v":{"$error":"#REF!"}},{"$f":"Rechnungsblatt!#REF!","v":{"$error":"#REF!"}}]
[{"$f":"Rechnungsblatt!#REF!","v":{"$error":"#REF!"}},{"$f":"Rechnungsblatt!#REF!","v":{"$error":"#REF!"}},{"$f":"Rechnungsblatt!#REF!","v":{"$error":"#REF!"}},null,{"$f":"Rechnungsblatt!#REF!","v":{"$error":"#REF!"}},{"$f":"Rechnungsblatt!#REF!","v":{"$error":"#REF!"}},{"$f":"Rechnungsblatt!#REF!","v":{"$error":"#REF!"}},{"$f":"Rechnungsblatt!#REF!","v":{"$error":"#REF!"}},null,{"$f":"Rechnungsblatt!#REF!","v":{"$error":"#REF!"}},{"$f":"Rechnungsblatt!#REF!","v":{"$error":"#REF!"}},{"$f":"Rechnungsblatt!#REF!","v":{"$error":"#REF!"}},{"$f":"Rechnungsblatt!#REF!","v":{"$error":"#REF!"}}]
[{"$f":"Rechnungsblatt!#REF!","v":{"$error":"#REF!"}},{"$f":"Rechnungsblatt!#REF!","v":{"$error":"#REF!"}},{"$f":"Rechnungsblatt!#REF!","v":{"$error":"#REF!"}},null,{"$f":"Rechnungsblatt!#REF!","v":{"$error":"#REF!"}},{"$f":"Rechnungsblatt!#REF!","v":{"$error":"#REF!"}},{"$f":"Rechnungsblatt!#REF!","v":{"$error":"#REF!"}},{"$f":"Rechnungsblatt!#REF!","v":{"$error":"#REF!"}},null,{"$f":"Rechnungsblatt!#REF!","v":{"$error":"#REF!"}},{"$f":"Rechnungsblatt!#REF!","v":{"$error":"#REF!"}},{"$f":"Rechnungsblatt!#REF!","v":{"$error":"#REF!"}},{"$f":"Rechnungsblatt!#REF!","v":{"$error":"#REF!"}}]
[{"$f":"Rechnungsblatt!#REF!","v":{"$error":"#REF!"}},{"$f":"Rechnungsblatt!#REF!","v":{"$error":"#REF!"}},{"$f":"Rechnungsblatt!#REF!","v":{"$error":"#REF!"}},null,{"$f":"Rechnungsblatt!#REF!","v":{"$error":"#REF!"}},{"$f":"Rechnungsblatt!#REF!","v":{"$error":"#REF!"}},{"$f":"Rechnungsblatt!#REF!","v":{"$error":"#REF!"}},{"$f":"Rechnungsblatt!#REF!","v":{"$error":"#REF!"}},null,{"$f":"Rechnungsblatt!#REF!","v":{"$error":"#REF!"}},{"$f":"Rechnungsblatt!#REF!","v":{"$error":"#REF!"}},{"$f":"Rechnungsblatt!#REF!","v":{"$error":"#REF!"}},{"$f":"Rechnungsblatt!#REF!","v":{"$error":"#REF!"}}]
[{"$f":"Rechnungsblatt!#REF!","v":{"$error":"#REF!"}},{"$f":"Rechnungsblatt!#REF!","v":{"$error":"#REF!"}},{"$f":"Rechnungsblatt!#REF!","v":{"$error":"#REF!"}},null,{"$f":"Rechnungsblatt!#REF!","v":{"$error":"#REF!"}},{"$f":"Rechnungsblatt!#REF!","v":{"$error":"#REF!"}},{"$f":"Rechnungsblatt!#REF!","v":{"$error":"#REF!"}},{"$f":"Rechnungsblatt!#REF!","v":{"$error":"#REF!"}},null,{"$f":"Rechnungsblatt!#REF!","v":{"$error":"#REF!"}},{"$f":"Rechnungsblatt!#REF!","v":{"$error":"#REF!"}},{"$f":"Rechnungsblatt!#REF!","v":{"$error":"#REF!"}},{"$f":"Rechnungsblatt!#REF!","v":{"$error":"#REF!"}}]
[{"$f":"Rechnungsblatt!#REF!","v":{"$error":"#REF!"}},{"$f":"Rechnungsblatt!#REF!","v":{"$error":"#REF!"}},{"$f":"Rechnungsblatt!#REF!","v":{"$error":"#REF!"}},null,{"$f":"Rechnungsblatt!#REF!","v":{"$error":"#REF!"}},{"$f":"Rechnungsblatt!#REF!","v":{"$error":"#REF!"}},{"$f":"Rechnungsblatt!#REF!","v":{"$error":"#REF!"}},{"$f":"Rechnungsblatt!#REF!","v":{"$error":"#REF!"}},null,{"$f":"Rechnungsblatt!#REF!","v":{"$error":"#REF!"}},{"$f":"Rechnungsblatt!#REF!","v":{"$error":"#REF!"}},{"$f":"Rechnungsblatt!#REF!","v":{"$error":"#REF!"}},{"$f":"Rechnungsblatt!#REF!","v":{"$error":"#REF!"}}]
[{"$f":"Rechnungsblatt!#REF!","v":{"$error":"#REF!"}},{"$f":"Rechnungsblatt!#REF!","v":{"$error":"#REF!"}},{"$f":"Rechnungsblatt!#REF!","v":{"$error":"#REF!"}},null,{"$f":"Rechnungsblatt!#REF!","v":{"$error":"#REF!"}},{"$f":"Rechnungsblatt!#REF!","v":{"$error":"#REF!"}},{"$f":"Rechnungsblatt!#REF!","v":{"$error":"#REF!"}},{"$f":"Rechnungsblatt!#REF!","v":{"$error":"#REF!"}},null,{"$f":"Rechnungsblatt!#REF!","v":{"$error":"#REF!"}},{"$f":"Rechnungsblatt!#REF!","v":{"$error":"#REF!"}},{"$f":"Rechnungsblatt!#REF!","v":{"$error":"#REF!"}},{"$f":"Rechnungsblatt!#REF!","v":{"$error":"#REF!"}}]
[{"$f":"Rechnungsblatt!#REF!","v":{"$error":"#REF!"}},{"$f":"Rechnungsblatt!#REF!","v":{"$error":"#REF!"}},{"$f":"Rechnungsblatt!#REF!","v":{"$error":"#REF!"}},null,{"$f":"Rechnungsblatt!#REF!","v":{"$error":"#REF!"}},{"$f":"Rechnungsblatt!#REF!","v":{"$error":"#REF!"}},{"$f":"Rechnungsblatt!#REF!","v":{"$error":"#REF!"}},{"$f":"Rechnungsblatt!#REF!","v":{"$error":"#REF!"}},null,{"$f":"Rechnungsblatt!#REF!","v":{"$error":"#REF!"}},{"$f":"Rechnungsblatt!#REF!","v":{"$error":"#REF!"}},{"$f":"Rechnungsblatt!#REF!","v":{"$error":"#REF!"}},{"$f":"Rechnungsblatt!#REF!","v":{"$error":"#REF!"}}]
[{"$f":"Rechnungsblatt!#REF!","v":{"$error":"#REF!"}},{"$f":"Rechnungsblatt!#REF!","v":{"$error":"#REF!"}},{"$f":"Rechnungsblatt!#REF!","v":{"$error":"#REF!"}},null,{"$f":"Rechnungsblatt!#REF!","v":{"$error":"#REF!"}},{"$f":"Rechnungsblatt!#REF!","v":{"$error":"#REF!"}},{"$f":"Rechnungsblatt!#REF!","v":{"$error":"#REF!"}},{"$f":"Rechnungsblatt!#REF!","v":{"$error":"#REF!"}},null,{"$f":"Rechnungsblatt!#REF!","v":{"$error":"#REF!"}},{"$f":"Rechnungsblatt!#REF!","v":{"$error":"#REF!"}},{"$f":"Rechnungsblatt!#REF!","v":{"$error":"#REF!"}},{"$f":"Rechnungsblatt!#REF!","v":{"$error":"#REF!"}}]
[{"$f":"Rechnungsblatt!#REF!","v":{"$error":"#REF!"}},{"$f":"Rechnungsblatt!#REF!","v":{"$error":"#REF!"}},{"$f":"Rechnungsblatt!#REF!","v":{"$error":"#REF!"}},null,{"$f":"Rechnungsblatt!#REF!","v":{"$error":"#REF!"}},{"$f":"Rechnungsblatt!#REF!","v":{"$error":"#REF!"}},{"$f":"Rechnungsblatt!#REF!","v":{"$error":"#REF!"}},{"$f":"Rechnungsblatt!#REF!","v":{"$error":"#REF!"}},null,{"$f":"Rechnungsblatt!#REF!","v":{"$error":"#REF!"}},{"$f":"Rechnungsblatt!#REF!","v":{"$error":"#REF!"}},{"$f":"Rechnungsblatt!#REF!","v":{"$error":"#REF!"}},{"$f":"Rechnungsblatt!#REF!","v":{"$error":"#REF!"}}]
[{"$f":"Rechnungsblatt!#REF!","v":{"$error":"#REF!"}},{"$f":"Rechnungsblatt!#REF!","v":{"$error":"#REF!"}},{"$f":"Rechnungsblatt!#REF!","v":{"$error":"#REF!"}},null,{"$f":"Rechnungsblatt!#REF!","v":{"$error":"#REF!"}},{"$f":"Rechnungsblatt!#REF!","v":{"$error":"#REF!"}},{"$f":"Rechnungsblatt!#REF!","v":{"$error":"#REF!"}},{"$f":"Rechnungsblatt!#REF!","v":{"$error":"#REF!"}},null,{"$f":"Rechnungsblatt!#REF!","v":{"$error":"#REF!"}},{"$f":"Rechnungsblatt!#REF!","v":{"$error":"#REF!"}},{"$f":"Rechnungsblatt!#REF!","v":{"$error":"#REF!"}},{"$f":"Rechnungsblatt!#REF!","v":{"$error":"#REF!"}}]
[{"$f":"Rechnungsblatt!#REF!","v":{"$error":"#REF!"}},{"$f":"Rechnungsblatt!#REF!","v":{"$error":"#REF!"}},{"$f":"Rechnungsblatt!#REF!","v":{"$error":"#REF!"}},null,{"$f":"Rechnungsblatt!#REF!","v":{"$error":"#REF!"}},{"$f":"Rechnungsblatt!#REF!","v":{"$error":"#REF!"}},{"$f":"Rechnungsblatt!#REF!","v":{"$error":"#REF!"}},{"$f":"Rechnungsblatt!#REF!","v":{"$error":"#REF!"}},null,{"$f":"Rechnungsblatt!#REF!","v":{"$error":"#REF!"}},{"$f":"Rechnungsblatt!#REF!","v":{"$error":"#REF!"}},{"$f":"Rechnungsblatt!#REF!","v":{"$error":"#REF!"}},{"$f":"Rechnungsblatt!#REF!","v":{"$error":"#REF!"}}]
[{"$f":"Rechnungsblatt!#REF!","v":{"$error":"#REF!"}},{"$f":"Rechnungsblatt!#REF!","v":{"$error":"#REF!"}},{"$f":"Rechnungsblatt!#REF!","v":{"$error":"#REF!"}},null,{"$f":"Rechnungsblatt!#REF!","v":{"$error":"#REF!"}},{"$f":"Rechnungsblatt!#REF!","v":{"$error":"#REF!"}},{"$f":"Rechnungsblatt!#REF!","v":{"$error":"#REF!"}},{"$f":"Rechnungsblatt!#REF!","v":{"$error":"#REF!"}},null,{"$f":"Rechnungsblatt!#REF!","v":{"$error":"#REF!"}},{"$f":"Rechnungsblatt!#REF!","v":{"$error":"#REF!"}},{"$f":"Rechnungsblatt!#REF!","v":{"$error":"#REF!"}},{"$f":"Rechnungsblatt!#REF!","v":{"$error":"#REF!"}}]
[{"$f":"Rechnungsblatt!#REF!","v":{"$error":"#REF!"}},{"$f":"Rechnungsblatt!#REF!","v":{"$error":"#REF!"}},{"$f":"Rechnungsblatt!#REF!","v":{"$error":"#REF!"}},null,{"$f":"Rechnungsblatt!#REF!","v":{"$error":"#REF!"}},{"$f":"Rechnungsblatt!#REF!","v":{"$error":"#REF!"}},{"$f":"Rechnungsblatt!#REF!","v":{"$error":"#REF!"}},{"$f":"Rechnungsblatt!#REF!","v":{"$error":"#REF!"}},null,{"$f":"Rechnungsblatt!#REF!","v":{"$error":"#REF!"}},{"$f":"Rechnungsblatt!#REF!","v":{"$error":"#REF!"}},{"$f":"Rechnungsblatt!#REF!","v":{"$error":"#REF!"}},{"$f":"Rechnungsblatt!#REF!","v":{"$error":"#REF!"}}]
[{"$f":"Rechnungsblatt!#REF!","v":{"$error":"#REF!"}},{"$f":"Rechnungsblatt!#REF!","v":{"$error":"#REF!"}},{"$f":"Rechnungsblatt!#REF!","v":{"$error":"#REF!"}},null,{"$f":"Rechnungsblatt!#REF!","v":{"$error":"#REF!"}},{"$f":"Rechnungsblatt!#REF!","v":{"$error":"#REF!"}},{"$f":"Rechnungsblatt!#REF!","v":{"$error":"#REF!"}},{"$f":"Rechnungsblatt!#REF!","v":{"$error":"#REF!"}},null,{"$f":"Rechnungsblatt!#REF!","v":{"$error":"#REF!"}},{"$f":"Rechnungsblatt!#REF!","v":{"$error":"#REF!"}},{"$f":"Rechnungsblatt!#REF!","v":{"$error":"#REF!"}},{"$f":"Rechnungsblatt!#REF!","v":{"$error":"#REF!"}}]
[{"$f":"Rechnungsblatt!#REF!","v":{"$error":"#REF!"}},{"$f":"Rechnungsblatt!#REF!","v":{"$error":"#REF!"}},{"$f":"Rechnungsblatt!#REF!","v":{"$error":"#REF!"}},null,{"$f":"Rechnungsblatt!#REF!","v":{"$error":"#REF!"}},{"$f":"Rechnungsblatt!#REF!","v":{"$error":"#REF!"}},{"$f":"Rechnungsblatt!#REF!","v":{"$error":"#REF!"}},{"$f":"Rechnungsblatt!#REF!","v":{"$error":"#REF!"}},null,{"$f":"Rechnungsblatt!#REF!","v":{"$error":"#REF!"}},{"$f":"Rechnungsblatt!#REF!","v":{"$error":"#REF!"}},{"$f":"Rechnungsblatt!#REF!","v":{"$error":"#REF!"}},{"$f":"Rechnungsblatt!#REF!","v":{"$error":"#REF!"}}]
[{"$f":"Rechnungsblatt!#REF!","v":{"$error":"#REF!"}},{"$f":"Rechnungsblatt!#REF!","v":{"$error":"#REF!"}},{"$f":"Rechnungsblatt!#REF!","v":{"$error":"#REF!"}},null,{"$f":"Rechnungsblatt!#REF!","v":{"$error":"#REF!"}},{"$f":"Rechnungsblatt!#REF!","v":{"$error":"#REF!"}},{"$f":"Rechnungsblatt!#REF!","v":{"$error":"#REF!"}},{"$f":"Rechnungsblatt!#REF!","v":{"$error":"#REF!"}},null,{"$f":"Rechnungsblatt!#REF!","v":{"$error":"#REF!"}},{"$f":"Rechnungsblatt!#REF!","v":{"$error":"#REF!"}},{"$f":"Rechnungsblatt!#REF!","v":{"$error":"#REF!"}},{"$f":"Rechnungsblatt!#REF!","v":{"$error":"#REF!"}}]
[{"$f":"Rechnungsblatt!#REF!","v":{"$error":"#REF!"}},{"$f":"Rechnungsblatt!#REF!","v":{"$error":"#REF!"}},{"$f":"Rechnungsblatt!#REF!","v":{"$error":"#REF!"}},null,{"$f":"Rechnungsblatt!#REF!","v":{"$error":"#REF!"}},{"$f":"Rechnungsblatt!#REF!","v":{"$error":"#REF!"}},{"$f":"Rechnungsblatt!#REF!","v":{"$error":"#REF!"}},{"$f":"Rechnungsblatt!#REF!","v":{"$error":"#REF!"}},null,{"$f":"Rechnungsblatt!#REF!","v":{"$error":"#REF!"}},{"$f":"Rechnungsblatt!#REF!","v":{"$error":"#REF!"}},{"$f":"Rechnungsblatt!#REF!","v":{"$error":"#REF!"}},{"$f":"Rechnungsblatt!#REF!","v":{"$error":"#REF!"}}]
[{"$f":"Rechnungsblatt!#REF!","v":{"$error":"#REF!"}},{"$f":"Rechnungsblatt!#REF!","v":{"$error":"#REF!"}},{"$f":"Rechnungsblatt!#REF!","v":{"$error":"#REF!"}},null,{"$f":"Rechnungsblatt!#REF!","v":{"$error":"#REF!"}},{"$f":"Rechnungsblatt!#REF!","v":{"$error":"#REF!"}},{"$f":"Rechnungsblatt!#REF!","v":{"$error":"#REF!"}},{"$f":"Rechnungsblatt!#REF!","v":{"$error":"#REF!"}},null,{"$f":"Rechnungsblatt!#REF!","v":{"$error":"#REF!"}},{"$f":"Rechnungsblatt!#REF!","v":{"$error":"#REF!"}},{"$f":"Rechnungsblatt!#REF!","v":{"$error":"#REF!"}},{"$f":"Rechnungsblatt!#REF!","v":{"$error":"#REF!"}}]
[{"$f":"Rechnungsblatt!#REF!","v":{"$error":"#REF!"}},{"$f":"Rechnungsblatt!#REF!","v":{"$error":"#REF!"}},{"$f":"Rechnungsblatt!#REF!","v":{"$error":"#REF!"}},null,{"$f":"Rechnungsblatt!#REF!","v":{"$error":"#REF!"}},{"$f":"Rechnungsblatt!#REF!","v":{"$error":"#REF!"}},{"$f":"Rechnungsblatt!#REF!","v":{"$error":"#REF!"}},{"$f":"Rechnungsblatt!#REF!","v":{"$error":"#REF!"}},null,{"$f":"Rechnungsblatt!#REF!","v":{"$error":"#REF!"}},{"$f":"Rechnungsblatt!#REF!","v":{"$error":"#REF!"}},{"$f":"Rechnungsblatt!#REF!","v":{"$error":"#REF!"}},{"$f":"Rechnungsblatt!#REF!","v":{"$error":"#REF!"}}]
[{"$f":"Rechnungsblatt!#REF!","v":{"$error":"#REF!"}},{"$f":"Rechnungsblatt!#REF!","v":{"$error":"#REF!"}},{"$f":"Rechnungsblatt!#REF!","v":{"$error":"#REF!"}},null,{"$f":"Rechnungsblatt!#REF!","v":{"$error":"#REF!"}},{"$f":"Rechnungsblatt!#REF!","v":{"$error":"#REF!"}},{"$f":"Rechnungsblatt!#REF!","v":{"$error":"#REF!"}},{"$f":"Rechnungsblatt!#REF!","v":{"$error":"#REF!"}},null,{"$f":"Rechnungsblatt!#REF!","v":{"$error":"#REF!"}},{"$f":"Rechnungsblatt!#REF!","v":{"$error":"#REF!"}},{"$f":"Rechnungsblatt!#REF!","v":{"$error":"#REF!"}},{"$f":"Rechnungsblatt!#REF!","v":{"$error":"#REF!"}}]
[{"$f":"Rechnungsblatt!#REF!","v":{"$error":"#REF!"}},{"$f":"Rechnungsblatt!#REF!","v":{"$error":"#REF!"}},{"$f":"Rechnungsblatt!#REF!","v":{"$error":"#REF!"}},null,{"$f":"Rechnungsblatt!#REF!","v":{"$error":"#REF!"}},{"$f":"Rechnungsblatt!#REF!","v":{"$error":"#REF!"}},{"$f":"Rechnungsblatt!#REF!","v":{"$error":"#REF!"}},{"$f":"Rechnungsblatt!#REF!","v":{"$error":"#REF!"}},null,{"$f":"Rechnungsblatt!#REF!","v":{"$error":"#REF!"}},{"$f":"Rechnungsblatt!#REF!","v":{"$error":"#REF!"}},{"$f":"Rechnungsblatt!#REF!","v":{"$error":"#REF!"}},{"$f":"Rechnungsblatt!#REF!","v":{"$error":"#REF!"}}]
[{"$f":"Rechnungsblatt!#REF!","v":{"$error":"#REF!"}},{"$f":"Rechnungsblatt!#REF!","v":{"$error":"#REF!"}},{"$f":"Rechnungsblatt!#REF!","v":{"$error":"#REF!"}},null,{"$f":"Rechnungsblatt!#REF!","v":{"$error":"#REF!"}},{"$f":"Rechnungsblatt!#REF!","v":{"$error":"#REF!"}},{"$f":"Rechnungsblatt!#REF!","v":{"$error":"#REF!"}},{"$f":"Rechnungsblatt!#REF!","v":{"$error":"#REF!"}},null,{"$f":"Rechnungsblatt!#REF!","v":{"$error":"#REF!"}},{"$f":"Rechnungsblatt!#REF!","v":{"$error":"#REF!"}},{"$f":"Rechnungsblatt!#REF!","v":{"$error":"#REF!"}},{"$f":"Rechnungsblatt!#REF!","v":{"$error":"#REF!"}}]
[{"$f":"Rechnungsblatt!#REF!","v":{"$error":"#REF!"}},{"$f":"Rechnungsblatt!#REF!","v":{"$error":"#REF!"}},{"$f":"Rechnungsblatt!#REF!","v":{"$error":"#REF!"}},null,{"$f":"Rechnungsblatt!#REF!","v":{"$error":"#REF!"}},{"$f":"Rechnungsblatt!#REF!","v":{"$error":"#REF!"}},{"$f":"Rechnungsblatt!#REF!","v":{"$error":"#REF!"}},{"$f":"Rechnungsblatt!#REF!","v":{"$error":"#REF!"}},null,{"$f":"Rechnungsblatt!#REF!","v":{"$error":"#REF!"}},{"$f":"Rechnungsblatt!#REF!","v":{"$error":"#REF!"}},{"$f":"Rechnungsblatt!#REF!","v":{"$error":"#REF!"}},{"$f":"Rechnungsblatt!#REF!","v":{"$error":"#REF!"}}]
[{"$f":"Rechnungsblatt!#REF!","v":{"$error":"#REF!"}},{"$f":"Rechnungsblatt!#REF!","v":{"$error":"#REF!"}},{"$f":"Rechnungsblatt!#REF!","v":{"$error":"#REF!"}},null,{"$f":"Rechnungsblatt!#REF!","v":{"$error":"#REF!"}},{"$f":"Rechnungsblatt!#REF!","v":{"$error":"#REF!"}},{"$f":"Rechnungsblatt!#REF!","v":{"$error":"#REF!"}},{"$f":"Rechnungsblatt!#REF!","v":{"$error":"#REF!"}},null,{"$f":"Rechnungsblatt!#REF!","v":{"$error":"#REF!"}},{"$f":"Rechnungsblatt!#REF!","v":{"$error":"#REF!"}},{"$f":"Rechnungsblatt!#REF!","v":{"$error":"#REF!"}},{"$f":"Rechnungsblatt!#REF!","v":{"$error":"#REF!"}}]
[{"$f":"Rechnungsblatt!#REF!","v":{"$error":"#REF!"}},{"$f":"Rechnungsblatt!#REF!","v":{"$error":"#REF!"}},{"$f":"Rechnungsblatt!#REF!","v":{"$error":"#REF!"}},null,{"$f":"Rechnungsblatt!#REF!","v":{"$error":"#REF!"}},{"$f":"Rechnungsblatt!#REF!","v":{"$error":"#REF!"}},{"$f":"Rechnungsblatt!#REF!","v":{"$error":"#REF!"}},{"$f":"Rechnungsblatt!#REF!","v":{"$error":"#REF!"}},null,{"$f":"Rechnungsblatt!#REF!","v":{"$error":"#REF!"}},{"$f":"Rechnungsblatt!#REF!","v":{"$error":"#REF!"}},{"$f":"Rechnungsblatt!#REF!","v":{"$error":"#REF!"}},{"$f":"Rechnungsblatt!#REF!","v":{"$error":"#REF!"}}]
[{"$f":"Rechnungsblatt!#REF!","v":{"$error":"#REF!"}},{"$f":"Rechnungsblatt!#REF!","v":{"$error":"#REF!"}},{"$f":"Rechnungsblatt!#REF!","v":{"$error":"#REF!"}},null,{"$f":"Rechnungsblatt!#REF!","v":{"$error":"#REF!"}},{"$f":"Rechnungsblatt!#REF!","v":{"$error":"#REF!"}},{"$f":"Rechnungsblatt!#REF!","v":{"$error":"#REF!"}},{"$f":"Rechnungsblatt!#REF!","v":{"$error":"#REF!"}},null,{"$f":"Rechnungsblatt!#REF!","v":{"$error":"#REF!"}},{"$f":"Rechnungsblatt!#REF!","v":{"$error":"#REF!"}},{"$f":"Rechnungsblatt!#REF!","v":{"$error":"#REF!"}},{"$f":"Rechnungsblatt!#REF!","v":{"$error":"#REF!"}}]
[{"$f":"Rechnungsblatt!#REF!","v":{"$error":"#REF!"}},{"$f":"Rechnungsblatt!#REF!","v":{"$error":"#REF!"}},{"$f":"Rechnungsblatt!#REF!","v":{"$error":"#REF!"}},null,{"$f":"Rechnungsblatt!#REF!","v":{"$error":"#REF!"}},{"$f":"Rechnungsblatt!#REF!","v":{"$error":"#REF!"}},{"$f":"Rechnungsblatt!#REF!","v":{"$error":"#REF!"}},{"$f":"Rechnungsblatt!#REF!","v":{"$error":"#REF!"}},null,{"$f":"Rechnungsblatt!#REF!","v":{"$error":"#REF!"}},{"$f":"Rechnungsblatt!#REF!","v":{"$error":"#REF!"}},{"$f":"Rechnungsblatt!#REF!","v":{"$error":"#REF!"}},{"$f":"Rechnungsblatt!#REF!","v":{"$error":"#REF!"}}]
[{"$f":"Rechnungsblatt!#REF!","v":{"$error":"#REF!"}},{"$f":"Rechnungsblatt!#REF!","v":{"$error":"#REF!"}},{"$f":"Rechnungsblatt!#REF!","v":{"$error":"#REF!"}},null,{"$f":"Rechnungsblatt!#REF!","v":{"$error":"#REF!"}},{"$f":"Rechnungsblatt!#REF!","v":{"$error":"#REF!"}},{"$f":"Rechnungsblatt!#REF!","v":{"$error":"#REF!"}},{"$f":"Rechnungsblatt!#REF!","v":{"$error":"#REF!"}},null,{"$f":"Rechnungsblatt!#REF!","v":{"$error":"#REF!"}},{"$f":"Rechnungsblatt!#REF!","v":{"$error":"#REF!"}},{"$f":"Rechnungsblatt!#REF!","v":{"$error":"#REF!"}},{"$f":"Rechnungsblatt!#REF!","v":{"$error":"#REF!"}}]
[{"$f":"Rechnungsblatt!#REF!","v":{"$error":"#REF!"}},{"$f":"Rechnungsblatt!#REF!","v":{"$error":"#REF!"}},{"$f":"Rechnungsblatt!#REF!","v":{"$error":"#REF!"}},null,{"$f":"Rechnungsblatt!#REF!","v":{"$error":"#REF!"}},{"$f":"Rechnungsblatt!#REF!","v":{"$error":"#REF!"}},{"$f":"Rechnungsblatt!#REF!","v":{"$error":"#REF!"}},{"$f":"Rechnungsblatt!#REF!","v":{"$error":"#REF!"}},null,{"$f":"Rechnungsblatt!#REF!","v":{"$error":"#REF!"}},{"$f":"Rechnungsblatt!#REF!","v":{"$error":"#REF!"}},{"$f":"Rechnungsblatt!#REF!","v":{"$error":"#REF!"}},{"$f":"Rechnungsblatt!#REF!","v":{"$error":"#REF!"}}]
[{"$f":"Rechnungsblatt!#REF!","v":{"$error":"#REF!"}},{"$f":"Rechnungsblatt!#REF!","v":{"$error":"#REF!"}},{"$f":"Rechnungsblatt!#REF!","v":{"$error":"#REF!"}},null,{"$f":"Rechnungsblatt!#REF!","v":{"$error":"#REF!"}},{"$f":"Rechnungsblatt!#REF!","v":{"$error":"#REF!"}},{"$f":"Rechnungsblatt!#REF!","v":{"$error":"#REF!"}},{"$f":"Rechnungsblatt!#REF!","v":{"$error":"#REF!"}},null,{"$f":"Rechnungsblatt!#REF!","v":{"$error":"#REF!"}},{"$f":"Rechnungsblatt!#REF!","v":{"$error":"#REF!"}},{"$f":"Rechnungsblatt!#REF!","v":{"$error":"#REF!"}},{"$f":"Rechnungsblatt!#REF!","v":{"$error":"#REF!"}}]
[{"$f":"Rechnungsblatt!#REF!","v":{"$error":"#REF!"}},{"$f":"Rechnungsblatt!#REF!","v":{"$error":"#REF!"}},{"$f":"Rechnungsblatt!#REF!","v":{"$error":"#REF!"}},null,{"$f":"Rechnungsblatt!#REF!","v":{"$error":"#REF!"}},{"$f":"Rechnungsblatt!#REF!","v":{"$error":"#REF!"}},{"$f":"Rechnungsblatt!#REF!","v":{"$error":"#REF!"}},{"$f":"Rechnungsblatt!#REF!","v":{"$error":"#REF!"}},null,{"$f":"Rechnungsblatt!#REF!","v":{"$error":"#REF!"}},{"$f":"Rechnungsblatt!#REF!","v":{"$error":"#REF!"}},{"$f":"Rechnungsblatt!#REF!","v":{"$error":"#REF!"}},{"$f":"Rechnungsblatt!#REF!","v":{"$error":"#REF!"}}]
[{"$f":"Rechnungsblatt!#REF!","v":{"$error":"#REF!"}},{"$f":"Rechnungsblatt!#REF!","v":{"$error":"#REF!"}},{"$f":"Rechnungsblatt!#REF!","v":{"$error":"#REF!"}},null,{"$f":"Rechnungsblatt!#REF!","v":{"$error":"#REF!"}},{"$f":"Rechnungsblatt!#REF!","v":{"$error":"#REF!"}},{"$f":"Rechnungsblatt!#REF!","v":{"$error":"#REF!"}},{"$f":"Rechnungsblatt!#REF!","v":{"$error":"#REF!"}},null,{"$f":"Rechnungsblatt!#REF!","v":{"$error":"#REF!"}},{"$f":"Rechnungsblatt!#REF!","v":{"$error":"#REF!"}},{"$f":"Rechnungsblatt!#REF!","v":{"$error":"#REF!"}},{"$f":"Rechnungsblatt!#REF!","v":{"$error":"#REF!"}}]
[{"$f":"Rechnungsblatt!#REF!","v":{"$error":"#REF!"}},{"$f":"Rechnungsblatt!#REF!","v":{"$error":"#REF!"}},{"$f":"Rechnungsblatt!#REF!","v":{"$error":"#REF!"}},null,{"$f":"Rechnungsblatt!#REF!","v":{"$error":"#REF!"}},{"$f":"Rechnungsblatt!#REF!","v":{"$error":"#REF!"}},{"$f":"Rechnungsblatt!#REF!","v":{"$error":"#REF!"}},{"$f":"Rechnungsblatt!#REF!","v":{"$error":"#REF!"}},null,{"$f":"Rechnungsblatt!#REF!","v":{"$error":"#REF!"}},{"$f":"Rechnungsblatt!#REF!","v":{"$error":"#REF!"}},{"$f":"Rechnungsblatt!#REF!","v":{"$error":"#REF!"}},{"$f":"Rechnungsblatt!#REF!","v":{"$error":"#REF!"}}]
[{"$f":"Rechnungsblatt!#REF!","v":{"$error":"#REF!"}},{"$f":"Rechnungsblatt!#REF!","v":{"$error":"#REF!"}},{"$f":"Rechnungsblatt!#REF!","v":{"$error":"#REF!"}},null,{"$f":"Rechnungsblatt!#REF!","v":{"$error":"#REF!"}},{"$f":"Rechnungsblatt!#REF!","v":{"$error":"#REF!"}},{"$f":"Rechnungsblatt!#REF!","v":{"$error":"#REF!"}},{"$f":"Rechnungsblatt!#REF!","v":{"$error":"#REF!"}},null,{"$f":"Rechnungsblatt!#REF!","v":{"$error":"#REF!"}},{"$f":"Rechnungsblatt!#REF!","v":{"$error":"#REF!"}},{"$f":"Rechnungsblatt!#REF!","v":{"$error":"#REF!"}},{"$f":"Rechnungsblatt!#REF!","v":{"$error":"#REF!"}}]
[{"$f":"Rechnungsblatt!#REF!","v":{"$error":"#REF!"}},{"$f":"Rechnungsblatt!#REF!","v":{"$error":"#REF!"}},{"$f":"Rechnungsblatt!#REF!","v":{"$error":"#REF!"}},null,{"$f":"Rechnungsblatt!#REF!","v":{"$error":"#REF!"}},{"$f":"Rechnungsblatt!#REF!","v":{"$error":"#REF!"}},{"$f":"Rechnungsblatt!#REF!","v":{"$error":"#REF!"}},{"$f":"Rechnungsblatt!#REF!","v":{"$error":"#REF!"}},null,{"$f":"Rechnungsblatt!#REF!","v":{"$error":"#REF!"}},{"$f":"Rechnungsblatt!#REF!","v":{"$error":"#REF!"}},{"$f":"Rechnungsblatt!#REF!","v":{"$error":"#REF!"}},{"$f":"Rechnungsblatt!#REF!","v":{"$error":"#REF!"}}]
[{"$f":"Rechnungsblatt!#REF!","v":{"$error":"#REF!"}},{"$f":"Rechnungsblatt!#REF!","v":{"$error":"#REF!"}},{"$f":"Rechnungsblatt!#REF!","v":{"$error":"#REF!"}},null,{"$f":"Rechnungsblatt!#REF!","v":{"$error":"#REF!"}},{"$f":"Rechnungsblatt!#REF!","v":{"$error":"#REF!"}},{"$f":"Rechnungsblatt!#REF!","v":{"$error":"#REF!"}},{"$f":"Rechnungsblatt!#REF!","v":{"$error":"#REF!"}},null,{"$f":"Rechnungsblatt!#REF!","v":{"$error":"#REF!"}},{"$f":"Rechnungsblatt!#REF!","v":{"$error":"#REF!"}},{"$f":"Rechnungsblatt!#REF!","v":{"$error":"#REF!"}},{"$f":"Rechnungsblatt!#REF!","v":{"$error":"#REF!"}}]
[{"$f":"Rechnungsblatt!#REF!","v":{"$error":"#REF!"}},{"$f":"Rechnungsblatt!#REF!","v":{"$error":"#REF!"}},{"$f":"Rechnungsblatt!#REF!","v":{"$error":"#REF!"}},null,{"$f":"Rechnungsblatt!#REF!","v":{"$error":"#REF!"}},{"$f":"Rechnungsblatt!#REF!","v":{"$error":"#REF!"}},{"$f":"Rechnungsblatt!#REF!","v":{"$error":"#REF!"}},{"$f":"Rechnungsblatt!#REF!","v":{"$error":"#REF!"}},null,{"$f":"Rechnungsblatt!#REF!","v":{"$error":"#REF!"}},{"$f":"Rechnungsblatt!#REF!","v":{"$error":"#REF!"}},{"$f":"Rechnungsblatt!#REF!","v":{"$error":"#REF!"}},{"$f":"Rechnungsblatt!#REF!","v":{"$error":"#REF!"}}]
[{"$f":"Rechnungsblatt!#REF!","v":{"$error":"#REF!"}},{"$f":"Rechnungsblatt!#REF!","v":{"$error":"#REF!"}},{"$f":"Rechnungsblatt!#REF!","v":{"$error":"#REF!"}},null,{"$f":"Rechnungsblatt!#REF!","v":{"$error":"#REF!"}},{"$f":"Rechnungsblatt!#REF!","v":{"$error":"#REF!"}},{"$f":"Rechnungsblatt!#REF!","v":{"$error":"#REF!"}},{"$f":"Rechnungsblatt!#REF!","v":{"$error":"#REF!"}},null,{"$f":"Rechnungsblatt!#REF!","v":{"$error":"#REF!"}},{"$f":"Rechnungsblatt!#REF!","v":{"$error":"#REF!"}},{"$f":"Rechnungsblatt!#REF!","v":{"$error":"#REF!"}},{"$f":"Rechnungsblatt!#REF!","v":{"$error":"#REF!"}}]
[{"$f":"Rechnungsblatt!#REF!","v":{"$error":"#REF!"}},{"$f":"Rechnungsblatt!#REF!","v":{"$error":"#REF!"}},{"$f":"Rechnungsblatt!#REF!","v":{"$error":"#REF!"}},null,{"$f":"Rechnungsblatt!#REF!","v":{"$error":"#REF!"}},{"$f":"Rechnungsblatt!#REF!","v":{"$error":"#REF!"}},{"$f":"Rechnungsblatt!#REF!","v":{"$error":"#REF!"}},{"$f":"Rechnungsblatt!#REF!","v":{"$error":"#REF!"}},null,{"$f":"Rechnungsblatt!#REF!","v":{"$error":"#REF!"}},{"$f":"Rechnungsblatt!#REF!","v":{"$error":"#REF!"}},{"$f":"Rechnungsblatt!#REF!","v":{"$error":"#REF!"}},{"$f":"Rechnungsblatt!#REF!","v":{"$error":"#REF!"}}]
[{"$f":"Rechnungsblatt!#REF!","v":{"$error":"#REF!"}},{"$f":"Rechnungsblatt!#REF!","v":{"$error":"#REF!"}},{"$f":"Rechnungsblatt!#REF!","v":{"$error":"#REF!"}},null,{"$f":"Rechnungsblatt!#REF!","v":{"$error":"#REF!"}},{"$f":"Rechnungsblatt!#REF!","v":{"$error":"#REF!"}},{"$f":"Rechnungsblatt!#REF!","v":{"$error":"#REF!"}},{"$f":"Rechnungsblatt!#REF!","v":{"$error":"#REF!"}},null,{"$f":"Rechnungsblatt!#REF!","v":{"$error":"#REF!"}},{"$f":"Rechnungsblatt!#REF!","v":{"$error":"#REF!"}},{"$f":"Rechnungsblatt!#REF!","v":{"$error":"#REF!"}},{"$f":"Rechnungsblatt!#REF!","v":{"$error":"#REF!"}}]
[{"$f":"Rechnungsblatt!#REF!","v":{"$error":"#REF!"}},{"$f":"Rechnungsblatt!#REF!","v":{"$error":"#REF!"}},{"$f":"Rechnungsblatt!#REF!","v":{"$error":"#REF!"}},null,{"$f":"Rechnungsblatt!#REF!","v":{"$error":"#REF!"}},{"$f":"Rechnungsblatt!#REF!","v":{"$error":"#REF!"}},{"$f":"Rechnungsblatt!#REF!","v":{"$error":"#REF!"}},{"$f":"Rechnungsblatt!#REF!","v":{"$error":"#REF!"}},null,{"$f":"Rechnungsblatt!#REF!","v":{"$error":"#REF!"}},{"$f":"Rechnungsblatt!#REF!","v":{"$error":"#REF!"}},{"$f":"Rechnungsblatt!#REF!","v":{"$error":"#REF!"}},{"$f":"Rechnungsblatt!#REF!","v":{"$error":"#REF!"}}]
[{"$f":"Rechnungsblatt!#REF!","v":{"$error":"#REF!"}},{"$f":"Rechnungsblatt!#REF!","v":{"$error":"#REF!"}},{"$f":"Rechnungsblatt!#REF!","v":{"$error":"#REF!"}},null,{"$f":"Rechnungsblatt!#REF!","v":{"$error":"#REF!"}},{"$f":"Rechnungsblatt!#REF!","v":{"$error":"#REF!"}},{"$f":"Rechnungsblatt!#REF!","v":{"$error":"#REF!"}},{"$f":"Rechnungsblatt!#REF!","v":{"$error":"#REF!"}},null,{"$f":"Rechnungsblatt!#REF!","v":{"$error":"#REF!"}},{"$f":"Rechnungsblatt!#REF!","v":{"$error":"#REF!"}},{"$f":"Rechnungsblatt!#REF!","v":{"$error":"#REF!"}},{"$f":"Rechnungsblatt!#REF!","v":{"$error":"#REF!"}}]
[{"$f":"Rechnungsblatt!#REF!","v":{"$error":"#REF!"}},{"$f":"Rechnungsblatt!#REF!","v":{"$error":"#REF!"}},{"$f":"Rechnungsblatt!#REF!","v":{"$error":"#REF!"}},null,{"$f":"Rechnungsblatt!#REF!","v":{"$error":"#REF!"}},{"$f":"Rechnungsblatt!#REF!","v":{"$error":"#REF!"}},{"$f":"Rechnungsblatt!#REF!","v":{"$error":"#REF!"}},{"$f":"Rechnungsblatt!#REF!","v":{"$error":"#REF!"}},null,{"$f":"Rechnungsblatt!#REF!","v":{"$error":"#REF!"}},{"$f":"Rechnungsblatt!#REF!","v":{"$error":"#REF!"}},{"$f":"Rechnungsblatt!#REF!","v":{"$error":"#REF!"}},{"$f":"Rechnungsblatt!#REF!","v":{"$error":"#REF!"}}]
[{"$f":"Rechnungsblatt!#REF!","v":{"$error":"#REF!"}},{"$f":"Rechnungsblatt!#REF!","v":{"$error":"#REF!"}},{"$f":"Rechnungsblatt!#REF!","v":{"$error":"#REF!"}},null,{"$f":"Rechnungsblatt!#REF!","v":{"$error":"#REF!"}},{"$f":"Rechnungsblatt!#REF!","v":{"$error":"#REF!"}},{"$f":"Rechnungsblatt!#REF!","v":{"$error":"#REF!"}},{"$f":"Rechnungsblatt!#REF!","v":{"$error":"#REF!"}},null,{"$f":"Rechnungsblatt!#REF!","v":{"$error":"#REF!"}},{"$f":"Rechnungsblatt!#REF!","v":{"$error":"#REF!"}},{"$f":"Rechnungsblatt!#REF!","v":{"$error":"#REF!"}},{"$f":"Rechnungsblatt!#REF!","v":{"$error":"#REF!"}}]
[{"$f":"Rechnungsblatt!#REF!","v":{"$error":"#REF!"}},{"$f":"Rechnungsblatt!#REF!","v":{"$error":"#REF!"}},{"$f":"Rechnungsblatt!#REF!","v":{"$error":"#REF!"}},null,{"$f":"Rechnungsblatt!#REF!","v":{"$error":"#REF!"}},{"$f":"Rechnungsblatt!#REF!","v":{"$error":"#REF!"}},{"$f":"Rechnungsblatt!#REF!","v":{"$error":"#REF!"}},{"$f":"Rechnungsblatt!#REF!","v":{"$error":"#REF!"}},null,{"$f":"Rechnungsblatt!#REF!","v":{"$error":"#REF!"}},{"$f":"Rechnungsblatt!#REF!","v":{"$error":"#REF!"}},{"$f":"Rechnungsblatt!#REF!","v":{"$error":"#REF!"}},{"$f":"Rechnungsblatt!#REF!","v":{"$error":"#REF!"}}]
[{"$f":"Rechnungsblatt!#REF!","v":{"$error":"#REF!"}},{"$f":"Rechnungsblatt!#REF!","v":{"$error":"#REF!"}},{"$f":"Rechnungsblatt!#REF!","v":{"$error":"#REF!"}},null,{"$f":"Rechnungsblatt!#REF!","v":{"$error":"#REF!"}},{"$f":"Rechnungsblatt!#REF!","v":{"$error":"#REF!"}},{"$f":"Rechnungsblatt!#REF!","v":{"$error":"#REF!"}},{"$f":"Rechnungsblatt!#REF!","v":{"$error":"#REF!"}},null,{"$f":"Rechnungsblatt!#REF!","v":{"$error":"#REF!"}},{"$f":"Rechnungsblatt!#REF!","v":{"$error":"#REF!"}},{"$f":"Rechnungsblatt!#REF!","v":{"$error":"#REF!"}},{"$f":"Rechnungsblatt!#REF!","v":{"$error":"#REF!"}}]
[{"$f":"Rechnungsblatt!#REF!","v":{"$error":"#REF!"}},{"$f":"Rechnungsblatt!#REF!","v":{"$error":"#REF!"}},{"$f":"Rechnungsblatt!#REF!","v":{"$error":"#REF!"}},null,{"$f":"Rechnungsblatt!#REF!","v":{"$error":"#REF!"}},{"$f":"Rechnungsblatt!#REF!","v":{"$error":"#REF!"}},{"$f":"Rechnungsblatt!#REF!","v":{"$error":"#REF!"}},{"$f":"Rechnungsblatt!#REF!","v":{"$error":"#REF!"}},null,{"$f":"Rechnungsblatt!#REF!","v":{"$error":"#REF!"}},{"$f":"Rechnungsblatt!#REF!","v":{"$error":"#REF!"}},{"$f":"Rechnungsblatt!#REF!","v":{"$error":"#REF!"}},{"$f":"Rechnungsblatt!#REF!","v":{"$error":"#REF!"}}]
[{"$f":"Rechnungsblatt!#REF!","v":{"$error":"#REF!"}},{"$f":"Rechnungsblatt!#REF!","v":{"$error":"#REF!"}},{"$f":"Rechnungsblatt!#REF!","v":{"$error":"#REF!"}},null,{"$f":"Rechnungsblatt!#REF!","v":{"$error":"#REF!"}},{"$f":"Rechnungsblatt!#REF!","v":{"$error":"#REF!"}},{"$f":"Rechnungsblatt!#REF!","v":{"$error":"#REF!"}},{"$f":"Rechnungsblatt!#REF!","v":{"$error":"#REF!"}},null,{"$f":"Rechnungsblatt!#REF!","v":{"$error":"#REF!"}},{"$f":"Rechnungsblatt!#REF!","v":{"$error":"#REF!"}},{"$f":"Rechnungsblatt!#REF!","v":{"$error":"#REF!"}},{"$f":"Rechnungsblatt!#REF!","v":{"$error":"#REF!"}}]
[{"$f":"Rechnungsblatt!#REF!","v":{"$error":"#REF!"}},{"$f":"Rechnungsblatt!#REF!","v":{"$error":"#REF!"}},{"$f":"Rechnungsblatt!#REF!","v":{"$error":"#REF!"}},null,{"$f":"Rechnungsblatt!#REF!","v":{"$error":"#REF!"}},{"$f":"Rechnungsblatt!#REF!","v":{"$error":"#REF!"}},{"$f":"Rechnungsblatt!#REF!","v":{"$error":"#REF!"}},{"$f":"Rechnungsblatt!#REF!","v":{"$error":"#REF!"}},null,{"$f":"Rechnungsblatt!#REF!","v":{"$error":"#REF!"}},{"$f":"Rechnungsblatt!#REF!","v":{"$error":"#REF!"}},{"$f":"Rechnungsblatt!#REF!","v":{"$error":"#REF!"}},{"$f":"Rechnungsblatt!#REF!","v":{"$error":"#REF!"}}]
[{"$f":"Rechnungsblatt!#REF!","v":{"$error":"#REF!"}},{"$f":"Rechnungsblatt!#REF!","v":{"$error":"#REF!"}},{"$f":"Rechnungsblatt!#REF!","v":{"$error":"#REF!"}},null,{"$f":"Rechnungsblatt!#REF!","v":{"$error":"#REF!"}},{"$f":"Rechnungsblatt!#REF!","v":{"$error":"#REF!"}},{"$f":"Rechnungsblatt!#REF!","v":{"$error":"#REF!"}},{"$f":"Rechnungsblatt!#REF!","v":{"$error":"#REF!"}},null,{"$f":"Rechnungsblatt!#REF!","v":{"$error":"#REF!"}},{"$f":"Rechnungsblatt!#REF!","v":{"$error":"#REF!"}},{"$f":"Rechnungsblatt!#REF!","v":{"$error":"#REF!"}},{"$f":"Rechnungsblatt!#REF!","v":{"$error":"#REF!"}}]
[{"$f":"Rechnungsblatt!#REF!","v":{"$error":"#REF!"}},{"$f":"Rechnungsblatt!#REF!","v":{"$error":"#REF!"}},{"$f":"Rechnungsblatt!#REF!","v":{"$error":"#REF!"}},null,{"$f":"Rechnungsblatt!#REF!","v":{"$error":"#REF!"}},{"$f":"Rechnungsblatt!#REF!","v":{"$error":"#REF!"}},{"$f":"Rechnungsblatt!#REF!","v":{"$error":"#REF!"}},{"$f":"Rechnungsblatt!#REF!","v":{"$error":"#REF!"}},null,{"$f":"Rechnungsblatt!#REF!","v":{"$error":"#REF!"}},{"$f":"Rechnungsblatt!#REF!","v":{"$error":"#REF!"}},{"$f":"Rechnungsblatt!#REF!","v":{"$error":"#REF!"}},{"$f":"Rechnungsblatt!#REF!","v":{"$error":"#REF!"}}]
[{"$f":"Rechnungsblatt!#REF!","v":{"$error":"#REF!"}},{"$f":"Rechnungsblatt!#REF!","v":{"$error":"#REF!"}},{"$f":"Rechnungsblatt!#REF!","v":{"$error":"#REF!"}},null,{"$f":"Rechnungsblatt!#REF!","v":{"$error":"#REF!"}},{"$f":"Rechnungsblatt!#REF!","v":{"$error":"#REF!"}},{"$f":"Rechnungsblatt!#REF!","v":{"$error":"#REF!"}},{"$f":"Rechnungsblatt!#REF!","v":{"$error":"#REF!"}},null,{"$f":"Rechnungsblatt!#REF!","v":{"$error":"#REF!"}},{"$f":"Rechnungsblatt!#REF!","v":{"$error":"#REF!"}},{"$f":"Rechnungsblatt!#REF!","v":{"$error":"#REF!"}},{"$f":"Rechnungsblatt!#REF!","v":{"$error":"#REF!"}}]
[{"$f":"Rechnungsblatt!#REF!","v":{"$error":"#REF!"}},{"$f":"Rechnungsblatt!#REF!","v":{"$error":"#REF!"}},{"$f":"Rechnungsblatt!#REF!","v":{"$error":"#REF!"}},null,{"$f":"Rechnungsblatt!#REF!","v":{"$error":"#REF!"}},{"$f":"Rechnungsblatt!#REF!","v":{"$error":"#REF!"}},{"$f":"Rechnungsblatt!#REF!","v":{"$error":"#REF!"}},{"$f":"Rechnungsblatt!#REF!","v":{"$error":"#REF!"}},null,{"$f":"Rechnungsblatt!#REF!","v":{"$error":"#REF!"}},{"$f":"Rechnungsblatt!#REF!","v":{"$error":"#REF!"}},{"$f":"Rechnungsblatt!#REF!","v":{"$error":"#REF!"}},{"$f":"Rechnungsblatt!#REF!","v":{"$error":"#REF!"}}]
[{"$f":"Rechnungsblatt!#REF!","v":{"$error":"#REF!"}},{"$f":"Rechnungsblatt!#REF!","v":{"$error":"#REF!"}},{"$f":"Rechnungsblatt!#REF!","v":{"$error":"#REF!"}},null,{"$f":"Rechnungsblatt!#REF!","v":{"$error":"#REF!"}},{"$f":"Rechnungsblatt!#REF!","v":{"$error":"#REF!"}},{"$f":"Rechnungsblatt!#REF!","v":{"$error":"#REF!"}},{"$f":"Rechnungsblatt!#REF!","v":{"$error":"#REF!"}},null,{"$f":"Rechnungsblatt!#REF!","v":{"$error":"#REF!"}},{"$f":"Rechnungsblatt!#REF!","v":{"$error":"#REF!"}},{"$f":"Rechnungsblatt!#REF!","v":{"$error":"#REF!"}},{"$f":"Rechnungsblatt!#REF!","v":{"$error":"#REF!"}}]
[{"$f":"Rechnungsblatt!#REF!","v":{"$error":"#REF!"}},{"$f":"Rechnungsblatt!#REF!","v":{"$error":"#REF!"}},{"$f":"Rechnungsblatt!#REF!","v":{"$error":"#REF!"}},null,{"$f":"Rechnungsblatt!#REF!","v":{"$error":"#REF!"}},{"$f":"Rechnungsblatt!#REF!","v":{"$error":"#REF!"}},{"$f":"Rechnungsblatt!#REF!","v":{"$error":"#REF!"}},{"$f":"Rechnungsblatt!#REF!","v":{"$error":"#REF!"}},null,{"$f":"Rechnungsblatt!#REF!","v":{"$error":"#REF!"}},{"$f":"Rechnungsblatt!#REF!","v":{"$error":"#REF!"}},{"$f":"Rechnungsblatt!#REF!","v":{"$error":"#REF!"}},{"$f":"Rechnungsblatt!#REF!","v":{"$error":"#REF!"}}]
[{"$f":"Rechnungsblatt!#REF!","v":{"$error":"#REF!"}},{"$f":"Rechnungsblatt!#REF!","v":{"$error":"#REF!"}},{"$f":"Rechnungsblatt!#REF!","v":{"$error":"#REF!"}},null,{"$f":"Rechnungsblatt!#REF!","v":{"$error":"#REF!"}},{"$f":"Rechnungsblatt!#REF!","v":{"$error":"#REF!"}},{"$f":"Rechnungsblatt!#REF!","v":{"$error":"#REF!"}},{"$f":"Rechnungsblatt!#REF!","v":{"$error":"#REF!"}},null,{"$f":"Rechnungsblatt!#REF!","v":{"$error":"#REF!"}},{"$f":"Rechnungsblatt!#REF!","v":{"$error":"#REF!"}},{"$f":"Rechnungsblatt!#REF!","v":{"$error":"#REF!"}},{"$f":"Rechnungsblatt!#REF!","v":{"$error":"#REF!"}}]
[{"$f":"Rechnungsblatt!#REF!","v":{"$error":"#REF!"}},{"$f":"Rechnungsblatt!#REF!","v":{"$error":"#REF!"}},{"$f":"Rechnungsblatt!#REF!","v":{"$error":"#REF!"}},null,{"$f":"Rechnungsblatt!#REF!","v":{"$error":"#REF!"}},{"$f":"Rechnungsblatt!#REF!","v":{"$error":"#REF!"}},{"$f":"Rechnungsblatt!#REF!","v":{"$error":"#REF!"}},{"$f":"Rechnungsblatt!#REF!","v":{"$error":"#REF!"}},null,{"$f":"Rechnungsblatt!#REF!","v":{"$error":"#REF!"}},{"$f":"Rechnungsblatt!#REF!","v":{"$error":"#REF!"}},{"$f":"Rechnungsblatt!#REF!","v":{"$error":"#REF!"}},{"$f":"Rechnungsblatt!#REF!","v":{"$error":"#REF!"}}]
[{"$f":"Rechnungsblatt!#REF!","v":{"$error":"#REF!"}},{"$f":"Rechnungsblatt!#REF!","v":{"$error":"#REF!"}},{"$f":"Rechnungsblatt!#REF!","v":{"$error":"#REF!"}},null,{"$f":"Rechnungsblatt!#REF!","v":{"$error":"#REF!"}},{"$f":"Rechnungsblatt!#REF!","v":{"$error":"#REF!"}},{"$f":"Rechnungsblatt!#REF!","v":{"$error":"#REF!"}},{"$f":"Rechnungsblatt!#REF!","v":{"$error":"#REF!"}},null,{"$f":"Rechnungsblatt!#REF!","v":{"$error":"#REF!"}},{"$f":"Rechnungsblatt!#REF!","v":{"$error":"#REF!"}},{"$f":"Rechnungsblatt!#REF!","v":{"$error":"#REF!"}},{"$f":"Rechnungsblatt!#REF!","v":{"$error":"#REF!"}}]
[{"$f":"Rechnungsblatt!#REF!","v":{"$error":"#REF!"}},{"$f":"Rechnungsblatt!#REF!","v":{"$error":"#REF!"}},{"$f":"Rechnungsblatt!#REF!","v":{"$error":"#REF!"}},null,{"$f":"Rechnungsblatt!#REF!","v":{"$error":"#REF!"}},{"$f":"Rechnungsblatt!#REF!","v":{"$error":"#REF!"}},{"$f":"Rechnungsblatt!#REF!","v":{"$error":"#REF!"}},{"$f":"Rechnungsblatt!#REF!","v":{"$error":"#REF!"}},null,{"$f":"Rechnungsblatt!#REF!","v":{"$error":"#REF!"}},{"$f":"Rechnungsblatt!#REF!","v":{"$error":"#REF!"}},{"$f":"Rechnungsblatt!#REF!","v":{"$error":"#REF!"}},{"$f":"Rechnungsblatt!#REF!","v":{"$error":"#REF!"}}]
[{"$f":"Rechnungsblatt!#REF!","v":{"$error":"#REF!"}},{"$f":"Rechnungsblatt!#REF!","v":{"$error":"#REF!"}},{"$f":"Rechnungsblatt!#REF!","v":{"$error":"#REF!"}},null,{"$f":"Rechnungsblatt!#REF!","v":{"$error":"#REF!"}},{"$f":"Rechnungsblatt!#REF!","v":{"$error":"#REF!"}},{"$f":"Rechnungsblatt!#REF!","v":{"$error":"#REF!"}},{"$f":"Rechnungsblatt!#REF!","v":{"$error":"#REF!"}},null,{"$f":"Rechnungsblatt!#REF!","v":{"$error":"#REF!"}},{"$f":"Rechnungsblatt!#REF!","v":{"$error":"#REF!"}},{"$f":"Rechnungsblatt!#REF!","v":{"$error":"#REF!"}},{"$f":"Rechnungsblatt!#REF!","v":{"$error":"#REF!"}}]
[{"$f":"Rechnungsblatt!#REF!","v":{"$error":"#REF!"}},{"$f":"Rechnungsblatt!#REF!","v":{"$error":"#REF!"}},{"$f":"Rechnungsblatt!#REF!","v":{"$error":"#REF!"}},null,{"$f":"Rechnungsblatt!#REF!","v":{"$error":"#REF!"}},{"$f":"Rechnungsblatt!#REF!","v":{"$error":"#REF!"}},{"$f":"Rechnungsblatt!#REF!","v":{"$error":"#REF!"}},{"$f":"Rechnungsblatt!#REF!","v":{"$error":"#REF!"}},null,{"$f":"Rechnungsblatt!#REF!","v":{"$error":"#REF!"}},{"$f":"Rechnungsblatt!#REF!","v":{"$error":"#REF!"}},{"$f":"Rechnungsblatt!#REF!","v":{"$error":"#REF!"}},{"$f":"Rechnungsblatt!#REF!","v":{"$error":"#REF!"}}]
[{"$f":"Rechnungsblatt!#REF!","v":{"$error":"#REF!"}},{"$f":"Rechnungsblatt!#REF!","v":{"$error":"#REF!"}},{"$f":"Rechnungsblatt!#REF!","v":{"$error":"#REF!"}},null,{"$f":"Rechnungsblatt!#REF!","v":{"$error":"#REF!"}},{"$f":"Rechnungsblatt!#REF!","v":{"$error":"#REF!"}},{"$f":"Rechnungsblatt!#REF!","v":{"$error":"#REF!"}},{"$f":"Rechnungsblatt!#REF!","v":{"$error":"#REF!"}},null,{"$f":"Rechnungsblatt!#REF!","v":{"$error":"#REF!"}},{"$f":"Rechnungsblatt!#REF!","v":{"$error":"#REF!"}},{"$f":"Rechnungsblatt!#REF!","v":{"$error":"#REF!"}},{"$f":"Rechnungsblatt!#REF!","v":{"$error":"#REF!"}}]
[{"$f":"Rechnungsblatt!#REF!","v":{"$error":"#REF!"}},{"$f":"Rechnungsblatt!#REF!","v":{"$error":"#REF!"}},{"$f":"Rechnungsblatt!#REF!","v":{"$error":"#REF!"}},null,{"$f":"Rechnungsblatt!#REF!","v":{"$error":"#REF!"}},{"$f":"Rechnungsblatt!#REF!","v":{"$error":"#REF!"}},{"$f":"Rechnungsblatt!#REF!","v":{"$error":"#REF!"}},{"$f":"Rechnungsblatt!#REF!","v":{"$error":"#REF!"}},null,{"$f":"Rechnungsblatt!#REF!","v":{"$error":"#REF!"}},{"$f":"Rechnungsblatt!#REF!","v":{"$error":"#REF!"}},{"$f":"Rechnungsblatt!#REF!","v":{"$error":"#REF!"}},{"$f":"Rechnungsblatt!#REF!","v":{"$error":"#REF!"}}]
[{"$f":"Rechnungsblatt!#REF!","v":{"$error":"#REF!"}},{"$f":"Rechnungsblatt!#REF!","v":{"$error":"#REF!"}},{"$f":"Rechnungsblatt!#REF!","v":{"$error":"#REF!"}},null,{"$f":"Rechnungsblatt!#REF!","v":{"$error":"#REF!"}},{"$f":"Rechnungsblatt!#REF!","v":{"$error":"#REF!"}},{"$f":"Rechnungsblatt!#REF!","v":{"$error":"#REF!"}},{"$f":"Rechnungsblatt!#REF!","v":{"$error":"#REF!"}},null,{"$f":"Rechnungsblatt!#REF!","v":{"$error":"#REF!"}},{"$f":"Rechnungsblatt!#REF!","v":{"$error":"#REF!"}},{"$f":"Rechnungsblatt!#REF!","v":{"$error":"#REF!"}},{"$f":"Rechnungsblatt!#REF!","v":{"$error":"#REF!"}}]
[{"$f":"Rechnungsblatt!#REF!","v":{"$error":"#REF!"}},{"$f":"Rechnungsblatt!#REF!","v":{"$error":"#REF!"}},{"$f":"Rechnungsblatt!#REF!","v":{"$error":"#REF!"}},null,{"$f":"Rechnungsblatt!#REF!","v":{"$error":"#REF!"}},{"$f":"Rechnungsblatt!#REF!","v":{"$error":"#REF!"}},{"$f":"Rechnungsblatt!#REF!","v":{"$error":"#REF!"}},{"$f":"Rechnungsblatt!#REF!","v":{"$error":"#REF!"}},null,{"$f":"Rechnungsblatt!#REF!","v":{"$error":"#REF!"}},{"$f":"Rechnungsblatt!#REF!","v":{"$error":"#REF!"}},{"$f":"Rechnungsblatt!#REF!","v":{"$error":"#REF!"}},{"$f":"Rechnungsblatt!#REF!","v":{"$error":"#REF!"}}]
[{"$f":"Rechnungsblatt!#REF!","v":{"$error":"#REF!"}},{"$f":"Rechnungsblatt!#REF!","v":{"$error":"#REF!"}},{"$f":"Rechnungsblatt!#REF!","v":{"$error":"#REF!"}},null,{"$f":"Rechnungsblatt!#REF!","v":{"$error":"#REF!"}},{"$f":"Rechnungsblatt!#REF!","v":{"$error":"#REF!"}},{"$f":"Rechnungsblatt!#REF!","v":{"$error":"#REF!"}},{"$f":"Rechnungsblatt!#REF!","v":{"$error":"#REF!"}},null,{"$f":"Rechnungsblatt!#REF!","v":{"$error":"#REF!"}},{"$f":"Rechnungsblatt!#REF!","v":{"$error":"#REF!"}},{"$f":"Rechnungsblatt!#REF!","v":{"$error":"#REF!"}},{"$f":"Rechnungsblatt!#REF!","v":{"$error":"#REF!"}}]
[{"$f":"Rechnungsblatt!#REF!","v":{"$error":"#REF!"}},{"$f":"Rechnungsblatt!#REF!","v":{"$error":"#REF!"}},{"$f":"Rechnungsblatt!#REF!","v":{"$error":"#REF!"}},null,{"$f":"Rechnungsblatt!#REF!","v":{"$error":"#REF!"}},{"$f":"Rechnungsblatt!#REF!","v":{"$error":"#REF!"}},{"$f":"Rechnungsblatt!#REF!","v":{"$error":"#REF!"}},{"$f":"Rechnungsblatt!#REF!","v":{"$error":"#REF!"}},null,{"$f":"Rechnungsblatt!#REF!","v":{"$error":"#REF!"}},{"$f":"Rechnungsblatt!#REF!","v":{"$error":"#REF!"}},{"$f":"Rechnungsblatt!#REF!","v":{"$error":"#REF!"}},{"$f":"Rechnungsblatt!#REF!","v":{"$error":"#REF!"}}]
[{"$f":"Rechnungsblatt!#REF!","v":{"$error":"#REF!"}},{"$f":"Rechnungsblatt!#REF!","v":{"$error":"#REF!"}},{"$f":"Rechnungsblatt!#REF!","v":{"$error":"#REF!"}},null,{"$f":"Rechnungsblatt!#REF!","v":{"$error":"#REF!"}},{"$f":"Rechnungsblatt!#REF!","v":{"$error":"#REF!"}},{"$f":"Rechnungsblatt!#REF!","v":{"$error":"#REF!"}},{"$f":"Rechnungsblatt!#REF!","v":{"$error":"#REF!"}},null,{"$f":"Rechnungsblatt!#REF!","v":{"$error":"#REF!"}},{"$f":"Rechnungsblatt!#REF!","v":{"$error":"#REF!"}},{"$f":"Rechnungsblatt!#REF!","v":{"$error":"#REF!"}},{"$f":"Rechnungsblatt!#REF!","v":{"$error":"#REF!"}}]
[{"$f":"Rechnungsblatt!#REF!","v":{"$error":"#REF!"}},{"$f":"Rechnungsblatt!#REF!","v":{"$error":"#REF!"}},{"$f":"Rechnungsblatt!#REF!","v":{"$error":"#REF!"}},null,{"$f":"Rechnungsblatt!#REF!","v":{"$error":"#REF!"}},{"$f":"Rechnungsblatt!#REF!","v":{"$error":"#REF!"}},{"$f":"Rechnungsblatt!#REF!","v":{"$error":"#REF!"}},{"$f":"Rechnungsblatt!#REF!","v":{"$error":"#REF!"}},null,{"$f":"Rechnungsblatt!#REF!","v":{"$error":"#REF!"}},{"$f":"Rechnungsblatt!#REF!","v":{"$error":"#REF!"}},{"$f":"Rechnungsblatt!#REF!","v":{"$error":"#REF!"}},{"$f":"Rechnungsblatt!#REF!","v":{"$error":"#REF!"}}]
[{"$f":"Rechnungsblatt!#REF!","v":{"$error":"#REF!"}},{"$f":"Rechnungsblatt!#REF!","v":{"$error":"#REF!"}},{"$f":"Rechnungsblatt!#REF!","v":{"$error":"#REF!"}},null,{"$f":"Rechnungsblatt!#REF!","v":{"$error":"#REF!"}},{"$f":"Rechnungsblatt!#REF!","v":{"$error":"#REF!"}},{"$f":"Rechnungsblatt!#REF!","v":{"$error":"#REF!"}},{"$f":"Rechnungsblatt!#REF!","v":{"$error":"#REF!"}},null,{"$f":"Rechnungsblatt!#REF!","v":{"$error":"#REF!"}},{"$f":"Rechnungsblatt!#REF!","v":{"$error":"#REF!"}},{"$f":"Rechnungsblatt!#REF!","v":{"$error":"#REF!"}},{"$f":"Rechnungsblatt!#REF!","v":{"$error":"#REF!"}}]
[{"$f":"Rechnungsblatt!#REF!","v":{"$error":"#REF!"}},{"$f":"Rechnungsblatt!#REF!","v":{"$error":"#REF!"}},{"$f":"Rechnungsblatt!#REF!","v":{"$error":"#REF!"}},null,{"$f":"Rechnungsblatt!#REF!","v":{"$error":"#REF!"}},{"$f":"Rechnungsblatt!#REF!","v":{"$error":"#REF!"}},{"$f":"Rechnungsblatt!#REF!","v":{"$error":"#REF!"}},{"$f":"Rechnungsblatt!#REF!","v":{"$error":"#REF!"}},null,{"$f":"Rechnungsblatt!#REF!","v":{"$error":"#REF!"}},{"$f":"Rechnungsblatt!#REF!","v":{"$error":"#REF!"}},{"$f":"Rechnungsblatt!#REF!","v":{"$error":"#REF!"}},{"$f":"Rechnungsblatt!#REF!","v":{"$error":"#REF!"}}]
[{"$f":"Rechnungsblatt!#REF!","v":{"$error":"#REF!"}},{"$f":"Rechnungsblatt!#REF!","v":{"$error":"#REF!"}},{"$f":"Rechnungsblatt!#REF!","v":{"$error":"#REF!"}},null,{"$f":"Rechnungsblatt!#REF!","v":{"$error":"#REF!"}},{"$f":"Rechnungsblatt!#REF!","v":{"$error":"#REF!"}},{"$f":"Rechnungsblatt!#REF!","v":{"$error":"#REF!"}},{"$f":"Rechnungsblatt!#REF!","v":{"$error":"#REF!"}},null,{"$f":"Rechnungsblatt!#REF!","v":{"$error":"#REF!"}},{"$f":"Rechnungsblatt!#REF!","v":{"$error":"#REF!"}},{"$f":"Rechnungsblatt!#REF!","v":{"$error":"#REF!"}},{"$f":"Rechnungsblatt!#REF!","v":{"$error":"#REF!"}}]
[{"$f":"Rechnungsblatt!#REF!","v":{"$error":"#REF!"}},{"$f":"Rechnungsblatt!#REF!","v":{"$error":"#REF!"}},{"$f":"Rechnungsblatt!#REF!","v":{"$error":"#REF!"}},null,{"$f":"Rechnungsblatt!#REF!","v":{"$error":"#REF!"}},{"$f":"Rechnungsblatt!#REF!","v":{"$error":"#REF!"}},{"$f":"Rechnungsblatt!#REF!","v":{"$error":"#REF!"}},{"$f":"Rechnungsblatt!#REF!","v":{"$error":"#REF!"}},null,{"$f":"Rechnungsblatt!#REF!","v":{"$error":"#REF!"}},{"$f":"Rechnungsblatt!#REF!","v":{"$error":"#REF!"}},{"$f":"Rechnungsblatt!#REF!","v":{"$error":"#REF!"}},{"$f":"Rechnungsblatt!#REF!","v":{"$error":"#REF!"}}]
[{"$f":"Rechnungsblatt!#REF!","v":{"$error":"#REF!"}},{"$f":"Rechnungsblatt!#REF!","v":{"$error":"#REF!"}},{"$f":"Rechnungsblatt!#REF!","v":{"$error":"#REF!"}},null,{"$f":"Rechnungsblatt!#REF!","v":{"$error":"#REF!"}},{"$f":"Rechnungsblatt!#REF!","v":{"$error":"#REF!"}},{"$f":"Rechnungsblatt!#REF!","v":{"$error":"#REF!"}},{"$f":"Rechnungsblatt!#REF!","v":{"$error":"#REF!"}},null,{"$f":"Rechnungsblatt!#REF!","v":{"$error":"#REF!"}},{"$f":"Rechnungsblatt!#REF!","v":{"$error":"#REF!"}},{"$f":"Rechnungsblatt!#REF!","v":{"$error":"#REF!"}},{"$f":"Rechnungsblatt!#REF!","v":{"$error":"#REF!"}}]
[{"$f":"Rechnungsblatt!#REF!","v":{"$error":"#REF!"}},{"$f":"Rechnungsblatt!#REF!","v":{"$error":"#REF!"}},{"$f":"Rechnungsblatt!#REF!","v":{"$error":"#REF!"}},null,{"$f":"Rechnungsblatt!#REF!","v":{"$error":"#REF!"}},{"$f":"Rechnungsblatt!#REF!","v":{"$error":"#REF!"}},{"$f":"Rechnungsblatt!#REF!","v":{"$error":"#REF!"}},{"$f":"Rechnungsblatt!#REF!","v":{"$error":"#REF!"}},null,{"$f":"Rechnungsblatt!#REF!","v":{"$error":"#REF!"}},{"$f":"Rechnungsblatt!#REF!","v":{"$error":"#REF!"}},{"$f":"Rechnungsblatt!#REF!","v":{"$error":"#REF!"}},{"$f":"Rechnungsblatt!#REF!","v":{"$error":"#REF!"}}]
[{"$f":"Rechnungsblatt!#REF!","v":{"$error":"#REF!"}},{"$f":"Rechnungsblatt!#REF!","v":{"$error":"#REF!"}},{"$f":"Rechnungsblatt!#REF!","v":{"$error":"#REF!"}},null,{"$f":"Rechnungsblatt!#REF!","v":{"$error":"#REF!"}},{"$f":"Rechnungsblatt!#REF!","v":{"$error":"#REF!"}},{"$f":"Rechnungsblatt!#REF!","v":{"$error":"#REF!"}},{"$f":"Rechnungsblatt!#REF!","v":{"$error":"#REF!"}},null,{"$f":"Rechnungsblatt!#REF!","v":{"$error":"#REF!"}},{"$f":"Rechnungsblatt!#REF!","v":{"$error":"#REF!"}},{"$f":"Rechnungsblatt!#REF!","v":{"$error":"#REF!"}},{"$f":"Rechnungsblatt!#REF!","v":{"$error":"#REF!"}}]
[{"$f":"Rechnungsblatt!#REF!","v":{"$error":"#REF!"}},{"$f":"Rechnungsblatt!#REF!","v":{"$error":"#REF!"}},{"$f":"Rechnungsblatt!#REF!","v":{"$error":"#REF!"}},null,{"$f":"Rechnungsblatt!#REF!","v":{"$error":"#REF!"}},{"$f":"Rechnungsblatt!#REF!","v":{"$error":"#REF!"}},{"$f":"Rechnungsblatt!#REF!","v":{"$error":"#REF!"}},{"$f":"Rechnungsblatt!#REF!","v":{"$error":"#REF!"}},null,{"$f":"Rechnungsblatt!#REF!","v":{"$error":"#REF!"}},{"$f":"Rechnungsblatt!#REF!","v":{"$error":"#REF!"}},{"$f":"Rechnungsblatt!#REF!","v":{"$error":"#REF!"}},{"$f":"Rechnungsblatt!#REF!","v":{"$error":"#REF!"}}]
[{"$f":"Rechnungsblatt!#REF!","v":{"$error":"#REF!"}},{"$f":"Rechnungsblatt!#REF!","v":{"$error":"#REF!"}},{"$f":"Rechnungsblatt!#REF!","v":{"$error":"#REF!"}},null,{"$f":"Rechnungsblatt!#REF!","v":{"$error":"#REF!"}},{"$f":"Rechnungsblatt!#REF!","v":{"$error":"#REF!"}},{"$f":"Rechnungsblatt!#REF!","v":{"$error":"#REF!"}},{"$f":"Rechnungsblatt!#REF!","v":{"$error":"#REF!"}},null,{"$f":"Rechnungsblatt!#REF!","v":{"$error":"#REF!"}},{"$f":"Rechnungsblatt!#REF!","v":{"$error":"#REF!"}},{"$f":"Rechnungsblatt!#REF!","v":{"$error":"#REF!"}},{"$f":"Rechnungsblatt!#REF!","v":{"$error":"#REF!"}}]
[{"$f":"Rechnungsblatt!#REF!","v":{"$error":"#REF!"}},{"$f":"Rechnungsblatt!#REF!","v":{"$error":"#REF!"}},{"$f":"Rechnungsblatt!#REF!","v":{"$error":"#REF!"}},null,{"$f":"Rechnungsblatt!#REF!","v":{"$error":"#REF!"}},{"$f":"Rechnungsblatt!#REF!","v":{"$error":"#REF!"}},{"$f":"Rechnungsblatt!#REF!","v":{"$error":"#REF!"}},{"$f":"Rechnungsblatt!#REF!","v":{"$error":"#REF!"}},null,{"$f":"Rechnungsblatt!#REF!","v":{"$error":"#REF!"}},{"$f":"Rechnungsblatt!#REF!","v":{"$error":"#REF!"}},{"$f":"Rechnungsblatt!#REF!","v":{"$error":"#REF!"}},{"$f":"Rechnungsblatt!#REF!","v":{"$error":"#REF!"}}]
[{"$f":"Rechnungsblatt!#REF!","v":{"$error":"#REF!"}},{"$f":"Rechnungsblatt!#REF!","v":{"$error":"#REF!"}},{"$f":"Rechnungsblatt!#REF!","v":{"$error":"#REF!"}},null,{"$f":"Rechnungsblatt!#REF!","v":{"$error":"#REF!"}},{"$f":"Rechnungsblatt!#REF!","v":{"$error":"#REF!"}},{"$f":"Rechnungsblatt!#REF!","v":{"$error":"#REF!"}},{"$f":"Rechnungsblatt!#REF!","v":{"$error":"#REF!"}},null,{"$f":"Rechnungsblatt!#REF!","v":{"$error":"#REF!"}},{"$f":"Rechnungsblatt!#REF!","v":{"$error":"#REF!"}},{"$f":"Rechnungsblatt!#REF!","v":{"$error":"#REF!"}},{"$f":"Rechnungsblatt!#REF!","v":{"$error":"#REF!"}}]
[{"$f":"Rechnungsblatt!#REF!","v":{"$error":"#REF!"}},{"$f":"Rechnungsblatt!#REF!","v":{"$error":"#REF!"}},{"$f":"Rechnungsblatt!#REF!","v":{"$error":"#REF!"}},null,{"$f":"Rechnungsblatt!#REF!","v":{"$error":"#REF!"}},{"$f":"Rechnungsblatt!#REF!","v":{"$error":"#REF!"}},{"$f":"Rechnungsblatt!#REF!","v":{"$error":"#REF!"}},{"$f":"Rechnungsblatt!#REF!","v":{"$error":"#REF!"}},null,{"$f":"Rechnungsblatt!#REF!","v":{"$error":"#REF!"}},{"$f":"Rechnungsblatt!#REF!","v":{"$error":"#REF!"}},{"$f":"Rechnungsblatt!#REF!","v":{"$error":"#REF!"}},{"$f":"Rechnungsblatt!#REF!","v":{"$error":"#REF!"}}]
[{"$f":"Rechnungsblatt!#REF!","v":{"$error":"#REF!"}},{"$f":"Rechnungsblatt!#REF!","v":{"$error":"#REF!"}},{"$f":"Rechnungsblatt!#REF!","v":{"$error":"#REF!"}},null,{"$f":"Rechnungsblatt!#REF!","v":{"$error":"#REF!"}},{"$f":"Rechnungsblatt!#REF!","v":{"$error":"#REF!"}},{"$f":"Rechnungsblatt!#REF!","v":{"$error":"#REF!"}},{"$f":"Rechnungsblatt!#REF!","v":{"$error":"#REF!"}},null,{"$f":"Rechnungsblatt!#REF!","v":{"$error":"#REF!"}},{"$f":"Rechnungsblatt!#REF!","v":{"$error":"#REF!"}},{"$f":"Rechnungsblatt!#REF!","v":{"$error":"#REF!"}},{"$f":"Rechnungsblatt!#REF!","v":{"$error":"#REF!"}}]
[{"$f":"Rechnungsblatt!#REF!","v":{"$error":"#REF!"}},{"$f":"Rechnungsblatt!#REF!","v":{"$error":"#REF!"}},{"$f":"Rechnungsblatt!#REF!","v":{"$error":"#REF!"}},null,{"$f":"Rechnungsblatt!#REF!","v":{"$error":"#REF!"}},{"$f":"Rechnungsblatt!#REF!","v":{"$error":"#REF!"}},{"$f":"Rechnungsblatt!#REF!","v":{"$error":"#REF!"}},{"$f":"Rechnungsblatt!#REF!","v":{"$error":"#REF!"}},null,{"$f":"Rechnungsblatt!#REF!","v":{"$error":"#REF!"}},{"$f":"Rechnungsblatt!#REF!","v":{"$error":"#REF!"}},{"$f":"Rechnungsblatt!#REF!","v":{"$error":"#REF!"}},{"$f":"Rechnungsblatt!#REF!","v":{"$error":"#REF!"}}]
[{"$f":"Rechnungsblatt!#REF!","v":{"$error":"#REF!"}},{"$f":"Rechnungsblatt!#REF!","v":{"$error":"#REF!"}},{"$f":"Rechnungsblatt!#REF!","v":{"$error":"#REF!"}},null,{"$f":"Rechnungsblatt!#REF!","v":{"$error":"#REF!"}},{"$f":"Rechnungsblatt!#REF!","v":{"$error":"#REF!"}},{"$f":"Rechnungsblatt!#REF!","v":{"$error":"#REF!"}},{"$f":"Rechnungsblatt!#REF!","v":{"$error":"#REF!"}},null,{"$f":"Rechnungsblatt!#REF!","v":{"$error":"#REF!"}},{"$f":"Rechnungsblatt!#REF!","v":{"$error":"#REF!"}},{"$f":"Rechnungsblatt!#REF!","v":{"$error":"#REF!"}},{"$f":"Rechnungsblatt!#REF!","v":{"$error":"#REF!"}}]
[{"$f":"Rechnungsblatt!#REF!","v":{"$error":"#REF!"}},{"$f":"Rechnungsblatt!#REF!","v":{"$error":"#REF!"}},{"$f":"Rechnungsblatt!#REF!","v":{"$error":"#REF!"}},null,{"$f":"Rechnungsblatt!#REF!","v":{"$error":"#REF!"}},{"$f":"Rechnungsblatt!#REF!","v":{"$error":"#REF!"}},{"$f":"Rechnungsblatt!#REF!","v":{"$error":"#REF!"}},{"$f":"Rechnungsblatt!#REF!","v":{"$error":"#REF!"}},null,{"$f":"Rechnungsblatt!#REF!","v":{"$error":"#REF!"}},{"$f":"Rechnungsblatt!#REF!","v":{"$error":"#REF!"}},{"$f":"Rechnungsblatt!#REF!","v":{"$error":"#REF!"}},{"$f":"Rechnungsblatt!#REF!","v":{"$error":"#REF!"}}]
[{"$f":"Rechnungsblatt!#REF!","v":{"$error":"#REF!"}},{"$f":"Rechnungsblatt!#REF!","v":{"$error":"#REF!"}},{"$f":"Rechnungsblatt!#REF!","v":{"$error":"#REF!"}},null,{"$f":"Rechnungsblatt!#REF!","v":{"$error":"#REF!"}},{"$f":"Rechnungsblatt!#REF!","v":{"$error":"#REF!"}},{"$f":"Rechnungsblatt!#REF!","v":{"$error":"#REF!"}},{"$f":"Rechnungsblatt!#REF!","v":{"$error":"#REF!"}},null,{"$f":"Rechnungsblatt!#REF!","v":{"$error":"#REF!"}},{"$f":"Rechnungsblatt!#REF!","v":{"$error":"#REF!"}},{"$f":"Rechnungsblatt!#REF!","v":{"$error":"#REF!"}},{"$f":"Rechnungsblatt!#REF!","v":{"$error":"#REF!"}}]
[{"$f":"Rechnungsblatt!#REF!","v":{"$error":"#REF!"}},{"$f":"Rechnungsblatt!#REF!","v":{"$error":"#REF!"}},{"$f":"Rechnungsblatt!#REF!","v":{"$error":"#REF!"}},null,{"$f":"Rechnungsblatt!#REF!","v":{"$error":"#REF!"}},{"$f":"Rechnungsblatt!#REF!","v":{"$error":"#REF!"}},{"$f":"Rechnungsblatt!#REF!","v":{"$error":"#REF!"}},{"$f":"Rechnungsblatt!#REF!","v":{"$error":"#REF!"}},null,{"$f":"Rechnungsblatt!#REF!","v":{"$error":"#REF!"}},{"$f":"Rechnungsblatt!#REF!","v":{"$error":"#REF!"}},{"$f":"Rechnungsblatt!#REF!","v":{"$error":"#REF!"}},{"$f":"Rechnungsblatt!#REF!","v":{"$error":"#REF!"}}]
[{"$f":"Rechnungsblatt!#REF!","v":{"$error":"#REF!"}},{"$f":"Rechnungsblatt!#REF!","v":{"$error":"#REF!"}},{"$f":"Rechnungsblatt!#REF!","v":{"$error":"#REF!"}},null,{"$f":"Rechnungsblatt!#REF!","v":{"$error":"#REF!"}},{"$f":"Rechnungsblatt!#REF!","v":{"$error":"#REF!"}},{"$f":"Rechnungsblatt!#REF!","v":{"$error":"#REF!"}},{"$f":"Rechnungsblatt!#REF!","v":{"$error":"#REF!"}},null,{"$f":"Rechnungsblatt!#REF!","v":{"$error":"#REF!"}},{"$f":"Rechnungsblatt!#REF!","v":{"$error":"#REF!"}},{"$f":"Rechnungsblatt!#REF!","v":{"$error":"#REF!"}},{"$f":"Rechnungsblatt!#REF!","v":{"$error":"#REF!"}}]
[{"$f":"Rechnungsblatt!#REF!","v":{"$error":"#REF!"}},{"$f":"Rechnungsblatt!#REF!","v":{"$error":"#REF!"}},{"$f":"Rechnungsblatt!#REF!","v":{"$error":"#REF!"}},null,{"$f":"Rechnungsblatt!#REF!","v":{"$error":"#REF!"}},{"$f":"Rechnungsblatt!#REF!","v":{"$error":"#REF!"}},{"$f":"Rechnungsblatt!#REF!","v":{"$error":"#REF!"}},{"$f":"Rechnungsblatt!#REF!","v":{"$error":"#REF!"}},null,{"$f":"Rechnungsblatt!#REF!","v":{"$error":"#REF!"}},{"$f":"Rechnungsblatt!#REF!","v":{"$error":"#REF!"}},{"$f":"Rechnungsblatt!#REF!","v":{"$error":"#REF!"}},{"$f":"Rechnungsblatt!#REF!","v":{"$error":"#REF!"}}]
[{"$f":"Rechnungsblatt!#REF!","v":{"$error":"#REF!"}},{"$f":"Rechnungsblatt!#REF!","v":{"$error":"#REF!"}},{"$f":"Rechnungsblatt!#REF!","v":{"$error":"#REF!"}},null,{"$f":"Rechnungsblatt!#REF!","v":{"$error":"#REF!"}},{"$f":"Rechnungsblatt!#REF!","v":{"$error":"#REF!"}},{"$f":"Rechnungsblatt!#REF!","v":{"$error":"#REF!"}},{"$f":"Rechnungsblatt!#REF!","v":{"$error":"#REF!"}},null,{"$f":"Rechnungsblatt!#REF!","v":{"$error":"#REF!"}},{"$f":"Rechnungsblatt!#REF!","v":{"$error":"#REF!"}},{"$f":"Rechnungsblatt!#REF!","v":{"$error":"#REF!"}},{"$f":"Rechnungsblatt!#REF!","v":{"$error":"#REF!"}}]
[{"$f":"Rechnungsblatt!#REF!","v":{"$error":"#REF!"}},{"$f":"Rechnungsblatt!#REF!","v":{"$error":"#REF!"}},{"$f":"Rechnungsblatt!#REF!","v":{"$error":"#REF!"}},null,{"$f":"Rechnungsblatt!#REF!","v":{"$error":"#REF!"}},{"$f":"Rechnungsblatt!#REF!","v":{"$error":"#REF!"}},{"$f":"Rechnungsblatt!#REF!","v":{"$error":"#REF!"}},{"$f":"Rechnungsblatt!#REF!","v":{"$error":"#REF!"}},null,{"$f":"Rechnungsblatt!#REF!","v":{"$error":"#REF!"}},{"$f":"Rechnungsblatt!#REF!","v":{"$error":"#REF!"}},{"$f":"Rechnungsblatt!#REF!","v":{"$error":"#REF!"}},{"$f":"Rechnungsblatt!#REF!","v":{"$error":"#REF!"}}]
[{"$f":"Rechnungsblatt!#REF!","v":{"$error":"#REF!"}},{"$f":"Rechnungsblatt!#REF!","v":{"$error":"#REF!"}},{"$f":"Rechnungsblatt!#REF!","v":{"$error":"#REF!"}},null,{"$f":"Rechnungsblatt!#REF!","v":{"$error":"#REF!"}},{"$f":"Rechnungsblatt!#REF!","v":{"$error":"#REF!"}},{"$f":"Rechnungsblatt!#REF!","v":{"$error":"#REF!"}},{"$f":"Rechnungsblatt!#REF!","v":{"$error":"#REF!"}},null,{"$f":"Rechnungsblatt!#REF!","v":{"$error":"#REF!"}},{"$f":"Rechnungsblatt!#REF!","v":{"$error":"#REF!"}},{"$f":"Rechnungsblatt!#REF!","v":{"$error":"#REF!"}},{"$f":"Rechnungsblatt!#REF!","v":{"$error":"#REF!"}}]
[{"$f":"Rechnungsblatt!#REF!","v":{"$error":"#REF!"}},{"$f":"Rechnungsblatt!#REF!","v":{"$error":"#REF!"}},{"$f":"Rechnungsblatt!#REF!","v":{"$error":"#REF!"}},null,{"$f":"Rechnungsblatt!#REF!","v":{"$error":"#REF!"}},{"$f":"Rechnungsblatt!#REF!","v":{"$error":"#REF!"}},{"$f":"Rechnungsblatt!#REF!","v":{"$error":"#REF!"}},{"$f":"Rechnungsblatt!#REF!","v":{"$error":"#REF!"}},null,{"$f":"Rechnungsblatt!#REF!","v":{"$error":"#REF!"}},{"$f":"Rechnungsblatt!#REF!","v":{"$error":"#REF!"}},{"$f":"Rechnungsblatt!#REF!","v":{"$error":"#REF!"}},{"$f":"Rechnungsblatt!#REF!","v":{"$error":"#REF!"}}]
[{"$f":"Rechnungsblatt!#REF!","v":{"$error":"#REF!"}},{"$f":"Rechnungsblatt!#REF!","v":{"$error":"#REF!"}},{"$f":"Rechnungsblatt!#REF!","v":{"$error":"#REF!"}},null,{"$f":"Rechnungsblatt!#REF!","v":{"$error":"#REF!"}},{"$f":"Rechnungsblatt!#REF!","v":{"$error":"#REF!"}},{"$f":"Rechnungsblatt!#REF!","v":{"$error":"#REF!"}},{"$f":"Rechnungsblatt!#REF!","v":{"$error":"#REF!"}},null,{"$f":"Rechnungsblatt!#REF!","v":{"$error":"#REF!"}},{"$f":"Rechnungsblatt!#REF!","v":{"$error":"#REF!"}},{"$f":"Rechnungsblatt!#REF!","v":{"$error":"#REF!"}},{"$f":"Rechnungsblatt!#REF!","v":{"$error":"#REF!"}}]
[{"$f":"Rechnungsblatt!#REF!","v":{"$error":"#REF!"}},{"$f":"Rechnungsblatt!#REF!","v":{"$error":"#REF!"}},{"$f":"Rechnungsblatt!#REF!","v":{"$error":"#REF!"}},null,{"$f":"Rechnungsblatt!#REF!","v":{"$error":"#REF!"}},{"$f":"Rechnungsblatt!#REF!","v":{"$error":"#REF!"}},{"$f":"Rechnungsblatt!#REF!","v":{"$error":"#REF!"}},{"$f":"Rechnungsblatt!#REF!","v":{"$error":"#REF!"}},null,{"$f":"Rechnungsblatt!#REF!","v":{"$error":"#REF!"}},{"$f":"Rechnungsblatt!#REF!","v":{"$error":"#REF!"}},{"$f":"Rechnungsblatt!#REF!","v":{"$error":"#REF!"}},{"$f":"Rechnungsblatt!#REF!","v":{"$error":"#REF!"}}]
[{"$f":"Rechnungsblatt!#REF!","v":{"$error":"#REF!"}},{"$f":"Rechnungsblatt!#REF!","v":{"$error":"#REF!"}},{"$f":"Rechnungsblatt!#REF!","v":{"$error":"#REF!"}},null,{"$f":"Rechnungsblatt!#REF!","v":{"$error":"#REF!"}},{"$f":"Rechnungsblatt!#REF!","v":{"$error":"#REF!"}},{"$f":"Rechnungsblatt!#REF!","v":{"$error":"#REF!"}},{"$f":"Rechnungsblatt!#REF!","v":{"$error":"#REF!"}},null,{"$f":"Rechnungsblatt!#REF!","v":{"$error":"#REF!"}},{"$f":"Rechnungsblatt!#REF!","v":{"$error":"#REF!"}},{"$f":"Rechnungsblatt!#REF!","v":{"$error":"#REF!"}},{"$f":"Rechnungsblatt!#REF!","v":{"$error":"#REF!"}}]
[{"$f":"Rechnungsblatt!#REF!","v":{"$error":"#REF!"}},{"$f":"Rechnungsblatt!#REF!","v":{"$error":"#REF!"}},{"$f":"Rechnungsblatt!#REF!","v":{"$error":"#REF!"}},null,{"$f":"Rechnungsblatt!#REF!","v":{"$error":"#REF!"}},{"$f":"Rechnungsblatt!#REF!","v":{"$error":"#REF!"}},{"$f":"Rechnungsblatt!#REF!","v":{"$error":"#REF!"}},{"$f":"Rechnungsblatt!#REF!","v":{"$error":"#REF!"}},null,{"$f":"Rechnungsblatt!#REF!","v":{"$error":"#REF!"}},{"$f":"Rechnungsblatt!#REF!","v":{"$error":"#REF!"}},{"$f":"Rechnungsblatt!#REF!","v":{"$error":"#REF!"}},{"$f":"Rechnungsblatt!#REF!","v":{"$error":"#REF!"}}]
[{"$f":"Rechnungsblatt!#REF!","v":{"$error":"#REF!"}},{"$f":"Rechnungsblatt!#REF!","v":{"$error":"#REF!"}},{"$f":"Rechnungsblatt!#REF!","v":{"$error":"#REF!"}},null,{"$f":"Rechnungsblatt!#REF!","v":{"$error":"#REF!"}},{"$f":"Rechnungsblatt!#REF!","v":{"$error":"#REF!"}},{"$f":"Rechnungsblatt!#REF!","v":{"$error":"#REF!"}},{"$f":"Rechnungsblatt!#REF!","v":{"$error":"#REF!"}},null,{"$f":"Rechnungsblatt!#REF!","v":{"$error":"#REF!"}},{"$f":"Rechnungsblatt!#REF!","v":{"$error":"#REF!"}},{"$f":"Rechnungsblatt!#REF!","v":{"$error":"#REF!"}},{"$f":"Rechnungsblatt!#REF!","v":{"$error":"#REF!"}}]
[{"$f":"Rechnungsblatt!#REF!","v":{"$error":"#REF!"}},{"$f":"Rechnungsblatt!#REF!","v":{"$error":"#REF!"}},{"$f":"Rechnungsblatt!#REF!","v":{"$error":"#REF!"}},null,{"$f":"Rechnungsblatt!#REF!","v":{"$error":"#REF!"}},{"$f":"Rechnungsblatt!#REF!","v":{"$error":"#REF!"}},{"$f":"Rechnungsblatt!#REF!","v":{"$error":"#REF!"}},{"$f":"Rechnungsblatt!#REF!","v":{"$error":"#REF!"}},null,{"$f":"Rechnungsblatt!#REF!","v":{"$error":"#REF!"}},{"$f":"Rechnungsblatt!#REF!","v":{"$error":"#REF!"}},{"$f":"Rechnungsblatt!#REF!","v":{"$error":"#REF!"}},{"$f":"Rechnungsblatt!#REF!","v":{"$error":"#REF!"}}]
[{"$f":"Rechnungsblatt!#REF!","v":{"$error":"#REF!"}},{"$f":"Rechnungsblatt!#REF!","v":{"$error":"#REF!"}},{"$f":"Rechnungsblatt!#REF!","v":{"$error":"#REF!"}},null,{"$f":"Rechnungsblatt!#REF!","v":{"$error":"#REF!"}},{"$f":"Rechnungsblatt!#REF!","v":{"$error":"#REF!"}},{"$f":"Rechnungsblatt!#REF!","v":{"$error":"#REF!"}},{"$f":"Rechnungsblatt!#REF!","v":{"$error":"#REF!"}},null,{"$f":"Rechnungsblatt!#REF!","v":{"$error":"#REF!"}},{"$f":"Rechnungsblatt!#REF!","v":{"$error":"#REF!"}},{"$f":"Rechnungsblatt!#REF!","v":{"$error":"#REF!"}},{"$f":"Rechnungsblatt!#REF!","v":{"$error":"#REF!"}}]
[{"$f":"Rechnungsblatt!#REF!","v":{"$error":"#REF!"}},{"$f":"Rechnungsblatt!#REF!","v":{"$error":"#REF!"}},{"$f":"Rechnungsblatt!#REF!","v":{"$error":"#REF!"}},null,{"$f":"Rechnungsblatt!#REF!","v":{"$error":"#REF!"}},{"$f":"Rechnungsblatt!#REF!","v":{"$error":"#REF!"}},{"$f":"Rechnungsblatt!#REF!","v":{"$error":"#REF!"}},{"$f":"Rechnungsblatt!#REF!","v":{"$error":"#REF!"}},null,{"$f":"Rechnungsblatt!#REF!","v":{"$error":"#REF!"}},{"$f":"Rechnungsblatt!#REF!","v":{"$error":"#REF!"}},{"$f":"Rechnungsblatt!#REF!","v":{"$error":"#REF!"}},{"$f":"Rechnungsblatt!#REF!","v":{"$error":"#REF!"}}]
[{"$f":"Rechnungsblatt!#REF!","v":{"$error":"#REF!"}},{"$f":"Rechnungsblatt!#REF!","v":{"$error":"#REF!"}},{"$f":"Rechnungsblatt!#REF!","v":{"$error":"#REF!"}},null,{"$f":"Rechnungsblatt!#REF!","v":{"$error":"#REF!"}},{"$f":"Rechnungsblatt!#REF!","v":{"$error":"#REF!"}},{"$f":"Rechnungsblatt!#REF!","v":{"$error":"#REF!"}},{"$f":"Rechnungsblatt!#REF!","v":{"$error":"#REF!"}},null,{"$f":"Rechnungsblatt!#REF!","v":{"$error":"#REF!"}},{"$f":"Rechnungsblatt!#REF!","v":{"$error":"#REF!"}},{"$f":"Rechnungsblatt!#REF!","v":{"$error":"#REF!"}},{"$f":"Rechnungsblatt!#REF!","v":{"$error":"#REF!"}}]
[{"$f":"Rechnungsblatt!#REF!","v":{"$error":"#REF!"}},{"$f":"Rechnungsblatt!#REF!","v":{"$error":"#REF!"}},{"$f":"Rechnungsblatt!#REF!","v":{"$error":"#REF!"}},null,{"$f":"Rechnungsblatt!#REF!","v":{"$error":"#REF!"}},{"$f":"Rechnungsblatt!#REF!","v":{"$error":"#REF!"}},{"$f":"Rechnungsblatt!#REF!","v":{"$error":"#REF!"}},{"$f":"Rechnungsblatt!#REF!","v":{"$error":"#REF!"}},null,{"$f":"Rechnungsblatt!#REF!","v":{"$error":"#REF!"}},{"$f":"Rechnungsblatt!#REF!","v":{"$error":"#REF!"}},{"$f":"Rechnungsblatt!#REF!","v":{"$error":"#REF!"}},{"$f":"Rechnungsblatt!#REF!","v":{"$error":"#REF!"}}]
[{"$f":"Rechnungsblatt!#REF!","v":{"$error":"#REF!"}},{"$f":"Rechnungsblatt!#REF!","v":{"$error":"#REF!"}},{"$f":"Rechnungsblatt!#REF!","v":{"$error":"#REF!"}},null,{"$f":"Rechnungsblatt!#REF!","v":{"$error":"#REF!"}},{"$f":"Rechnungsblatt!#REF!","v":{"$error":"#REF!"}},{"$f":"Rechnungsblatt!#REF!","v":{"$error":"#REF!"}},{"$f":"Rechnungsblatt!#REF!","v":{"$error":"#REF!"}},null,{"$f":"Rechnungsblatt!#REF!","v":{"$error":"#REF!"}},{"$f":"Rechnungsblatt!#REF!","v":{"$error":"#REF!"}},{"$f":"Rechnungsblatt!#REF!","v":{"$error":"#REF!"}},{"$f":"Rechnungsblatt!#REF!","v":{"$error":"#REF!"}}]
[{"$f":"Rechnungsblatt!#REF!","v":{"$error":"#REF!"}},{"$f":"Rechnungsblatt!#REF!","v":{"$error":"#REF!"}},{"$f":"Rechnungsblatt!#REF!","v":{"$error":"#REF!"}},null,{"$f":"Rechnungsblatt!#REF!","v":{"$error":"#REF!"}},{"$f":"Rechnungsblatt!#REF!","v":{"$error":"#REF!"}},{"$f":"Rechnungsblatt!#REF!","v":{"$error":"#REF!"}},{"$f":"Rechnungsblatt!#REF!","v":{"$error":"#REF!"}},null,{"$f":"Rechnungsblatt!#REF!","v":{"$error":"#REF!"}},{"$f":"Rechnungsblatt!#REF!","v":{"$error":"#REF!"}},{"$f":"Rechnungsblatt!#REF!","v":{"$error":"#REF!"}},{"$f":"Rechnungsblatt!#REF!","v":{"$error":"#REF!"}}]
[{"$f":"Rechnungsblatt!#REF!","v":{"$error":"#REF!"}},{"$f":"Rechnungsblatt!#REF!","v":{"$error":"#REF!"}},{"$f":"Rechnungsblatt!#REF!","v":{"$error":"#REF!"}},null,{"$f":"Rechnungsblatt!#REF!","v":{"$error":"#REF!"}},{"$f":"Rechnungsblatt!#REF!","v":{"$error":"#REF!"}},{"$f":"Rechnungsblatt!#REF!","v":{"$error":"#REF!"}},{"$f":"Rechnungsblatt!#REF!","v":{"$error":"#REF!"}},null,{"$f":"Rechnungsblatt!#REF!","v":{"$error":"#REF!"}},{"$f":"Rechnungsblatt!#REF!","v":{"$error":"#REF!"}},{"$f":"Rechnungsblatt!#REF!","v":{"$error":"#REF!"}},{"$f":"Rechnungsblatt!#REF!","v":{"$error":"#REF!"}}]
[{"$f":"Rechnungsblatt!#REF!","v":{"$error":"#REF!"}},{"$f":"Rechnungsblatt!#REF!","v":{"$error":"#REF!"}},{"$f":"Rechnungsblatt!#REF!","v":{"$error":"#REF!"}},null,{"$f":"Rechnungsblatt!#REF!","v":{"$error":"#REF!"}},{"$f":"Rechnungsblatt!#REF!","v":{"$error":"#REF!"}},{"$f":"Rechnungsblatt!#REF!","v":{"$error":"#REF!"}},{"$f":"Rechnungsblatt!#REF!","v":{"$error":"#REF!"}},null,{"$f":"Rechnungsblatt!#REF!","v":{"$error":"#REF!"}},{"$f":"Rechnungsblatt!#REF!","v":{"$error":"#REF!"}},{"$f":"Rechnungsblatt!#REF!","v":{"$error":"#REF!"}},{"$f":"Rechnungsblatt!#REF!","v":{"$error":"#REF!"}}]
[{"$f":"Rechnungsblatt!#REF!","v":{"$error":"#REF!"}},{"$f":"Rechnungsblatt!#REF!","v":{"$error":"#REF!"}},{"$f":"Rechnungsblatt!#REF!","v":{"$error":"#REF!"}},null,{"$f":"Rechnungsblatt!#REF!","v":{"$error":"#REF!"}},{"$f":"Rechnungsblatt!#REF!","v":{"$error":"#REF!"}},{"$f":"Rechnungsblatt!#REF!","v":{"$error":"#REF!"}},{"$f":"Rechnungsblatt!#REF!","v":{"$error":"#REF!"}},null,{"$f":"Rechnungsblatt!#REF!","v":{"$error":"#REF!"}},{"$f":"Rechnungsblatt!#REF!","v":{"$error":"#REF!"}},{"$f":"Rechnungsblatt!#REF!","v":{"$error":"#REF!"}},{"$f":"Rechnungsblatt!#REF!","v":{"$error":"#REF!"}}]
[{"$f":"Rechnungsblatt!#REF!","v":{"$error":"#REF!"}},{"$f":"Rechnungsblatt!#REF!","v":{"$error":"#REF!"}},{"$f":"Rechnungsblatt!#REF!","v":{"$error":"#REF!"}},null,{"$f":"Rechnungsblatt!#REF!","v":{"$error":"#REF!"}},{"$f":"Rechnungsblatt!#REF!","v":{"$error":"#REF!"}},{"$f":"Rechnungsblatt!#REF!","v":{"$error":"#REF!"}},{"$f":"Rechnungsblatt!#REF!","v":{"$error":"#REF!"}},null,{"$f":"Rechnungsblatt!#REF!","v":{"$error":"#REF!"}},{"$f":"Rechnungsblatt!#REF!","v":{"$error":"#REF!"}},{"$f":"Rechnungsblatt!#REF!","v":{"$error":"#REF!"}},{"$f":"Rechnungsblatt!#REF!","v":{"$error":"#REF!"}}]
[{"$f":"Rechnungsblatt!#REF!","v":{"$error":"#REF!"}},{"$f":"Rechnungsblatt!#REF!","v":{"$error":"#REF!"}},{"$f":"Rechnungsblatt!#REF!","v":{"$error":"#REF!"}},null,{"$f":"Rechnungsblatt!#REF!","v":{"$error":"#REF!"}},{"$f":"Rechnungsblatt!#REF!","v":{"$error":"#REF!"}},{"$f":"Rechnungsblatt!#REF!","v":{"$error":"#REF!"}},{"$f":"Rechnungsblatt!#REF!","v":{"$error":"#REF!"}},null,{"$f":"Rechnungsblatt!#REF!","v":{"$error":"#REF!"}},{"$f":"Rechnungsblatt!#REF!","v":{"$error":"#REF!"}},{"$f":"Rechnungsblatt!#REF!","v":{"$error":"#REF!"}},{"$f":"Rechnungsblatt!#REF!","v":{"$error":"#REF!"}}]
[{"$f":"Rechnungsblatt!#REF!","v":{"$error":"#REF!"}},{"$f":"Rechnungsblatt!#REF!","v":{"$error":"#REF!"}},{"$f":"Rechnungsblatt!#REF!","v":{"$error":"#REF!"}},null,{"$f":"Rechnungsblatt!#REF!","v":{"$error":"#REF!"}},{"$f":"Rechnungsblatt!#REF!","v":{"$error":"#REF!"}},{"$f":"Rechnungsblatt!#REF!","v":{"$error":"#REF!"}},{"$f":"Rechnungsblatt!#REF!","v":{"$error":"#REF!"}},null,{"$f":"Rechnungsblatt!#REF!","v":{"$error":"#REF!"}},{"$f":"Rechnungsblatt!#REF!","v":{"$error":"#REF!"}},{"$f":"Rechnungsblatt!#REF!","v":{"$error":"#REF!"}},{"$f":"Rechnungsblatt!#REF!","v":{"$error":"#REF!"}}]
[{"$f":"Rechnungsblatt!#REF!","v":{"$error":"#REF!"}},{"$f":"Rechnungsblatt!#REF!","v":{"$error":"#REF!"}},{"$f":"Rechnungsblatt!#REF!","v":{"$error":"#REF!"}},null,{"$f":"Rechnungsblatt!#REF!","v":{"$error":"#REF!"}},{"$f":"Rechnungsblatt!#REF!","v":{"$error":"#REF!"}},{"$f":"Rechnungsblatt!#REF!","v":{"$error":"#REF!"}},{"$f":"Rechnungsblatt!#REF!","v":{"$error":"#REF!"}},null,{"$f":"Rechnungsblatt!#REF!","v":{"$error":"#REF!"}},{"$f":"Rechnungsblatt!#REF!","v":{"$error":"#REF!"}},{"$f":"Rechnungsblatt!#REF!","v":{"$error":"#REF!"}},{"$f":"Rechnungsblatt!#REF!","v":{"$error":"#REF!"}}]
[{"$f":"Rechnungsblatt!#REF!","v":{"$error":"#REF!"}},{"$f":"Rechnungsblatt!#REF!","v":{"$error":"#REF!"}},{"$f":"Rechnungsblatt!#REF!","v":{"$error":"#REF!"}},null,{"$f":"Rechnungsblatt!#REF!","v":{"$error":"#REF!"}},{"$f":"Rechnungsblatt!#REF!","v":{"$error":"#REF!"}},{"$f":"Rechnungsblatt!#REF!","v":{"$error":"#REF!"}},{"$f":"Rechnungsblatt!#REF!","v":{"$error":"#REF!"}},null,{"$f":"Rechnungsblatt!#REF!","v":{"$error":"#REF!"}},{"$f":"Rechnungsblatt!#REF!","v":{"$error":"#REF!"}},{"$f":"Rechnungsblatt!#REF!","v":{"$error":"#REF!"}},{"$f":"Rechnungsblatt!#REF!","v":{"$error":"#REF!"}}]
[{"$f":"Rechnungsblatt!#REF!","v":{"$error":"#REF!"}},{"$f":"Rechnungsblatt!#REF!","v":{"$error":"#REF!"}},{"$f":"Rechnungsblatt!#REF!","v":{"$error":"#REF!"}},null,{"$f":"Rechnungsblatt!#REF!","v":{"$error":"#REF!"}},{"$f":"Rechnungsblatt!#REF!","v":{"$error":"#REF!"}},{"$f":"Rechnungsblatt!#REF!","v":{"$error":"#REF!"}},{"$f":"Rechnungsblatt!#REF!","v":{"$error":"#REF!"}},null,{"$f":"Rechnungsblatt!#REF!","v":{"$error":"#REF!"}},{"$f":"Rechnungsblatt!#REF!","v":{"$error":"#REF!"}},{"$f":"Rechnungsblatt!#REF!","v":{"$error":"#REF!"}},{"$f":"Rechnungsblatt!#REF!","v":{"$error":"#REF!"}}]
[{"$f":"Rechnungsblatt!#REF!","v":{"$error":"#REF!"}},{"$f":"Rechnungsblatt!#REF!","v":{"$error":"#REF!"}},{"$f":"Rechnungsblatt!#REF!","v":{"$error":"#REF!"}},null,{"$f":"Rechnungsblatt!#REF!","v":{"$error":"#REF!"}},{"$f":"Rechnungsblatt!#REF!","v":{"$error":"#REF!"}},{"$f":"Rechnungsblatt!#REF!","v":{"$error":"#REF!"}},{"$f":"Rechnungsblatt!#REF!","v":{"$error":"#REF!"}},null,{"$f":"Rechnungsblatt!#REF!","v":{"$error":"#REF!"}},{"$f":"Rechnungsblatt!#REF!","v":{"$error":"#REF!"}},{"$f":"Rechnungsblatt!#REF!","v":{"$error":"#REF!"}},{"$f":"Rechnungsblatt!#REF!","v":{"$error":"#REF!"}}]
[{"$f":"Rechnungsblatt!#REF!","v":{"$error":"#REF!"}},{"$f":"Rechnungsblatt!#REF!","v":{"$error":"#REF!"}},{"$f":"Rechnungsblatt!#REF!","v":{"$error":"#REF!"}},null,{"$f":"Rechnungsblatt!#REF!","v":{"$error":"#REF!"}},{"$f":"Rechnungsblatt!#REF!","v":{"$error":"#REF!"}},{"$f":"Rechnungsblatt!#REF!","v":{"$error":"#REF!"}},{"$f":"Rechnungsblatt!#REF!","v":{"$error":"#REF!"}},null,{"$f":"Rechnungsblatt!#REF!","v":{"$error":"#REF!"}},{"$f":"Rechnungsblatt!#REF!","v":{"$error":"#REF!"}},{"$f":"Rechnungsblatt!#REF!","v":{"$error":"#REF!"}},{"$f":"Rechnungsblatt!#REF!","v":{"$error":"#REF!"}}]
[{"$f":"Rechnungsblatt!#REF!","v":{"$error":"#REF!"}},{"$f":"Rechnungsblatt!#REF!","v":{"$error":"#REF!"}},{"$f":"Rechnungsblatt!#REF!","v":{"$error":"#REF!"}},null,{"$f":"Rechnungsblatt!#REF!","v":{"$error":"#REF!"}},{"$f":"Rechnungsblatt!#REF!","v":{"$error":"#REF!"}},{"$f":"Rechnungsblatt!#REF!","v":{"$error":"#REF!"}},{"$f":"Rechnungsblatt!#REF!","v":{"$error":"#REF!"}},null,{"$f":"Rechnungsblatt!#REF!","v":{"$error":"#REF!"}},{"$f":"Rechnungsblatt!#REF!","v":{"$error":"#REF!"}},{"$f":"Rechnungsblatt!#REF!","v":{"$error":"#REF!"}},{"$f":"Rechnungsblatt!#REF!","v":{"$error":"#REF!"}}]
[{"$f":"Rechnungsblatt!#REF!","v":{"$error":"#REF!"}},{"$f":"Rechnungsblatt!#REF!","v":{"$error":"#REF!"}},{"$f":"Rechnungsblatt!#REF!","v":{"$error":"#REF!"}},null,{"$f":"Rechnungsblatt!#REF!","v":{"$error":"#REF!"}},{"$f":"Rechnungsblatt!#REF!","v":{"$error":"#REF!"}},{"$f":"Rechnungsblatt!#REF!","v":{"$error":"#REF!"}},{"$f":"Rechnungsblatt!#REF!","v":{"$error":"#REF!"}},null,{"$f":"Rechnungsblatt!#REF!","v":{"$error":"#REF!"}},{"$f":"Rechnungsblatt!#REF!","v":{"$error":"#REF!"}},{"$f":"Rechnungsblatt!#REF!","v":{"$error":"#REF!"}},{"$f":"Rechnungsblatt!#REF!","v":{"$error":"#REF!"}}]
[{"$f":"Rechnungsblatt!#REF!","v":{"$error":"#REF!"}},{"$f":"Rechnungsblatt!#REF!","v":{"$error":"#REF!"}},{"$f":"Rechnungsblatt!#REF!","v":{"$error":"#REF!"}},null,{"$f":"Rechnungsblatt!#REF!","v":{"$error":"#REF!"}},{"$f":"Rechnungsblatt!#REF!","v":{"$error":"#REF!"}},{"$f":"Rechnungsblatt!#REF!","v":{"$error":"#REF!"}},{"$f":"Rechnungsblatt!#REF!","v":{"$error":"#REF!"}},null,{"$f":"Rechnungsblatt!#REF!","v":{"$error":"#REF!"}},{"$f":"Rechnungsblatt!#REF!","v":{"$error":"#REF!"}},{"$f":"Rechnungsblatt!#REF!","v":{"$error":"#REF!"}},{"$f":"Rechnungsblatt!#REF!","v":{"$error":"#REF!"}}]
[{"$f":"Rechnungsblatt!#REF!","v":{"$error":"#REF!"}},{"$f":"Rechnungsblatt!#REF!","v":{"$error":"#REF!"}},{"$f":"Rechnungsblatt!#REF!","v":{"$error":"#REF!"}},null,{"$f":"Rechnungsblatt!#REF!","v":{"$error":"#REF!"}},{"$f":"Rechnungsblatt!#REF!","v":{"$error":"#REF!"}},{"$f":"Rechnungsblatt!#REF!","v":{"$error":"#REF!"}},{"$f":"Rechnungsblatt!#REF!","v":{"$error":"#REF!"}},null,{"$f":"Rechnungsblatt!#REF!","v":{"$error":"#REF!"}},{"$f":"Rechnungsblatt!#REF!","v":{"$error":"#REF!"}},{"$f":"Rechnungsblatt!#REF!","v":{"$error":"#REF!"}},{"$f":"Rechnungsblatt!#REF!","v":{"$error":"#REF!"}}]
[{"$f":"Rechnungsblatt!#REF!","v":{"$error":"#REF!"}},{"$f":"Rechnungsblatt!#REF!","v":{"$error":"#REF!"}},{"$f":"Rechnungsblatt!#REF!","v":{"$error":"#REF!"}},null,{"$f":"Rechnungsblatt!#REF!","v":{"$error":"#REF!"}},{"$f":"Rechnungsblatt!#REF!","v":{"$error":"#REF!"}},{"$f":"Rechnungsblatt!#REF!","v":{"$error":"#REF!"}},{"$f":"Rechnungsblatt!#REF!","v":{"$error":"#REF!"}},null,{"$f":"Rechnungsblatt!#REF!","v":{"$error":"#REF!"}},{"$f":"Rechnungsblatt!#REF!","v":{"$error":"#REF!"}},{"$f":"Rechnungsblatt!#REF!","v":{"$error":"#REF!"}},{"$f":"Rechnungsblatt!#REF!","v":{"$error":"#REF!"}}]
[{"$f":"Rechnungsblatt!#REF!","v":{"$error":"#REF!"}},{"$f":"Rechnungsblatt!#REF!","v":{"$error":"#REF!"}},{"$f":"Rechnungsblatt!#REF!","v":{"$error":"#REF!"}},null,{"$f":"Rechnungsblatt!#REF!","v":{"$error":"#REF!"}},{"$f":"Rechnungsblatt!#REF!","v":{"$error":"#REF!"}},{"$f":"Rechnungsblatt!#REF!","v":{"$error":"#REF!"}},{"$f":"Rechnungsblatt!#REF!","v":{"$error":"#REF!"}},null,{"$f":"Rechnungsblatt!#REF!","v":{"$error":"#REF!"}},{"$f":"Rechnungsblatt!#REF!","v":{"$error":"#REF!"}},{"$f":"Rechnungsblatt!#REF!","v":{"$error":"#REF!"}},{"$f":"Rechnungsblatt!#REF!","v":{"$error":"#REF!"}}]
[{"$f":"Rechnungsblatt!#REF!","v":{"$error":"#REF!"}},{"$f":"Rechnungsblatt!#REF!","v":{"$error":"#REF!"}},{"$f":"Rechnungsblatt!#REF!","v":{"$error":"#REF!"}},null,{"$f":"Rechnungsblatt!#REF!","v":{"$error":"#REF!"}},{"$f":"Rechnungsblatt!#REF!","v":{"$error":"#REF!"}},{"$f":"Rechnungsblatt!#REF!","v":{"$error":"#REF!"}},{"$f":"Rechnungsblatt!#REF!","v":{"$error":"#REF!"}},null,{"$f":"Rechnungsblatt!#REF!","v":{"$error":"#REF!"}},{"$f":"Rechnungsblatt!#REF!","v":{"$error":"#REF!"}},{"$f":"Rechnungsblatt!#REF!","v":{"$error":"#REF!"}},{"$f":"Rechnungsblatt!#REF!","v":{"$error":"#REF!"}}]
[{"$f":"Rechnungsblatt!#REF!","v":{"$error":"#REF!"}},{"$f":"Rechnungsblatt!#REF!","v":{"$error":"#REF!"}},{"$f":"Rechnungsblatt!#REF!","v":{"$error":"#REF!"}},null,{"$f":"Rechnungsblatt!#REF!","v":{"$error":"#REF!"}},{"$f":"Rechnungsblatt!#REF!","v":{"$error":"#REF!"}},{"$f":"Rechnungsblatt!#REF!","v":{"$error":"#REF!"}},{"$f":"Rechnungsblatt!#REF!","v":{"$error":"#REF!"}},null,{"$f":"Rechnungsblatt!#REF!","v":{"$error":"#REF!"}},{"$f":"Rechnungsblatt!#REF!","v":{"$error":"#REF!"}},{"$f":"Rechnungsblatt!#REF!","v":{"$error":"#REF!"}},{"$f":"Rechnungsblatt!#REF!","v":{"$error":"#REF!"}}]
[{"$f":"Rechnungsblatt!#REF!","v":{"$error":"#REF!"}},{"$f":"Rechnungsblatt!#REF!","v":{"$error":"#REF!"}},{"$f":"Rechnungsblatt!#REF!","v":{"$error":"#REF!"}},null,{"$f":"Rechnungsblatt!#REF!","v":{"$error":"#REF!"}},{"$f":"Rechnungsblatt!#REF!","v":{"$error":"#REF!"}},{"$f":"Rechnungsblatt!#REF!","v":{"$error":"#REF!"}},{"$f":"Rechnungsblatt!#REF!","v":{"$error":"#REF!"}},null,{"$f":"Rechnungsblatt!#REF!","v":{"$error":"#REF!"}},{"$f":"Rechnungsblatt!#REF!","v":{"$error":"#REF!"}},{"$f":"Rechnungsblatt!#REF!","v":{"$error":"#REF!"}},{"$f":"Rechnungsblatt!#REF!","v":{"$error":"#REF!"}}]
[{"$f":"Rechnungsblatt!#REF!","v":{"$error":"#REF!"}},{"$f":"Rechnungsblatt!#REF!","v":{"$error":"#REF!"}},{"$f":"Rechnungsblatt!#REF!","v":{"$error":"#REF!"}},null,{"$f":"Rechnungsblatt!#REF!","v":{"$error":"#REF!"}},{"$f":"Rechnungsblatt!#REF!","v":{"$error":"#REF!"}},{"$f":"Rechnungsblatt!#REF!","v":{"$error":"#REF!"}},{"$f":"Rechnungsblatt!#REF!","v":{"$error":"#REF!"}},null,{"$f":"Rechnungsblatt!#REF!","v":{"$error":"#REF!"}},{"$f":"Rechnungsblatt!#REF!","v":{"$error":"#REF!"}},{"$f":"Rechnungsblatt!#REF!","v":{"$error":"#REF!"}},{"$f":"Rechnungsblatt!#REF!","v":{"$error":"#REF!"}}]
[{"$f":"Rechnungsblatt!#REF!","v":{"$error":"#REF!"}},{"$f":"Rechnungsblatt!#REF!","v":{"$error":"#REF!"}},{"$f":"Rechnungsblatt!#REF!","v":{"$error":"#REF!"}},null,{"$f":"Rechnungsblatt!#REF!","v":{"$error":"#REF!"}},{"$f":"Rechnungsblatt!#REF!","v":{"$error":"#REF!"}},{"$f":"Rechnungsblatt!#REF!","v":{"$error":"#REF!"}},{"$f":"Rechnungsblatt!#REF!","v":{"$error":"#REF!"}},null,{"$f":"Rechnungsblatt!#REF!","v":{"$error":"#REF!"}},{"$f":"Rechnungsblatt!#REF!","v":{"$error":"#REF!"}},{"$f":"Rechnungsblatt!#REF!","v":{"$error":"#REF!"}},{"$f":"Rechnungsblatt!#REF!","v":{"$error":"#REF!"}}]
[{"$f":"Rechnungsblatt!#REF!","v":{"$error":"#REF!"}},{"$f":"Rechnungsblatt!#REF!","v":{"$error":"#REF!"}},{"$f":"Rechnungsblatt!#REF!","v":{"$error":"#REF!"}},null,{"$f":"Rechnungsblatt!#REF!","v":{"$error":"#REF!"}},{"$f":"Rechnungsblatt!#REF!","v":{"$error":"#REF!"}},{"$f":"Rechnungsblatt!#REF!","v":{"$error":"#REF!"}},{"$f":"Rechnungsblatt!#REF!","v":{"$error":"#REF!"}},null,{"$f":"Rechnungsblatt!#REF!","v":{"$error":"#REF!"}},{"$f":"Rechnungsblatt!#REF!","v":{"$error":"#REF!"}},{"$f":"Rechnungsblatt!#REF!","v":{"$error":"#REF!"}},{"$f":"Rechnungsblatt!#REF!","v":{"$error":"#REF!"}}]
[{"$f":"Rechnungsblatt!#REF!","v":{"$error":"#REF!"}},{"$f":"Rechnungsblatt!#REF!","v":{"$error":"#REF!"}},{"$f":"Rechnungsblatt!#REF!","v":{"$error":"#REF!"}},null,{"$f":"Rechnungsblatt!#REF!","v":{"$error":"#REF!"}},{"$f":"Rechnungsblatt!#REF!","v":{"$error":"#REF!"}},{"$f":"Rechnungsblatt!#REF!","v":{"$error":"#REF!"}},{"$f":"Rechnungsblatt!#REF!","v":{"$error":"#REF!"}},null,{"$f":"Rechnungsblatt!#REF!","v":{"$error":"#REF!"}},{"$f":"Rechnungsblatt!#REF!","v":{"$error":"#REF!"}},{"$f":"Rechnungsblatt!#REF!","v":{"$error":"#REF!"}},{"$f":"Rechnungsblatt!#REF!","v":{"$error":"#REF!"}}]
[{"$f":"Rechnungsblatt!#REF!","v":{"$error":"#REF!"}},{"$f":"Rechnungsblatt!#REF!","v":{"$error":"#REF!"}},{"$f":"Rechnungsblatt!#REF!","v":{"$error":"#REF!"}},null,{"$f":"Rechnungsblatt!#REF!","v":{"$error":"#REF!"}},{"$f":"Rechnungsblatt!#REF!","v":{"$error":"#REF!"}},{"$f":"Rechnungsblatt!#REF!","v":{"$error":"#REF!"}},{"$f":"Rechnungsblatt!#REF!","v":{"$error":"#REF!"}},null,{"$f":"Rechnungsblatt!#REF!","v":{"$error":"#REF!"}},{"$f":"Rechnungsblatt!#REF!","v":{"$error":"#REF!"}},{"$f":"Rechnungsblatt!#REF!","v":{"$error":"#REF!"}},{"$f":"Rechnungsblatt!#REF!","v":{"$error":"#REF!"}}]
[{"$f":"Rechnungsblatt!#REF!","v":{"$error":"#REF!"}},{"$f":"Rechnungsblatt!#REF!","v":{"$error":"#REF!"}},{"$f":"Rechnungsblatt!#REF!","v":{"$error":"#REF!"}},null,{"$f":"Rechnungsblatt!#REF!","v":{"$error":"#REF!"}},{"$f":"Rechnungsblatt!#REF!","v":{"$error":"#REF!"}},{"$f":"Rechnungsblatt!#REF!","v":{"$error":"#REF!"}},{"$f":"Rechnungsblatt!#REF!","v":{"$error":"#REF!"}},null,{"$f":"Rechnungsblatt!#REF!","v":{"$error":"#REF!"}},{"$f":"Rechnungsblatt!#REF!","v":{"$error":"#REF!"}},{"$f":"Rechnungsblatt!#REF!","v":{"$error":"#REF!"}},{"$f":"Rechnungsblatt!#REF!","v":{"$error":"#REF!"}}]
[{"$f":"Rechnungsblatt!#REF!","v":{"$error":"#REF!"}},{"$f":"Rechnungsblatt!#REF!","v":{"$error":"#REF!"}},{"$f":"Rechnungsblatt!#REF!","v":{"$error":"#REF!"}},null,{"$f":"Rechnungsblatt!#REF!","v":{"$error":"#REF!"}},{"$f":"Rechnungsblatt!#REF!","v":{"$error":"#REF!"}},{"$f":"Rechnungsblatt!#REF!","v":{"$error":"#REF!"}},{"$f":"Rechnungsblatt!#REF!","v":{"$error":"#REF!"}},null,{"$f":"Rechnungsblatt!#REF!","v":{"$error":"#REF!"}},{"$f":"Rechnungsblatt!#REF!","v":{"$error":"#REF!"}},{"$f":"Rechnungsblatt!#REF!","v":{"$error":"#REF!"}},{"$f":"Rechnungsblatt!#REF!","v":{"$error":"#REF!"}}]
[{"$f":"Rechnungsblatt!#REF!","v":{"$error":"#REF!"}},{"$f":"Rechnungsblatt!#REF!","v":{"$error":"#REF!"}},{"$f":"Rechnungsblatt!#REF!","v":{"$error":"#REF!"}},null,{"$f":"Rechnungsblatt!#REF!","v":{"$error":"#REF!"}},{"$f":"Rechnungsblatt!#REF!","v":{"$error":"#REF!"}},{"$f":"Rechnungsblatt!#REF!","v":{"$error":"#REF!"}},{"$f":"Rechnungsblatt!#REF!","v":{"$error":"#REF!"}},null,{"$f":"Rechnungsblatt!#REF!","v":{"$error":"#REF!"}},{"$f":"Rechnungsblatt!#REF!","v":{"$error":"#REF!"}},{"$f":"Rechnungsblatt!#REF!","v":{"$error":"#REF!"}},{"$f":"Rechnungsblatt!#REF!","v":{"$error":"#REF!"}}]
[{"$f":"Rechnungsblatt!#REF!","v":{"$error":"#REF!"}},{"$f":"Rechnungsblatt!#REF!","v":{"$error":"#REF!"}},{"$f":"Rechnungsblatt!#REF!","v":{"$error":"#REF!"}},null,{"$f":"Rechnungsblatt!#REF!","v":{"$error":"#REF!"}},{"$f":"Rechnungsblatt!#REF!","v":{"$error":"#REF!"}},{"$f":"Rechnungsblatt!#REF!","v":{"$error":"#REF!"}},{"$f":"Rechnungsblatt!#REF!","v":{"$error":"#REF!"}},null,{"$f":"Rechnungsblatt!#REF!","v":{"$error":"#REF!"}},{"$f":"Rechnungsblatt!#REF!","v":{"$error":"#REF!"}},{"$f":"Rechnungsblatt!#REF!","v":{"$error":"#REF!"}},{"$f":"Rechnungsblatt!#REF!","v":{"$error":"#REF!"}}]
[{"$f":"Rechnungsblatt!#REF!","v":{"$error":"#REF!"}},{"$f":"Rechnungsblatt!#REF!","v":{"$error":"#REF!"}},{"$f":"Rechnungsblatt!#REF!","v":{"$error":"#REF!"}},null,{"$f":"Rechnungsblatt!#REF!","v":{"$error":"#REF!"}},{"$f":"Rechnungsblatt!#REF!","v":{"$error":"#REF!"}},{"$f":"Rechnungsblatt!#REF!","v":{"$error":"#REF!"}},{"$f":"Rechnungsblatt!#REF!","v":{"$error":"#REF!"}},null,{"$f":"Rechnungsblatt!#REF!","v":{"$error":"#REF!"}},{"$f":"Rechnungsblatt!#REF!","v":{"$error":"#REF!"}},{"$f":"Rechnungsblatt!#REF!","v":{"$error":"#REF!"}},{"$f":"Rechnungsblatt!#REF!","v":{"$error":"#REF!"}}]
[{"$f":"Rechnungsblatt!#REF!","v":{"$error":"#REF!"}},{"$f":"Rechnungsblatt!#REF!","v":{"$error":"#REF!"}},{"$f":"Rechnungsblatt!#REF!","v":{"$error":"#REF!"}},null,{"$f":"Rechnungsblatt!#REF!","v":{"$error":"#REF!"}},{"$f":"Rechnungsblatt!#REF!","v":{"$error":"#REF!"}},{"$f":"Rechnungsblatt!#REF!","v":{"$error":"#REF!"}},{"$f":"Rechnungsblatt!#REF!","v":{"$error":"#REF!"}},null,{"$f":"Rechnungsblatt!#REF!","v":{"$error":"#REF!"}},{"$f":"Rechnungsblatt!#REF!","v":{"$error":"#REF!"}},{"$f":"Rechnungsblatt!#REF!","v":{"$error":"#REF!"}},{"$f":"Rechnungsblatt!#REF!","v":{"$error":"#REF!"}}]
[{"$f":"Rechnungsblatt!#REF!","v":{"$error":"#REF!"}},{"$f":"Rechnungsblatt!#REF!","v":{"$error":"#REF!"}},{"$f":"Rechnungsblatt!#REF!","v":{"$error":"#REF!"}},null,{"$f":"Rechnungsblatt!#REF!","v":{"$error":"#REF!"}},{"$f":"Rechnungsblatt!#REF!","v":{"$error":"#REF!"}},{"$f":"Rechnungsblatt!#REF!","v":{"$error":"#REF!"}},{"$f":"Rechnungsblatt!#REF!","v":{"$error":"#REF!"}},null,{"$f":"Rechnungsblatt!#REF!","v":{"$error":"#REF!"}},{"$f":"Rechnungsblatt!#REF!","v":{"$error":"#REF!"}},{"$f":"Rechnungsblatt!#REF!","v":{"$error":"#REF!"}},{"$f":"Rechnungsblatt!#REF!","v":{"$error":"#REF!"}}]
[{"$f":"Rechnungsblatt!#REF!","v":{"$error":"#REF!"}},{"$f":"Rechnungsblatt!#REF!","v":{"$error":"#REF!"}},{"$f":"Rechnungsblatt!#REF!","v":{"$error":"#REF!"}},null,{"$f":"Rechnungsblatt!#REF!","v":{"$error":"#REF!"}},{"$f":"Rechnungsblatt!#REF!","v":{"$error":"#REF!"}},{"$f":"Rechnungsblatt!#REF!","v":{"$error":"#REF!"}},{"$f":"Rechnungsblatt!#REF!","v":{"$error":"#REF!"}},null,{"$f":"Rechnungsblatt!#REF!","v":{"$error":"#REF!"}},{"$f":"Rechnungsblatt!#REF!","v":{"$error":"#REF!"}},{"$f":"Rechnungsblatt!#REF!","v":{"$error":"#REF!"}},{"$f":"Rechnungsblatt!#REF!","v":{"$error":"#REF!"}}]
[{"$f":"Rechnungsblatt!#REF!","v":{"$error":"#REF!"}},{"$f":"Rechnungsblatt!#REF!","v":{"$error":"#REF!"}},{"$f":"Rechnungsblatt!#REF!","v":{"$error":"#REF!"}},null,{"$f":"Rechnungsblatt!#REF!","v":{"$error":"#REF!"}},{"$f":"Rechnungsblatt!#REF!","v":{"$error":"#REF!"}},{"$f":"Rechnungsblatt!#REF!","v":{"$error":"#REF!"}},{"$f":"Rechnungsblatt!#REF!","v":{"$error":"#REF!"}},null,{"$f":"Rechnungsblatt!#REF!","v":{"$error":"#REF!"}},{"$f":"Rechnungsblatt!#REF!","v":{"$error":"#REF!"}},{"$f":"Rechnungsblatt!#REF!","v":{"$error":"#REF!"}},{"$f":"Rechnungsblatt!#REF!","v":{"$error":"#REF!"}}]
[{"$f":"Rechnungsblatt!#REF!","v":{"$error":"#REF!"}},{"$f":"Rechnungsblatt!#REF!","v":{"$error":"#REF!"}},{"$f":"Rechnungsblatt!#REF!","v":{"$error":"#REF!"}},null,{"$f":"Rechnungsblatt!#REF!","v":{"$error":"#REF!"}},{"$f":"Rechnungsblatt!#REF!","v":{"$error":"#REF!"}},{"$f":"Rechnungsblatt!#REF!","v":{"$error":"#REF!"}},{"$f":"Rechnungsblatt!#REF!","v":{"$error":"#REF!"}},null,{"$f":"Rechnungsblatt!#REF!","v":{"$error":"#REF!"}},{"$f":"Rechnungsblatt!#REF!","v":{"$error":"#REF!"}},{"$f":"Rechnungsblatt!#REF!","v":{"$error":"#REF!"}},{"$f":"Rechnungsblatt!#REF!","v":{"$error":"#REF!"}}]
[{"$f":"Rechnungsblatt!#REF!","v":{"$error":"#REF!"}},{"$f":"Rechnungsblatt!#REF!","v":{"$error":"#REF!"}},{"$f":"Rechnungsblatt!#REF!","v":{"$error":"#REF!"}},null,{"$f":"Rechnungsblatt!#REF!","v":{"$error":"#REF!"}},{"$f":"Rechnungsblatt!#REF!","v":{"$error":"#REF!"}},{"$f":"Rechnungsblatt!#REF!","v":{"$error":"#REF!"}},{"$f":"Rechnungsblatt!#REF!","v":{"$error":"#REF!"}},null,{"$f":"Rechnungsblatt!#REF!","v":{"$error":"#REF!"}},{"$f":"Rechnungsblatt!#REF!","v":{"$error":"#REF!"}},{"$f":"Rechnungsblatt!#REF!","v":{"$error":"#REF!"}},{"$f":"Rechnungsblatt!#REF!","v":{"$error":"#REF!"}}]
[{"$f":"Rechnungsblatt!#REF!","v":{"$error":"#REF!"}},{"$f":"Rechnungsblatt!#REF!","v":{"$error":"#REF!"}},{"$f":"Rechnungsblatt!#REF!","v":{"$error":"#REF!"}},null,{"$f":"Rechnungsblatt!#REF!","v":{"$error":"#REF!"}},{"$f":"Rechnungsblatt!#REF!","v":{"$error":"#REF!"}},{"$f":"Rechnungsblatt!#REF!","v":{"$error":"#REF!"}},{"$f":"Rechnungsblatt!#REF!","v":{"$error":"#REF!"}},null,{"$f":"Rechnungsblatt!#REF!","v":{"$error":"#REF!"}},{"$f":"Rechnungsblatt!#REF!","v":{"$error":"#REF!"}},{"$f":"Rechnungsblatt!#REF!","v":{"$error":"#REF!"}},{"$f":"Rechnungsblatt!#REF!","v":{"$error":"#REF!"}}]
[{"$f":"Rechnungsblatt!#REF!","v":{"$error":"#REF!"}},{"$f":"Rechnungsblatt!#REF!","v":{"$error":"#REF!"}},{"$f":"Rechnungsblatt!#REF!","v":{"$error":"#REF!"}},null,{"$f":"Rechnungsblatt!#REF!","v":{"$error":"#REF!"}},{"$f":"Rechnungsblatt!#REF!","v":{"$error":"#REF!"}},{"$f":"Rechnungsblatt!#REF!","v":{"$error":"#REF!"}},{"$f":"Rechnungsblatt!#REF!","v":{"$error":"#REF!"}},null,{"$f":"Rechnungsblatt!#REF!","v":{"$error":"#REF!"}},{"$f":"Rechnungsblatt!#REF!","v":{"$error":"#REF!"}},{"$f":"Rechnungsblatt!#REF!","v":{"$error":"#REF!"}},{"$f":"Rechnungsblatt!#REF!","v":{"$error":"#REF!"}}]
[{"$f":"Rechnungsblatt!#REF!","v":{"$error":"#REF!"}},{"$f":"Rechnungsblatt!#REF!","v":{"$error":"#REF!"}},{"$f":"Rechnungsblatt!#REF!","v":{"$error":"#REF!"}},null,{"$f":"Rechnungsblatt!#REF!","v":{"$error":"#REF!"}},{"$f":"Rechnungsblatt!#REF!","v":{"$error":"#REF!"}},{"$f":"Rechnungsblatt!#REF!","v":{"$error":"#REF!"}},{"$f":"Rechnungsblatt!#REF!","v":{"$error":"#REF!"}},null,{"$f":"Rechnungsblatt!#REF!","v":{"$error":"#REF!"}},{"$f":"Rechnungsblatt!#REF!","v":{"$error":"#REF!"}},{"$f":"Rechnungsblatt!#REF!","v":{"$error":"#REF!"}},{"$f":"Rechnungsblatt!#REF!","v":{"$error":"#REF!"}}]
[{"$f":"Rechnungsblatt!#REF!","v":{"$error":"#REF!"}},{"$f":"Rechnungsblatt!#REF!","v":{"$error":"#REF!"}},{"$f":"Rechnungsblatt!#REF!","v":{"$error":"#REF!"}},null,{"$f":"Rechnungsblatt!#REF!","v":{"$error":"#REF!"}},{"$f":"Rechnungsblatt!#REF!","v":{"$error":"#REF!"}},{"$f":"Rechnungsblatt!#REF!","v":{"$error":"#REF!"}},{"$f":"Rechnungsblatt!#REF!","v":{"$error":"#REF!"}},null,{"$f":"Rechnungsblatt!#REF!","v":{"$error":"#REF!"}},{"$f":"Rechnungsblatt!#REF!","v":{"$error":"#REF!"}},{"$f":"Rechnungsblatt!#REF!","v":{"$error":"#REF!"}},{"$f":"Rechnungsblatt!#REF!","v":{"$error":"#REF!"}}]
[{"$f":"Rechnungsblatt!#REF!","v":{"$error":"#REF!"}},{"$f":"Rechnungsblatt!#REF!","v":{"$error":"#REF!"}},{"$f":"Rechnungsblatt!#REF!","v":{"$error":"#REF!"}},null,{"$f":"Rechnungsblatt!#REF!","v":{"$error":"#REF!"}},{"$f":"Rechnungsblatt!#REF!","v":{"$error":"#REF!"}},{"$f":"Rechnungsblatt!#REF!","v":{"$error":"#REF!"}},{"$f":"Rechnungsblatt!#REF!","v":{"$error":"#REF!"}},null,{"$f":"Rechnungsblatt!#REF!","v":{"$error":"#REF!"}},{"$f":"Rechnungsblatt!#REF!","v":{"$error":"#REF!"}},{"$f":"Rechnungsblatt!#REF!","v":{"$error":"#REF!"}},{"$f":"Rechnungsblatt!#REF!","v":{"$error":"#REF!"}}]
[{"$f":"Rechnungsblatt!#REF!","v":{"$error":"#REF!"}},{"$f":"Rechnungsblatt!#REF!","v":{"$error":"#REF!"}},{"$f":"Rechnungsblatt!#REF!","v":{"$error":"#REF!"}},null,{"$f":"Rechnungsblatt!#REF!","v":{"$error":"#REF!"}},{"$f":"Rechnungsblatt!#REF!","v":{"$error":"#REF!"}},{"$f":"Rechnungsblatt!#REF!","v":{"$error":"#REF!"}},{"$f":"Rechnungsblatt!#REF!","v":{"$error":"#REF!"}},null,{"$f":"Rechnungsblatt!#REF!","v":{"$error":"#REF!"}},{"$f":"Rechnungsblatt!#REF!","v":{"$error":"#REF!"}},{"$f":"Rechnungsblatt!#REF!","v":{"$error":"#REF!"}},{"$f":"Rechnungsblatt!#REF!","v":{"$error":"#REF!"}}]
[{"$f":"Rechnungsblatt!#REF!","v":{"$error":"#REF!"}},{"$f":"Rechnungsblatt!#REF!","v":{"$error":"#REF!"}},{"$f":"Rechnungsblatt!#REF!","v":{"$error":"#REF!"}},null,{"$f":"Rechnungsblatt!#REF!","v":{"$error":"#REF!"}},{"$f":"Rechnungsblatt!#REF!","v":{"$error":"#REF!"}},{"$f":"Rechnungsblatt!#REF!","v":{"$error":"#REF!"}},{"$f":"Rechnungsblatt!#REF!","v":{"$error":"#REF!"}},null,{"$f":"Rechnungsblatt!#REF!","v":{"$error":"#REF!"}},{"$f":"Rechnungsblatt!#REF!","v":{"$error":"#REF!"}},{"$f":"Rechnungsblatt!#REF!","v":{"$error":"#REF!"}},{"$f":"Rechnungsblatt!#REF!","v":{"$error":"#REF!"}}]
[{"$f":"Rechnungsblatt!#REF!","v":{"$error":"#REF!"}},{"$f":"Rechnungsblatt!#REF!","v":{"$error":"#REF!"}},{"$f":"Rechnungsblatt!#REF!","v":{"$error":"#REF!"}},null,{"$f":"Rechnungsblatt!#REF!","v":{"$error":"#REF!"}},{"$f":"Rechnungsblatt!#REF!","v":{"$error":"#REF!"}},{"$f":"Rechnungsblatt!#REF!","v":{"$error":"#REF!"}},{"$f":"Rechnungsblatt!#REF!","v":{"$error":"#REF!"}},null,{"$f":"Rechnungsblatt!#REF!","v":{"$error":"#REF!"}},{"$f":"Rechnungsblatt!#REF!","v":{"$error":"#REF!"}},{"$f":"Rechnungsblatt!#REF!","v":{"$error":"#REF!"}},{"$f":"Rechnungsblatt!#REF!","v":{"$error":"#REF!"}}]
[{"$f":"Rechnungsblatt!#REF!","v":{"$error":"#REF!"}},{"$f":"Rechnungsblatt!#REF!","v":{"$error":"#REF!"}},{"$f":"Rechnungsblatt!#REF!","v":{"$error":"#REF!"}},null,{"$f":"Rechnungsblatt!#REF!","v":{"$error":"#REF!"}},{"$f":"Rechnungsblatt!#REF!","v":{"$error":"#REF!"}},{"$f":"Rechnungsblatt!#REF!","v":{"$error":"#REF!"}},{"$f":"Rechnungsblatt!#REF!","v":{"$error":"#REF!"}},null,{"$f":"Rechnungsblatt!#REF!","v":{"$error":"#REF!"}},{"$f":"Rechnungsblatt!#REF!","v":{"$error":"#REF!"}},{"$f":"Rechnungsblatt!#REF!","v":{"$error":"#REF!"}},{"$f":"Rechnungsblatt!#REF!","v":{"$error":"#REF!"}}]
[{"$f":"Rechnungsblatt!#REF!","v":{"$error":"#REF!"}},{"$f":"Rechnungsblatt!#REF!","v":{"$error":"#REF!"}},{"$f":"Rechnungsblatt!#REF!","v":{"$error":"#REF!"}},null,{"$f":"Rechnungsblatt!#REF!","v":{"$error":"#REF!"}},{"$f":"Rechnungsblatt!#REF!","v":{"$error":"#REF!"}},{"$f":"Rechnungsblatt!#REF!","v":{"$error":"#REF!"}},{"$f":"Rechnungsblatt!#REF!","v":{"$error":"#REF!"}},null,{"$f":"Rechnungsblatt!#REF!","v":{"$error":"#REF!"}},{"$f":"Rechnungsblatt!#REF!","v":{"$error":"#REF!"}},{"$f":"Rechnungsblatt!#REF!","v":{"$error":"#REF!"}},{"$f":"Rechnungsblatt!#REF!","v":{"$error":"#REF!"}}]
[{"$f":"Rechnungsblatt!#REF!","v":{"$error":"#REF!"}},{"$f":"Rechnungsblatt!#REF!","v":{"$error":"#REF!"}},{"$f":"Rechnungsblatt!#REF!","v":{"$error":"#REF!"}},null,{"$f":"Rechnungsblatt!#REF!","v":{"$error":"#REF!"}},{"$f":"Rechnungsblatt!#REF!","v":{"$error":"#REF!"}},{"$f":"Rechnungsblatt!#REF!","v":{"$error":"#REF!"}},{"$f":"Rechnungsblatt!#REF!","v":{"$error":"#REF!"}},null,{"$f":"Rechnungsblatt!#REF!","v":{"$error":"#REF!"}},{"$f":"Rechnungsblatt!#REF!","v":{"$error":"#REF!"}},{"$f":"Rechnungsblatt!#REF!","v":{"$error":"#REF!"}},{"$f":"Rechnungsblatt!#REF!","v":{"$error":"#REF!"}}]
[{"$f":"Rechnungsblatt!#REF!","v":{"$error":"#REF!"}},{"$f":"Rechnungsblatt!#REF!","v":{"$error":"#REF!"}},{"$f":"Rechnungsblatt!#REF!","v":{"$error":"#REF!"}},null,{"$f":"Rechnungsblatt!#REF!","v":{"$error":"#REF!"}},{"$f":"Rechnungsblatt!#REF!","v":{"$error":"#REF!"}},{"$f":"Rechnungsblatt!#REF!","v":{"$error":"#REF!"}},{"$f":"Rechnungsblatt!#REF!","v":{"$error":"#REF!"}},null,{"$f":"Rechnungsblatt!#REF!","v":{"$error":"#REF!"}},{"$f":"Rechnungsblatt!#REF!","v":{"$error":"#REF!"}},{"$f":"Rechnungsblatt!#REF!","v":{"$error":"#REF!"}},{"$f":"Rechnungsblatt!#REF!","v":{"$error":"#REF!"}}]
[{"$f":"Rechnungsblatt!#REF!","v":{"$error":"#REF!"}},{"$f":"Rechnungsblatt!#REF!","v":{"$error":"#REF!"}},{"$f":"Rechnungsblatt!#REF!","v":{"$error":"#REF!"}},null,{"$f":"Rechnungsblatt!#REF!","v":{"$error":"#REF!"}},{"$f":"Rechnungsblatt!#REF!","v":{"$error":"#REF!"}},{"$f":"Rechnungsblatt!#REF!","v":{"$error":"#REF!"}},{"$f":"Rechnungsblatt!#REF!","v":{"$error":"#REF!"}},null,{"$f":"Rechnungsblatt!#REF!","v":{"$error":"#REF!"}},{"$f":"Rechnungsblatt!#REF!","v":{"$error":"#REF!"}},{"$f":"Rechnungsblatt!#REF!","v":{"$error":"#REF!"}},{"$f":"Rechnungsblatt!#REF!","v":{"$error":"#REF!"}}]
[{"$f":"Rechnungsblatt!#REF!","v":{"$error":"#REF!"}},{"$f":"Rechnungsblatt!#REF!","v":{"$error":"#REF!"}},{"$f":"Rechnungsblatt!#REF!","v":{"$error":"#REF!"}},null,{"$f":"Rechnungsblatt!#REF!","v":{"$error":"#REF!"}},{"$f":"Rechnungsblatt!#REF!","v":{"$error":"#REF!"}},{"$f":"Rechnungsblatt!#REF!","v":{"$error":"#REF!"}},{"$f":"Rechnungsblatt!#REF!","v":{"$error":"#REF!"}},null,{"$f":"Rechnungsblatt!#REF!","v":{"$error":"#REF!"}},{"$f":"Rechnungsblatt!#REF!","v":{"$error":"#REF!"}},{"$f":"Rechnungsblatt!#REF!","v":{"$error":"#REF!"}},{"$f":"Rechnungsblatt!#REF!","v":{"$error":"#REF!"}}]
[{"$f":"Rechnungsblatt!#REF!","v":{"$error":"#REF!"}},{"$f":"Rechnungsblatt!#REF!","v":{"$error":"#REF!"}},{"$f":"Rechnungsblatt!#REF!","v":{"$error":"#REF!"}},null,{"$f":"Rechnungsblatt!#REF!","v":{"$error":"#REF!"}},{"$f":"Rechnungsblatt!#REF!","v":{"$error":"#REF!"}},{"$f":"Rechnungsblatt!#REF!","v":{"$error":"#REF!"}},{"$f":"Rechnungsblatt!#REF!","v":{"$error":"#REF!"}},null,{"$f":"Rechnungsblatt!#REF!","v":{"$error":"#REF!"}},{"$f":"Rechnungsblatt!#REF!","v":{"$error":"#REF!"}},{"$f":"Rechnungsblatt!#REF!","v":{"$error":"#REF!"}},{"$f":"Rechnungsblatt!#REF!","v":{"$error":"#REF!"}}]
[{"$f":"Rechnungsblatt!#REF!","v":{"$error":"#REF!"}},{"$f":"Rechnungsblatt!#REF!","v":{"$error":"#REF!"}},{"$f":"Rechnungsblatt!#REF!","v":{"$error":"#REF!"}},null,{"$f":"Rechnungsblatt!#REF!","v":{"$error":"#REF!"}},{"$f":"Rechnungsblatt!#REF!","v":{"$error":"#REF!"}},{"$f":"Rechnungsblatt!#REF!","v":{"$error":"#REF!"}},{"$f":"Rechnungsblatt!#REF!","v":{"$error":"#REF!"}},null,{"$f":"Rechnungsblatt!#REF!","v":{"$error":"#REF!"}},{"$f":"Rechnungsblatt!#REF!","v":{"$error":"#REF!"}},{"$f":"Rechnungsblatt!#REF!","v":{"$error":"#REF!"}},{"$f":"Rechnungsblatt!#REF!","v":{"$error":"#REF!"}}]
[{"$f":"Rechnungsblatt!#REF!","v":{"$error":"#REF!"}},{"$f":"Rechnungsblatt!#REF!","v":{"$error":"#REF!"}},{"$f":"Rechnungsblatt!#REF!","v":{"$error":"#REF!"}},null,{"$f":"Rechnungsblatt!#REF!","v":{"$error":"#REF!"}},{"$f":"Rechnungsblatt!#REF!","v":{"$error":"#REF!"}},{"$f":"Rechnungsblatt!#REF!","v":{"$error":"#REF!"}},{"$f":"Rechnungsblatt!#REF!","v":{"$error":"#REF!"}},null,{"$f":"Rechnungsblatt!#REF!","v":{"$error":"#REF!"}},{"$f":"Rechnungsblatt!#REF!","v":{"$error":"#REF!"}},{"$f":"Rechnungsblatt!#REF!","v":{"$error":"#REF!"}},{"$f":"Rechnungsblatt!#REF!","v":{"$error":"#REF!"}}]
[{"$f":"Rechnungsblatt!#REF!","v":{"$error":"#REF!"}},{"$f":"Rechnungsblatt!#REF!","v":{"$error":"#REF!"}},{"$f":"Rechnungsblatt!#REF!","v":{"$error":"#REF!"}},null,{"$f":"Rechnungsblatt!#REF!","v":{"$error":"#REF!"}},{"$f":"Rechnungsblatt!#REF!","v":{"$error":"#REF!"}},{"$f":"Rechnungsblatt!#REF!","v":{"$error":"#REF!"}},{"$f":"Rechnungsblatt!#REF!","v":{"$error":"#REF!"}},null,{"$f":"Rechnungsblatt!#REF!","v":{"$error":"#REF!"}},{"$f":"Rechnungsblatt!#REF!","v":{"$error":"#REF!"}},{"$f":"Rechnungsblatt!#REF!","v":{"$error":"#REF!"}},{"$f":"Rechnungsblatt!#REF!","v":{"$error":"#REF!"}}]
[{"$f":"Rechnungsblatt!#REF!","v":{"$error":"#REF!"}},{"$f":"Rechnungsblatt!#REF!","v":{"$error":"#REF!"}},{"$f":"Rechnungsblatt!#REF!","v":{"$error":"#REF!"}},null,{"$f":"Rechnungsblatt!#REF!","v":{"$error":"#REF!"}},{"$f":"Rechnungsblatt!#REF!","v":{"$error":"#REF!"}},{"$f":"Rechnungsblatt!#REF!","v":{"$error":"#REF!"}},{"$f":"Rechnungsblatt!#REF!","v":{"$error":"#REF!"}},null,{"$f":"Rechnungsblatt!#REF!","v":{"$error":"#REF!"}},{"$f":"Rechnungsblatt!#REF!","v":{"$error":"#REF!"}},{"$f":"Rechnungsblatt!#REF!","v":{"$error":"#REF!"}},{"$f":"Rechnungsblatt!#REF!","v":{"$error":"#REF!"}}]
[{"$f":"Rechnungsblatt!#REF!","v":{"$error":"#REF!"}},{"$f":"Rechnungsblatt!#REF!","v":{"$error":"#REF!"}},{"$f":"Rechnungsblatt!#REF!","v":{"$error":"#REF!"}},null,{"$f":"Rechnungsblatt!#REF!","v":{"$error":"#REF!"}},{"$f":"Rechnungsblatt!#REF!","v":{"$error":"#REF!"}},{"$f":"Rechnungsblatt!#REF!","v":{"$error":"#REF!"}},{"$f":"Rechnungsblatt!#REF!","v":{"$error":"#REF!"}},null,{"$f":"Rechnungsblatt!#REF!","v":{"$error":"#REF!"}},{"$f":"Rechnungsblatt!#REF!","v":{"$error":"#REF!"}},{"$f":"Rechnungsblatt!#REF!","v":{"$error":"#REF!"}},{"$f":"Rechnungsblatt!#REF!","v":{"$error":"#REF!"}}]
[{"$f":"Rechnungsblatt!#REF!","v":{"$error":"#REF!"}},{"$f":"Rechnungsblatt!#REF!","v":{"$error":"#REF!"}},{"$f":"Rechnungsblatt!#REF!","v":{"$error":"#REF!"}},null,{"$f":"Rechnungsblatt!#REF!","v":{"$error":"#REF!"}},{"$f":"Rechnungsblatt!#REF!","v":{"$error":"#REF!"}},{"$f":"Rechnungsblatt!#REF!","v":{"$error":"#REF!"}},{"$f":"Rechnungsblatt!#REF!","v":{"$error":"#REF!"}},null,{"$f":"Rechnungsblatt!#REF!","v":{"$error":"#REF!"}},{"$f":"Rechnungsblatt!#REF!","v":{"$error":"#REF!"}},{"$f":"Rechnungsblatt!#REF!","v":{"$error":"#REF!"}},{"$f":"Rechnungsblatt!#REF!","v":{"$error":"#REF!"}}]
[{"$f":"Rechnungsblatt!#REF!","v":{"$error":"#REF!"}},{"$f":"Rechnungsblatt!#REF!","v":{"$error":"#REF!"}},{"$f":"Rechnungsblatt!#REF!","v":{"$error":"#REF!"}},null,{"$f":"Rechnungsblatt!#REF!","v":{"$error":"#REF!"}},{"$f":"Rechnungsblatt!#REF!","v":{"$error":"#REF!"}},{"$f":"Rechnungsblatt!#REF!","v":{"$error":"#REF!"}},{"$f":"Rechnungsblatt!#REF!","v":{"$error":"#REF!"}},null,{"$f":"Rechnungsblatt!#REF!","v":{"$error":"#REF!"}},{"$f":"Rechnungsblatt!#REF!","v":{"$error":"#REF!"}},{"$f":"Rechnungsblatt!#REF!","v":{"$error":"#REF!"}},{"$f":"Rechnungsblatt!#REF!","v":{"$error":"#REF!"}}]
[{"$f":"Rechnungsblatt!#REF!","v":{"$error":"#REF!"}},{"$f":"Rechnungsblatt!#REF!","v":{"$error":"#REF!"}},{"$f":"Rechnungsblatt!#REF!","v":{"$error":"#REF!"}},null,{"$f":"Rechnungsblatt!#REF!","v":{"$error":"#REF!"}},{"$f":"Rechnungsblatt!#REF!","v":{"$error":"#REF!"}},{"$f":"Rechnungsblatt!#REF!","v":{"$error":"#REF!"}},{"$f":"Rechnungsblatt!#REF!","v":{"$error":"#REF!"}},null,{"$f":"Rechnungsblatt!#REF!","v":{"$error":"#REF!"}},{"$f":"Rechnungsblatt!#REF!","v":{"$error":"#REF!"}},{"$f":"Rechnungsblatt!#REF!","v":{"$error":"#REF!"}},{"$f":"Rechnungsblatt!#REF!","v":{"$error":"#REF!"}}]
[{"$f":"Rechnungsblatt!#REF!","v":{"$error":"#REF!"}},{"$f":"Rechnungsblatt!#REF!","v":{"$error":"#REF!"}},{"$f":"Rechnungsblatt!#REF!","v":{"$error":"#REF!"}},null,{"$f":"Rechnungsblatt!#REF!","v":{"$error":"#REF!"}},{"$f":"Rechnungsblatt!#REF!","v":{"$error":"#REF!"}},{"$f":"Rechnungsblatt!#REF!","v":{"$error":"#REF!"}},{"$f":"Rechnungsblatt!#REF!","v":{"$error":"#REF!"}},null,{"$f":"Rechnungsblatt!#REF!","v":{"$error":"#REF!"}},{"$f":"Rechnungsblatt!#REF!","v":{"$error":"#REF!"}},{"$f":"Rechnungsblatt!#REF!","v":{"$error":"#REF!"}},{"$f":"Rechnungsblatt!#REF!","v":{"$error":"#REF!"}}]
[{"$f":"Rechnungsblatt!#REF!","v":{"$error":"#REF!"}},{"$f":"Rechnungsblatt!#REF!","v":{"$error":"#REF!"}},{"$f":"Rechnungsblatt!#REF!","v":{"$error":"#REF!"}},null,{"$f":"Rechnungsblatt!#REF!","v":{"$error":"#REF!"}},{"$f":"Rechnungsblatt!#REF!","v":{"$error":"#REF!"}},{"$f":"Rechnungsblatt!#REF!","v":{"$error":"#REF!"}},{"$f":"Rechnungsblatt!#REF!","v":{"$error":"#REF!"}},null,{"$f":"Rechnungsblatt!#REF!","v":{"$error":"#REF!"}},{"$f":"Rechnungsblatt!#REF!","v":{"$error":"#REF!"}},{"$f":"Rechnungsblatt!#REF!","v":{"$error":"#REF!"}},{"$f":"Rechnungsblatt!#REF!","v":{"$error":"#REF!"}}]
[{"$f":"Rechnungsblatt!#REF!","v":{"$error":"#REF!"}},{"$f":"Rechnungsblatt!#REF!","v":{"$error":"#REF!"}},{"$f":"Rechnungsblatt!#REF!","v":{"$error":"#REF!"}},null,{"$f":"Rechnungsblatt!#REF!","v":{"$error":"#REF!"}},{"$f":"Rechnungsblatt!#REF!","v":{"$error":"#REF!"}},{"$f":"Rechnungsblatt!#REF!","v":{"$error":"#REF!"}},{"$f":"Rechnungsblatt!#REF!","v":{"$error":"#REF!"}},null,{"$f":"Rechnungsblatt!#REF!","v":{"$error":"#REF!"}},{"$f":"Rechnungsblatt!#REF!","v":{"$error":"#REF!"}},{"$f":"Rechnungsblatt!#REF!","v":{"$error":"#REF!"}},{"$f":"Rechnungsblatt!#REF!","v":{"$error":"#REF!"}}]
[{"$f":"Rechnungsblatt!#REF!","v":{"$error":"#REF!"}},{"$f":"Rechnungsblatt!#REF!","v":{"$error":"#REF!"}},{"$f":"Rechnungsblatt!#REF!","v":{"$error":"#REF!"}},null,{"$f":"Rechnungsblatt!#REF!","v":{"$error":"#REF!"}},{"$f":"Rechnungsblatt!#REF!","v":{"$error":"#REF!"}},{"$f":"Rechnungsblatt!#REF!","v":{"$error":"#REF!"}},{"$f":"Rechnungsblatt!#REF!","v":{"$error":"#REF!"}},null,{"$f":"Rechnungsblatt!#REF!","v":{"$error":"#REF!"}},{"$f":"Rechnungsblatt!#REF!","v":{"$error":"#REF!"}},{"$f":"Rechnungsblatt!#REF!","v":{"$error":"#REF!"}},{"$f":"Rechnungsblatt!#REF!","v":{"$error":"#REF!"}}]
[{"$f":"Rechnungsblatt!#REF!","v":{"$error":"#REF!"}},{"$f":"Rechnungsblatt!#REF!","v":{"$error":"#REF!"}},{"$f":"Rechnungsblatt!#REF!","v":{"$error":"#REF!"}},null,{"$f":"Rechnungsblatt!#REF!","v":{"$error":"#REF!"}},{"$f":"Rechnungsblatt!#REF!","v":{"$error":"#REF!"}},{"$f":"Rechnungsblatt!#REF!","v":{"$error":"#REF!"}},{"$f":"Rechnungsblatt!#REF!","v":{"$error":"#REF!"}},null,{"$f":"Rechnungsblatt!#REF!","v":{"$error":"#REF!"}},{"$f":"Rechnungsblatt!#REF!","v":{"$error":"#REF!"}},{"$f":"Rechnungsblatt!#REF!","v":{"$error":"#REF!"}},{"$f":"Rechnungsblatt!#REF!","v":{"$error":"#REF!"}}]
[{"$f":"Rechnungsblatt!#REF!","v":{"$error":"#REF!"}},{"$f":"Rechnungsblatt!#REF!","v":{"$error":"#REF!"}},{"$f":"Rechnungsblatt!#REF!","v":{"$error":"#REF!"}},null,{"$f":"Rechnungsblatt!#REF!","v":{"$error":"#REF!"}},{"$f":"Rechnungsblatt!#REF!","v":{"$error":"#REF!"}},{"$f":"Rechnungsblatt!#REF!","v":{"$error":"#REF!"}},{"$f":"Rechnungsblatt!#REF!","v":{"$error":"#REF!"}},null,{"$f":"Rechnungsblatt!#REF!","v":{"$error":"#REF!"}},{"$f":"Rechnungsblatt!#REF!","v":{"$error":"#REF!"}},{"$f":"Rechnungsblatt!#REF!","v":{"$error":"#REF!"}},{"$f":"Rechnungsblatt!#REF!","v":{"$error":"#REF!"}}]
[{"$f":"Rechnungsblatt!#REF!","v":{"$error":"#REF!"}},{"$f":"Rechnungsblatt!#REF!","v":{"$error":"#REF!"}},{"$f":"Rechnungsblatt!#REF!","v":{"$error":"#REF!"}},null,{"$f":"Rechnungsblatt!#REF!","v":{"$error":"#REF!"}},{"$f":"Rechnungsblatt!#REF!","v":{"$error":"#REF!"}},{"$f":"Rechnungsblatt!#REF!","v":{"$error":"#REF!"}},{"$f":"Rechnungsblatt!#REF!","v":{"$error":"#REF!"}},null,{"$f":"Rechnungsblatt!#REF!","v":{"$error":"#REF!"}},{"$f":"Rechnungsblatt!#REF!","v":{"$error":"#REF!"}},{"$f":"Rechnungsblatt!#REF!","v":{"$error":"#REF!"}},{"$f":"Rechnungsblatt!#REF!","v":{"$error":"#REF!"}}]
[{"$f":"Rechnungsblatt!#REF!","v":{"$error":"#REF!"}},{"$f":"Rechnungsblatt!#REF!","v":{"$error":"#REF!"}},{"$f":"Rechnungsblatt!#REF!","v":{"$error":"#REF!"}},null,{"$f":"Rechnungsblatt!#REF!","v":{"$error":"#REF!"}},{"$f":"Rechnungsblatt!#REF!","v":{"$error":"#REF!"}},{"$f":"Rechnungsblatt!#REF!","v":{"$error":"#REF!"}},{"$f":"Rechnungsblatt!#REF!","v":{"$error":"#REF!"}},null,{"$f":"Rechnungsblatt!#REF!","v":{"$error":"#REF!"}},{"$f":"Rechnungsblatt!#REF!","v":{"$error":"#REF!"}},{"$f":"Rechnungsblatt!#REF!","v":{"$error":"#REF!"}},{"$f":"Rechnungsblatt!#REF!","v":{"$error":"#REF!"}}]
[{"$f":"Rechnungsblatt!#REF!","v":{"$error":"#REF!"}},{"$f":"Rechnungsblatt!#REF!","v":{"$error":"#REF!"}},{"$f":"Rechnungsblatt!#REF!","v":{"$error":"#REF!"}},null,{"$f":"Rechnungsblatt!#REF!","v":{"$error":"#REF!"}},{"$f":"Rechnungsblatt!#REF!","v":{"$error":"#REF!"}},{"$f":"Rechnungsblatt!#REF!","v":{"$error":"#REF!"}},{"$f":"Rechnungsblatt!#REF!","v":{"$error":"#REF!"}},null,{"$f":"Rechnungsblatt!#REF!","v":{"$error":"#REF!"}},{"$f":"Rechnungsblatt!#REF!","v":{"$error":"#REF!"}},{"$f":"Rechnungsblatt!#REF!","v":{"$error":"#REF!"}},{"$f":"Rechnungsblatt!#REF!","v":{"$error":"#REF!"}}]
[{"$f":"Rechnungsblatt!#REF!","v":{"$error":"#REF!"}},{"$f":"Rechnungsblatt!#REF!","v":{"$error":"#REF!"}},{"$f":"Rechnungsblatt!#REF!","v":{"$error":"#REF!"}},null,{"$f":"Rechnungsblatt!#REF!","v":{"$error":"#REF!"}},{"$f":"Rechnungsblatt!#REF!","v":{"$error":"#REF!"}},{"$f":"Rechnungsblatt!#REF!","v":{"$error":"#REF!"}},{"$f":"Rechnungsblatt!#REF!","v":{"$error":"#REF!"}},null,{"$f":"Rechnungsblatt!#REF!","v":{"$error":"#REF!"}},{"$f":"Rechnungsblatt!#REF!","v":{"$error":"#REF!"}},{"$f":"Rechnungsblatt!#REF!","v":{"$error":"#REF!"}},{"$f":"Rechnungsblatt!#REF!","v":{"$error":"#REF!"}}]
[{"$f":"Rechnungsblatt!#REF!","v":{"$error":"#REF!"}},{"$f":"Rechnungsblatt!#REF!","v":{"$error":"#REF!"}},{"$f":"Rechnungsblatt!#REF!","v":{"$error":"#REF!"}},null,{"$f":"Rechnungsblatt!#REF!","v":{"$error":"#REF!"}},{"$f":"Rechnungsblatt!#REF!","v":{"$error":"#REF!"}},{"$f":"Rechnungsblatt!#REF!","v":{"$error":"#REF!"}},{"$f":"Rechnungsblatt!#REF!","v":{"$error":"#REF!"}},null,{"$f":"Rechnungsblatt!#REF!","v":{"$error":"#REF!"}},{"$f":"Rechnungsblatt!#REF!","v":{"$error":"#REF!"}},{"$f":"Rechnungsblatt!#REF!","v":{"$error":"#REF!"}},{"$f":"Rechnungsblatt!#REF!","v":{"$error":"#REF!"}}]
[{"$f":"Rechnungsblatt!#REF!","v":{"$error":"#REF!"}},{"$f":"Rechnungsblatt!#REF!","v":{"$error":"#REF!"}},{"$f":"Rechnungsblatt!#REF!","v":{"$error":"#REF!"}},null,{"$f":"Rechnungsblatt!#REF!","v":{"$error":"#REF!"}},{"$f":"Rechnungsblatt!#REF!","v":{"$error":"#REF!"}},{"$f":"Rechnungsblatt!#REF!","v":{"$error":"#REF!"}},{"$f":"Rechnungsblatt!#REF!","v":{"$error":"#REF!"}},null,{"$f":"Rechnungsblatt!#REF!","v":{"$error":"#REF!"}},{"$f":"Rechnungsblatt!#REF!","v":{"$error":"#REF!"}},{"$f":"Rechnungsblatt!#REF!","v":{"$error":"#REF!"}},{"$f":"Rechnungsblatt!#REF!","v":{"$error":"#REF!"}}]
[{"$f":"Rechnungsblatt!#REF!","v":{"$error":"#REF!"}},{"$f":"Rechnungsblatt!#REF!","v":{"$error":"#REF!"}},{"$f":"Rechnungsblatt!#REF!","v":{"$error":"#REF!"}},null,{"$f":"Rechnungsblatt!#REF!","v":{"$error":"#REF!"}},{"$f":"Rechnungsblatt!#REF!","v":{"$error":"#REF!"}},{"$f":"Rechnungsblatt!#REF!","v":{"$error":"#REF!"}},{"$f":"Rechnungsblatt!#REF!","v":{"$error":"#REF!"}},null,{"$f":"Rechnungsblatt!#REF!","v":{"$error":"#REF!"}},{"$f":"Rechnungsblatt!#REF!","v":{"$error":"#REF!"}},{"$f":"Rechnungsblatt!#REF!","v":{"$error":"#REF!"}},{"$f":"Rechnungsblatt!#REF!","v":{"$error":"#REF!"}}]
[{"$f":"Rechnungsblatt!#REF!","v":{"$error":"#REF!"}},{"$f":"Rechnungsblatt!#REF!","v":{"$error":"#REF!"}},{"$f":"Rechnungsblatt!#REF!","v":{"$error":"#REF!"}},null,{"$f":"Rechnungsblatt!#REF!","v":{"$error":"#REF!"}},{"$f":"Rechnungsblatt!#REF!","v":{"$error":"#REF!"}},{"$f":"Rechnungsblatt!#REF!","v":{"$error":"#REF!"}},{"$f":"Rechnungsblatt!#REF!","v":{"$error":"#REF!"}},null,{"$f":"Rechnungsblatt!#REF!","v":{"$error":"#REF!"}},{"$f":"Rechnungsblatt!#REF!","v":{"$error":"#REF!"}},{"$f":"Rechnungsblatt!#REF!","v":{"$error":"#REF!"}},{"$f":"Rechnungsblatt!#REF!","v":{"$error":"#REF!"}}]
[{"$f":"Rechnungsblatt!#REF!","v":{"$error":"#REF!"}},{"$f":"Rechnungsblatt!#REF!","v":{"$error":"#REF!"}},{"$f":"Rechnungsblatt!#REF!","v":{"$error":"#REF!"}},null,{"$f":"Rechnungsblatt!#REF!","v":{"$error":"#REF!"}},{"$f":"Rechnungsblatt!#REF!","v":{"$error":"#REF!"}},{"$f":"Rechnungsblatt!#REF!","v":{"$error":"#REF!"}},{"$f":"Rechnungsblatt!#REF!","v":{"$error":"#REF!"}},null,{"$f":"Rechnungsblatt!#REF!","v":{"$error":"#REF!"}},{"$f":"Rechnungsblatt!#REF!","v":{"$error":"#REF!"}},{"$f":"Rechnungsblatt!#REF!","v":{"$error":"#REF!"}},{"$f":"Rechnungsblatt!#REF!","v":{"$error":"#REF!"}}]
[{"$f":"Rechnungsblatt!#REF!","v":{"$error":"#REF!"}},{"$f":"Rechnungsblatt!#REF!","v":{"$error":"#REF!"}},{"$f":"Rechnungsblatt!#REF!","v":{"$error":"#REF!"}},null,{"$f":"Rechnungsblatt!#REF!","v":{"$error":"#REF!"}},{"$f":"Rechnungsblatt!#REF!","v":{"$error":"#REF!"}},{"$f":"Rechnungsblatt!#REF!","v":{"$error":"#REF!"}},{"$f":"Rechnungsblatt!#REF!","v":{"$error":"#REF!"}},null,{"$f":"Rechnungsblatt!#REF!","v":{"$error":"#REF!"}},{"$f":"Rechnungsblatt!#REF!","v":{"$error":"#REF!"}},{"$f":"Rechnungsblatt!#REF!","v":{"$error":"#REF!"}},{"$f":"Rechnungsblatt!#REF!","v":{"$error":"#REF!"}}]
[{"$f":"Rechnungsblatt!#REF!","v":{"$error":"#REF!"}},{"$f":"Rechnungsblatt!#REF!","v":{"$error":"#REF!"}},{"$f":"Rechnungsblatt!#REF!","v":{"$error":"#REF!"}},null,{"$f":"Rechnungsblatt!#REF!","v":{"$error":"#REF!"}},{"$f":"Rechnungsblatt!#REF!","v":{"$error":"#REF!"}},{"$f":"Rechnungsblatt!#REF!","v":{"$error":"#REF!"}},{"$f":"Rechnungsblatt!#REF!","v":{"$error":"#REF!"}},null,{"$f":"Rechnungsblatt!#REF!","v":{"$error":"#REF!"}},{"$f":"Rechnungsblatt!#REF!","v":{"$error":"#REF!"}},{"$f":"Rechnungsblatt!#REF!","v":{"$error":"#REF!"}},{"$f":"Rechnungsblatt!#REF!","v":{"$error":"#REF!"}}]
[{"$f":"Rechnungsblatt!#REF!","v":{"$error":"#REF!"}},{"$f":"Rechnungsblatt!#REF!","v":{"$error":"#REF!"}},{"$f":"Rechnungsblatt!#REF!","v":{"$error":"#REF!"}},null,{"$f":"Rechnungsblatt!#REF!","v":{"$error":"#REF!"}},{"$f":"Rechnungsblatt!#REF!","v":{"$error":"#REF!"}},{"$f":"Rechnungsblatt!#REF!","v":{"$error":"#REF!"}},{"$f":"Rechnungsblatt!#REF!","v":{"$error":"#REF!"}},null,{"$f":"Rechnungsblatt!#REF!","v":{"$error":"#REF!"}},{"$f":"Rechnungsblatt!#REF!","v":{"$error":"#REF!"}},{"$f":"Rechnungsblatt!#REF!","v":{"$error":"#REF!"}},{"$f":"Rechnungsblatt!#REF!","v":{"$error":"#REF!"}}]
[{"$f":"Rechnungsblatt!#REF!","v":{"$error":"#REF!"}},{"$f":"Rechnungsblatt!#REF!","v":{"$error":"#REF!"}},{"$f":"Rechnungsblatt!#REF!","v":{"$error":"#REF!"}},null,{"$f":"Rechnungsblatt!#REF!","v":{"$error":"#REF!"}},{"$f":"Rechnungsblatt!#REF!","v":{"$error":"#REF!"}},{"$f":"Rechnungsblatt!#REF!","v":{"$error":"#REF!"}},{"$f":"Rechnungsblatt!#REF!","v":{"$error":"#REF!"}},null,{"$f":"Rechnungsblatt!#REF!","v":{"$error":"#REF!"}},{"$f":"Rechnungsblatt!#REF!","v":{"$error":"#REF!"}},{"$f":"Rechnungsblatt!#REF!","v":{"$error":"#REF!"}},{"$f":"Rechnungsblatt!#REF!","v":{"$error":"#REF!"}}]
[{"$f":"Rechnungsblatt!#REF!","v":{"$error":"#REF!"}},{"$f":"Rechnungsblatt!#REF!","v":{"$error":"#REF!"}},{"$f":"Rechnungsblatt!#REF!","v":{"$error":"#REF!"}},null,{"$f":"Rechnungsblatt!#REF!","v":{"$error":"#REF!"}},{"$f":"Rechnungsblatt!#REF!","v":{"$error":"#REF!"}},{"$f":"Rechnungsblatt!#REF!","v":{"$error":"#REF!"}},{"$f":"Rechnungsblatt!#REF!","v":{"$error":"#REF!"}},null,{"$f":"Rechnungsblatt!#REF!","v":{"$error":"#REF!"}},{"$f":"Rechnungsblatt!#REF!","v":{"$error":"#REF!"}},{"$f":"Rechnungsblatt!#REF!","v":{"$error":"#REF!"}},{"$f":"Rechnungsblatt!#REF!","v":{"$error":"#REF!"}}]
[{"$f":"Rechnungsblatt!#REF!","v":{"$error":"#REF!"}},{"$f":"Rechnungsblatt!#REF!","v":{"$error":"#REF!"}},{"$f":"Rechnungsblatt!#REF!","v":{"$error":"#REF!"}},null,{"$f":"Rechnungsblatt!#REF!","v":{"$error":"#REF!"}},{"$f":"Rechnungsblatt!#REF!","v":{"$error":"#REF!"}},{"$f":"Rechnungsblatt!#REF!","v":{"$error":"#REF!"}},{"$f":"Rechnungsblatt!#REF!","v":{"$error":"#REF!"}},null,{"$f":"Rechnungsblatt!#REF!","v":{"$error":"#REF!"}},{"$f":"Rechnungsblatt!#REF!","v":{"$error":"#REF!"}},{"$f":"Rechnungsblatt!#REF!","v":{"$error":"#REF!"}},{"$f":"Rechnungsblatt!#REF!","v":{"$error":"#REF!"}}]
[{"$f":"Rechnungsblatt!#REF!","v":{"$error":"#REF!"}},{"$f":"Rechnungsblatt!#REF!","v":{"$error":"#REF!"}},{"$f":"Rechnungsblatt!#REF!","v":{"$error":"#REF!"}},null,{"$f":"Rechnungsblatt!#REF!","v":{"$error":"#REF!"}},{"$f":"Rechnungsblatt!#REF!","v":{"$error":"#REF!"}},{"$f":"Rechnungsblatt!#REF!","v":{"$error":"#REF!"}},{"$f":"Rechnungsblatt!#REF!","v":{"$error":"#REF!"}},null,{"$f":"Rechnungsblatt!#REF!","v":{"$error":"#REF!"}},{"$f":"Rechnungsblatt!#REF!","v":{"$error":"#REF!"}},{"$f":"Rechnungsblatt!#REF!","v":{"$error":"#REF!"}},{"$f":"Rechnungsblatt!#REF!","v":{"$error":"#REF!"}}]
[{"$f":"Rechnungsblatt!#REF!","v":{"$error":"#REF!"}},{"$f":"Rechnungsblatt!#REF!","v":{"$error":"#REF!"}},{"$f":"Rechnungsblatt!#REF!","v":{"$error":"#REF!"}},null,{"$f":"Rechnungsblatt!#REF!","v":{"$error":"#REF!"}},{"$f":"Rechnungsblatt!#REF!","v":{"$error":"#REF!"}},{"$f":"Rechnungsblatt!#REF!","v":{"$error":"#REF!"}},{"$f":"Rechnungsblatt!#REF!","v":{"$error":"#REF!"}},null,{"$f":"Rechnungsblatt!#REF!","v":{"$error":"#REF!"}},{"$f":"Rechnungsblatt!#REF!","v":{"$error":"#REF!"}},{"$f":"Rechnungsblatt!#REF!","v":{"$error":"#REF!"}},{"$f":"Rechnungsblatt!#REF!","v":{"$error":"#REF!"}}]
[{"$f":"Rechnungsblatt!#REF!","v":{"$error":"#REF!"}},{"$f":"Rechnungsblatt!#REF!","v":{"$error":"#REF!"}},{"$f":"Rechnungsblatt!#REF!","v":{"$error":"#REF!"}},null,{"$f":"Rechnungsblatt!#REF!","v":{"$error":"#REF!"}},{"$f":"Rechnungsblatt!#REF!","v":{"$error":"#REF!"}},{"$f":"Rechnungsblatt!#REF!","v":{"$error":"#REF!"}},{"$f":"Rechnungsblatt!#REF!","v":{"$error":"#REF!"}},null,{"$f":"Rechnungsblatt!#REF!","v":{"$error":"#REF!"}},{"$f":"Rechnungsblatt!#REF!","v":{"$error":"#REF!"}},{"$f":"Rechnungsblatt!#REF!","v":{"$error":"#REF!"}},{"$f":"Rechnungsblatt!#REF!","v":{"$error":"#REF!"}}]
[{"$f":"Rechnungsblatt!#REF!","v":{"$error":"#REF!"}},{"$f":"Rechnungsblatt!#REF!","v":{"$error":"#REF!"}},{"$f":"Rechnungsblatt!#REF!","v":{"$error":"#REF!"}},null,{"$f":"Rechnungsblatt!#REF!","v":{"$error":"#REF!"}},{"$f":"Rechnungsblatt!#REF!","v":{"$error":"#REF!"}},{"$f":"Rechnungsblatt!#REF!","v":{"$error":"#REF!"}},{"$f":"Rechnungsblatt!#REF!","v":{"$error":"#REF!"}},null,{"$f":"Rechnungsblatt!#REF!","v":{"$error":"#REF!"}},{"$f":"Rechnungsblatt!#REF!","v":{"$error":"#REF!"}},{"$f":"Rechnungsblatt!#REF!","v":{"$error":"#REF!"}},{"$f":"Rechnungsblatt!#REF!","v":{"$error":"#REF!"}}]
[{"$f":"Rechnungsblatt!#REF!","v":{"$error":"#REF!"}},{"$f":"Rechnungsblatt!#REF!","v":{"$error":"#REF!"}},{"$f":"Rechnungsblatt!#REF!","v":{"$error":"#REF!"}},null,{"$f":"Rechnungsblatt!#REF!","v":{"$error":"#REF!"}},{"$f":"Rechnungsblatt!#REF!","v":{"$error":"#REF!"}},{"$f":"Rechnungsblatt!#REF!","v":{"$error":"#REF!"}},{"$f":"Rechnungsblatt!#REF!","v":{"$error":"#REF!"}},null,{"$f":"Rechnungsblatt!#REF!","v":{"$error":"#REF!"}},{"$f":"Rechnungsblatt!#REF!","v":{"$error":"#REF!"}},{"$f":"Rechnungsblatt!#REF!","v":{"$error":"#REF!"}},{"$f":"Rechnungsblatt!#REF!","v":{"$error":"#REF!"}}]
[{"$f":"Rechnungsblatt!#REF!","v":{"$error":"#REF!"}},{"$f":"Rechnungsblatt!#REF!","v":{"$error":"#REF!"}},{"$f":"Rechnungsblatt!#REF!","v":{"$error":"#REF!"}},null,{"$f":"Rechnungsblatt!#REF!","v":{"$error":"#REF!"}},{"$f":"Rechnungsblatt!#REF!","v":{"$error":"#REF!"}},{"$f":"Rechnungsblatt!#REF!","v":{"$error":"#REF!"}},{"$f":"Rechnungsblatt!#REF!","v":{"$error":"#REF!"}},null,{"$f":"Rechnungsblatt!#REF!","v":{"$error":"#REF!"}},{"$f":"Rechnungsblatt!#REF!","v":{"$error":"#REF!"}},{"$f":"Rechnungsblatt!#REF!","v":{"$error":"#REF!"}},{"$f":"Rechnungsblatt!#REF!","v":{"$error":"#REF!"}}]
[{"$f":"Rechnungsblatt!#REF!","v":{"$error":"#REF!"}},{"$f":"Rechnungsblatt!#REF!","v":{"$error":"#REF!"}},{"$f":"Rechnungsblatt!#REF!","v":{"$error":"#REF!"}},null,{"$f":"Rechnungsblatt!#REF!","v":{"$error":"#REF!"}},{"$f":"Rechnungsblatt!#REF!","v":{"$error":"#REF!"}},{"$f":"Rechnungsblatt!#REF!","v":{"$error":"#REF!"}},{"$f":"Rechnungsblatt!#REF!","v":{"$error":"#REF!"}},null,{"$f":"Rechnungsblatt!#REF!","v":{"$error":"#REF!"}},{"$f":"Rechnungsblatt!#REF!","v":{"$error":"#REF!"}},{"$f":"Rechnungsblatt!#REF!","v":{"$error":"#REF!"}},{"$f":"Rechnungsblatt!#REF!","v":{"$error":"#REF!"}}]
[{"$f":"Rechnungsblatt!#REF!","v":{"$error":"#REF!"}},{"$f":"Rechnungsblatt!#REF!","v":{"$error":"#REF!"}},{"$f":"Rechnungsblatt!#REF!","v":{"$error":"#REF!"}},null,{"$f":"Rechnungsblatt!#REF!","v":{"$error":"#REF!"}},{"$f":"Rechnungsblatt!#REF!","v":{"$error":"#REF!"}},{"$f":"Rechnungsblatt!#REF!","v":{"$error":"#REF!"}},{"$f":"Rechnungsblatt!#REF!","v":{"$error":"#REF!"}},null,{"$f":"Rechnungsblatt!#REF!","v":{"$error":"#REF!"}},{"$f":"Rechnungsblatt!#REF!","v":{"$error":"#REF!"}},{"$f":"Rechnungsblatt!#REF!","v":{"$error":"#REF!"}},{"$f":"Rechnungsblatt!#REF!","v":{"$error":"#REF!"}}]
[{"$f":"Rechnungsblatt!#REF!","v":{"$error":"#REF!"}},{"$f":"Rechnungsblatt!#REF!","v":{"$error":"#REF!"}},{"$f":"Rechnungsblatt!#REF!","v":{"$error":"#REF!"}},null,{"$f":"Rechnungsblatt!#REF!","v":{"$error":"#REF!"}},{"$f":"Rechnungsblatt!#REF!","v":{"$error":"#REF!"}},{"$f":"Rechnungsblatt!#REF!","v":{"$error":"#REF!"}},{"$f":"Rechnungsblatt!#REF!","v":{"$error":"#REF!"}},null,{"$f":"Rechnungsblatt!#REF!","v":{"$error":"#REF!"}},{"$f":"Rechnungsblatt!#REF!","v":{"$error":"#REF!"}},{"$f":"Rechnungsblatt!#REF!","v":{"$error":"#REF!"}},{"$f":"Rechnungsblatt!#REF!","v":{"$error":"#REF!"}}]
[{"$f":"Rechnungsblatt!#REF!","v":{"$error":"#REF!"}},{"$f":"Rechnungsblatt!#REF!","v":{"$error":"#REF!"}},{"$f":"Rechnungsblatt!#REF!","v":{"$error":"#REF!"}},null,{"$f":"Rechnungsblatt!#REF!","v":{"$error":"#REF!"}},{"$f":"Rechnungsblatt!#REF!","v":{"$error":"#REF!"}},{"$f":"Rechnungsblatt!#REF!","v":{"$error":"#REF!"}},{"$f":"Rechnungsblatt!#REF!","v":{"$error":"#REF!"}},null,{"$f":"Rechnungsblatt!#REF!","v":{"$error":"#REF!"}},{"$f":"Rechnungsblatt!#REF!","v":{"$error":"#REF!"}},{"$f":"Rechnungsblatt!#REF!","v":{"$error":"#REF!"}},{"$f":"Rechnungsblatt!#REF!","v":{"$error":"#REF!"}}]
[{"$f":"Rechnungsblatt!#REF!","v":{"$error":"#REF!"}},{"$f":"Rechnungsblatt!#REF!","v":{"$error":"#REF!"}},{"$f":"Rechnungsblatt!#REF!","v":{"$error":"#REF!"}},null,{"$f":"Rechnungsblatt!#REF!","v":{"$error":"#REF!"}},{"$f":"Rechnungsblatt!#REF!","v":{"$error":"#REF!"}},{"$f":"Rechnungsblatt!#REF!","v":{"$error":"#REF!"}},{"$f":"Rechnungsblatt!#REF!","v":{"$error":"#REF!"}},null,{"$f":"Rechnungsblatt!#REF!","v":{"$error":"#REF!"}},{"$f":"Rechnungsblatt!#REF!","v":{"$error":"#REF!"}},{"$f":"Rechnungsblatt!#REF!","v":{"$error":"#REF!"}},{"$f":"Rechnungsblatt!#REF!","v":{"$error":"#REF!"}}]
[{"$f":"Rechnungsblatt!#REF!","v":{"$error":"#REF!"}},{"$f":"Rechnungsblatt!#REF!","v":{"$error":"#REF!"}},{"$f":"Rechnungsblatt!#REF!","v":{"$error":"#REF!"}},null,{"$f":"Rechnungsblatt!#REF!","v":{"$error":"#REF!"}},{"$f":"Rechnungsblatt!#REF!","v":{"$error":"#REF!"}},{"$f":"Rechnungsblatt!#REF!","v":{"$error":"#REF!"}},{"$f":"Rechnungsblatt!#REF!","v":{"$error":"#REF!"}},null,{"$f":"Rechnungsblatt!#REF!","v":{"$error":"#REF!"}},{"$f":"Rechnungsblatt!#REF!","v":{"$error":"#REF!"}},{"$f":"Rechnungsblatt!#REF!","v":{"$error":"#REF!"}},{"$f":"Rechnungsblatt!#REF!","v":{"$error":"#REF!"}}]
[{"$f":"Rechnungsblatt!#REF!","v":{"$error":"#REF!"}},{"$f":"Rechnungsblatt!#REF!","v":{"$error":"#REF!"}},{"$f":"Rechnungsblatt!#REF!","v":{"$error":"#REF!"}},null,{"$f":"Rechnungsblatt!#REF!","v":{"$error":"#REF!"}},{"$f":"Rechnungsblatt!#REF!","v":{"$error":"#REF!"}},{"$f":"Rechnungsblatt!#REF!","v":{"$error":"#REF!"}},{"$f":"Rechnungsblatt!#REF!","v":{"$error":"#REF!"}},null,{"$f":"Rechnungsblatt!#REF!","v":{"$error":"#REF!"}},{"$f":"Rechnungsblatt!#REF!","v":{"$error":"#REF!"}},{"$f":"Rechnungsblatt!#REF!","v":{"$error":"#REF!"}},{"$f":"Rechnungsblatt!#REF!","v":{"$error":"#REF!"}}]
[{"$f":"Rechnungsblatt!#REF!","v":{"$error":"#REF!"}},{"$f":"Rechnungsblatt!#REF!","v":{"$error":"#REF!"}},{"$f":"Rechnungsblatt!#REF!","v":{"$error":"#REF!"}},null,{"$f":"Rechnungsblatt!#REF!","v":{"$error":"#REF!"}},{"$f":"Rechnungsblatt!#REF!","v":{"$error":"#REF!"}},{"$f":"Rechnungsblatt!#REF!","v":{"$error":"#REF!"}},{"$f":"Rechnungsblatt!#REF!","v":{"$error":"#REF!"}},null,{"$f":"Rechnungsblatt!#REF!","v":{"$error":"#REF!"}},{"$f":"Rechnungsblatt!#REF!","v":{"$error":"#REF!"}},{"$f":"Rechnungsblatt!#REF!","v":{"$error":"#REF!"}},{"$f":"Rechnungsblatt!#REF!","v":{"$error":"#REF!"}}]
[{"$f":"Rechnungsblatt!#REF!","v":{"$error":"#REF!"}},{"$f":"Rechnungsblatt!#REF!","v":{"$error":"#REF!"}},{"$f":"Rechnungsblatt!#REF!","v":{"$error":"#REF!"}},null,{"$f":"Rechnungsblatt!#REF!","v":{"$error":"#REF!"}},{"$f":"Rechnungsblatt!#REF!","v":{"$error":"#REF!"}},{"$f":"Rechnungsblatt!#REF!","v":{"$error":"#REF!"}},{"$f":"Rechnungsblatt!#REF!","v":{"$error":"#REF!"}},null,{"$f":"Rechnungsblatt!#REF!","v":{"$error":"#REF!"}},{"$f":"Rechnungsblatt!#REF!","v":{"$error":"#REF!"}},{"$f":"Rechnungsblatt!#REF!","v":{"$error":"#REF!"}},{"$f":"Rechnungsblatt!#REF!","v":{"$error":"#REF!"}}]
[{"$f":"Rechnungsblatt!#REF!","v":{"$error":"#REF!"}},{"$f":"Rechnungsblatt!#REF!","v":{"$error":"#REF!"}},{"$f":"Rechnungsblatt!#REF!","v":{"$error":"#REF!"}},null,{"$f":"Rechnungsblatt!#REF!","v":{"$error":"#REF!"}},{"$f":"Rechnungsblatt!#REF!","v":{"$error":"#REF!"}},{"$f":"Rechnungsblatt!#REF!","v":{"$error":"#REF!"}},{"$f":"Rechnungsblatt!#REF!","v":{"$error":"#REF!"}},null,{"$f":"Rechnungsblatt!#REF!","v":{"$error":"#REF!"}},{"$f":"Rechnungsblatt!#REF!","v":{"$error":"#REF!"}},{"$f":"Rechnungsblatt!#REF!","v":{"$error":"#REF!"}},{"$f":"Rechnungsblatt!#REF!","v":{"$error":"#REF!"}}]
[{"$f":"Rechnungsblatt!#REF!","v":{"$error":"#REF!"}},{"$f":"Rechnungsblatt!#REF!","v":{"$error":"#REF!"}},{"$f":"Rechnungsblatt!#REF!","v":{"$error":"#REF!"}},null,{"$f":"Rechnungsblatt!#REF!","v":{"$error":"#REF!"}},{"$f":"Rechnungsblatt!#REF!","v":{"$error":"#REF!"}},{"$f":"Rechnungsblatt!#REF!","v":{"$error":"#REF!"}},{"$f":"Rechnungsblatt!#REF!","v":{"$error":"#REF!"}},null,{"$f":"Rechnungsblatt!#REF!","v":{"$error":"#REF!"}},{"$f":"Rechnungsblatt!#REF!","v":{"$error":"#REF!"}},{"$f":"Rechnungsblatt!#REF!","v":{"$error":"#REF!"}},{"$f":"Rechnungsblatt!#REF!","v":{"$error":"#REF!"}}]
[{"$f":"Rechnungsblatt!#REF!","v":{"$error":"#REF!"}},{"$f":"Rechnungsblatt!#REF!","v":{"$error":"#REF!"}},{"$f":"Rechnungsblatt!#REF!","v":{"$error":"#REF!"}},null,{"$f":"Rechnungsblatt!#REF!","v":{"$error":"#REF!"}},{"$f":"Rechnungsblatt!#REF!","v":{"$error":"#REF!"}},{"$f":"Rechnungsblatt!#REF!","v":{"$error":"#REF!"}},{"$f":"Rechnungsblatt!#REF!","v":{"$error":"#REF!"}},null,{"$f":"Rechnungsblatt!#REF!","v":{"$error":"#REF!"}},{"$f":"Rechnungsblatt!#REF!","v":{"$error":"#REF!"}},{"$f":"Rechnungsblatt!#REF!","v":{"$error":"#REF!"}},{"$f":"Rechnungsblatt!#REF!","v":{"$error":"#REF!"}}]
[{"$f":"Rechnungsblatt!#REF!","v":{"$error":"#REF!"}},{"$f":"Rechnungsblatt!#REF!","v":{"$error":"#REF!"}},{"$f":"Rechnungsblatt!#REF!","v":{"$error":"#REF!"}},null,{"$f":"Rechnungsblatt!#REF!","v":{"$error":"#REF!"}},{"$f":"Rechnungsblatt!#REF!","v":{"$error":"#REF!"}},{"$f":"Rechnungsblatt!#REF!","v":{"$error":"#REF!"}},{"$f":"Rechnungsblatt!#REF!","v":{"$error":"#REF!"}},null,{"$f":"Rechnungsblatt!#REF!","v":{"$error":"#REF!"}},{"$f":"Rechnungsblatt!#REF!","v":{"$error":"#REF!"}},{"$f":"Rechnungsblatt!#REF!","v":{"$error":"#REF!"}},{"$f":"Rechnungsblatt!#REF!","v":{"$error":"#REF!"}}]
[{"$f":"Rechnungsblatt!#REF!","v":{"$error":"#REF!"}},{"$f":"Rechnungsblatt!#REF!","v":{"$error":"#REF!"}},{"$f":"Rechnungsblatt!#REF!","v":{"$error":"#REF!"}},null,{"$f":"Rechnungsblatt!#REF!","v":{"$error":"#REF!"}},{"$f":"Rechnungsblatt!#REF!","v":{"$error":"#REF!"}},{"$f":"Rechnungsblatt!#REF!","v":{"$error":"#REF!"}},{"$f":"Rechnungsblatt!#REF!","v":{"$error":"#REF!"}},null,{"$f":"Rechnungsblatt!#REF!","v":{"$error":"#REF!"}},{"$f":"Rechnungsblatt!#REF!","v":{"$error":"#REF!"}},{"$f":"Rechnungsblatt!#REF!","v":{"$error":"#REF!"}},{"$f":"Rechnungsblatt!#REF!","v":{"$error":"#REF!"}}]
[{"$f":"Rechnungsblatt!#REF!","v":{"$error":"#REF!"}},{"$f":"Rechnungsblatt!#REF!","v":{"$error":"#REF!"}},{"$f":"Rechnungsblatt!#REF!","v":{"$error":"#REF!"}},null,{"$f":"Rechnungsblatt!#REF!","v":{"$error":"#REF!"}},{"$f":"Rechnungsblatt!#REF!","v":{"$error":"#REF!"}},{"$f":"Rechnungsblatt!#REF!","v":{"$error":"#REF!"}},{"$f":"Rechnungsblatt!#REF!","v":{"$error":"#REF!"}},null,{"$f":"Rechnungsblatt!#REF!","v":{"$error":"#REF!"}},{"$f":"Rechnungsblatt!#REF!","v":{"$error":"#REF!"}},{"$f":"Rechnungsblatt!#REF!","v":{"$error":"#REF!"}},{"$f":"Rechnungsblatt!#REF!","v":{"$error":"#REF!"}}]
[{"$f":"Rechnungsblatt!#REF!","v":{"$error":"#REF!"}},{"$f":"Rechnungsblatt!#REF!","v":{"$error":"#REF!"}},{"$f":"Rechnungsblatt!#REF!","v":{"$error":"#REF!"}},null,{"$f":"Rechnungsblatt!#REF!","v":{"$error":"#REF!"}},{"$f":"Rechnungsblatt!#REF!","v":{"$error":"#REF!"}},{"$f":"Rechnungsblatt!#REF!","v":{"$error":"#REF!"}},{"$f":"Rechnungsblatt!#REF!","v":{"$error":"#REF!"}},null,{"$f":"Rechnungsblatt!#REF!","v":{"$error":"#REF!"}},{"$f":"Rechnungsblatt!#REF!","v":{"$error":"#REF!"}},{"$f":"Rechnungsblatt!#REF!","v":{"$error":"#REF!"}},{"$f":"Rechnungsblatt!#REF!","v":{"$error":"#REF!"}}]
[{"$f":"Rechnungsblatt!#REF!","v":{"$error":"#REF!"}},{"$f":"Rechnungsblatt!#REF!","v":{"$error":"#REF!"}},{"$f":"Rechnungsblatt!#REF!","v":{"$error":"#REF!"}},null,{"$f":"Rechnungsblatt!#REF!","v":{"$error":"#REF!"}},{"$f":"Rechnungsblatt!#REF!","v":{"$error":"#REF!"}},{"$f":"Rechnungsblatt!#REF!","v":{"$error":"#REF!"}},{"$f":"Rechnungsblatt!#REF!","v":{"$error":"#REF!"}},null,{"$f":"Rechnungsblatt!#REF!","v":{"$error":"#REF!"}},{"$f":"Rechnungsblatt!#REF!","v":{"$error":"#REF!"}},{"$f":"Rechnungsblatt!#REF!","v":{"$error":"#REF!"}},{"$f":"Rechnungsblatt!#REF!","v":{"$error":"#REF!"}}]
[{"$f":"Rechnungsblatt!#REF!","v":{"$error":"#REF!"}},{"$f":"Rechnungsblatt!#REF!","v":{"$error":"#REF!"}},{"$f":"Rechnungsblatt!#REF!","v":{"$error":"#REF!"}},null,{"$f":"Rechnungsblatt!#REF!","v":{"$error":"#REF!"}},{"$f":"Rechnungsblatt!#REF!","v":{"$error":"#REF!"}},{"$f":"Rechnungsblatt!#REF!","v":{"$error":"#REF!"}},{"$f":"Rechnungsblatt!#REF!","v":{"$error":"#REF!"}},null,{"$f":"Rechnungsblatt!#REF!","v":{"$error":"#REF!"}},{"$f":"Rechnungsblatt!#REF!","v":{"$error":"#REF!"}},{"$f":"Rechnungsblatt!#REF!","v":{"$error":"#REF!"}},{"$f":"Rechnungsblatt!#REF!","v":{"$error":"#REF!"}}]
[{"$f":"Rechnungsblatt!#REF!","v":{"$error":"#REF!"}},{"$f":"Rechnungsblatt!#REF!","v":{"$error":"#REF!"}},{"$f":"Rechnungsblatt!#REF!","v":{"$error":"#REF!"}},null,{"$f":"Rechnungsblatt!#REF!","v":{"$error":"#REF!"}},{"$f":"Rechnungsblatt!#REF!","v":{"$error":"#REF!"}},{"$f":"Rechnungsblatt!#REF!","v":{"$error":"#REF!"}},{"$f":"Rechnungsblatt!#REF!","v":{"$error":"#REF!"}},null,{"$f":"Rechnungsblatt!#REF!","v":{"$error":"#REF!"}},{"$f":"Rechnungsblatt!#REF!","v":{"$error":"#REF!"}},{"$f":"Rechnungsblatt!#REF!","v":{"$error":"#REF!"}},{"$f":"Rechnungsblatt!#REF!","v":{"$error":"#REF!"}}]
[{"$f":"Rechnungsblatt!#REF!","v":{"$error":"#REF!"}},{"$f":"Rechnungsblatt!#REF!","v":{"$error":"#REF!"}},{"$f":"Rechnungsblatt!#REF!","v":{"$error":"#REF!"}},null,{"$f":"Rechnungsblatt!#REF!","v":{"$error":"#REF!"}},{"$f":"Rechnungsblatt!#REF!","v":{"$error":"#REF!"}},{"$f":"Rechnungsblatt!#REF!","v":{"$error":"#REF!"}},{"$f":"Rechnungsblatt!#REF!","v":{"$error":"#REF!"}},null,{"$f":"Rechnungsblatt!#REF!","v":{"$error":"#REF!"}},{"$f":"Rechnungsblatt!#REF!","v":{"$error":"#REF!"}},{"$f":"Rechnungsblatt!#REF!","v":{"$error":"#REF!"}},{"$f":"Rechnungsblatt!#REF!","v":{"$error":"#REF!"}}]
[{"$f":"Rechnungsblatt!#REF!","v":{"$error":"#REF!"}},{"$f":"Rechnungsblatt!#REF!","v":{"$error":"#REF!"}},{"$f":"Rechnungsblatt!#REF!","v":{"$error":"#REF!"}},null,{"$f":"Rechnungsblatt!#REF!","v":{"$error":"#REF!"}},{"$f":"Rechnungsblatt!#REF!","v":{"$error":"#REF!"}},{"$f":"Rechnungsblatt!#REF!","v":{"$error":"#REF!"}},{"$f":"Rechnungsblatt!#REF!","v":{"$error":"#REF!"}},null,{"$f":"Rechnungsblatt!#REF!","v":{"$error":"#REF!"}},{"$f":"Rechnungsblatt!#REF!","v":{"$error":"#REF!"}},{"$f":"Rechnungsblatt!#REF!","v":{"$error":"#REF!"}},{"$f":"Rechnungsblatt!#REF!","v":{"$error":"#REF!"}}]
[{"$f":"Rechnungsblatt!#REF!","v":{"$error":"#REF!"}},{"$f":"Rechnungsblatt!#REF!","v":{"$error":"#REF!"}},{"$f":"Rechnungsblatt!#REF!","v":{"$error":"#REF!"}},null,{"$f":"Rechnungsblatt!#REF!","v":{"$error":"#REF!"}},{"$f":"Rechnungsblatt!#REF!","v":{"$error":"#REF!"}},{"$f":"Rechnungsblatt!#REF!","v":{"$error":"#REF!"}},{"$f":"Rechnungsblatt!#REF!","v":{"$error":"#REF!"}},null,{"$f":"Rechnungsblatt!#REF!","v":{"$error":"#REF!"}},{"$f":"Rechnungsblatt!#REF!","v":{"$error":"#REF!"}},{"$f":"Rechnungsblatt!#REF!","v":{"$error":"#REF!"}},{"$f":"Rechnungsblatt!#REF!","v":{"$error":"#REF!"}}]
[{"$f":"Rechnungsblatt!#REF!","v":{"$error":"#REF!"}},{"$f":"Rechnungsblatt!#REF!","v":{"$error":"#REF!"}},{"$f":"Rechnungsblatt!#REF!","v":{"$error":"#REF!"}},null,{"$f":"Rechnungsblatt!#REF!","v":{"$error":"#REF!"}},{"$f":"Rechnungsblatt!#REF!","v":{"$error":"#REF!"}},{"$f":"Rechnungsblatt!#REF!","v":{"$error":"#REF!"}},{"$f":"Rechnungsblatt!#REF!","v":{"$error":"#REF!"}},null,{"$f":"Rechnungsblatt!#REF!","v":{"$error":"#REF!"}},{"$f":"Rechnungsblatt!#REF!","v":{"$error":"#REF!"}},{"$f":"Rechnungsblatt!#REF!","v":{"$error":"#REF!"}},{"$f":"Rechnungsblatt!#REF!","v":{"$error":"#REF!"}}]
[{"$f":"Rechnungsblatt!#REF!","v":{"$error":"#REF!"}},{"$f":"Rechnungsblatt!#REF!","v":{"$error":"#REF!"}},{"$f":"Rechnungsblatt!#REF!","v":{"$error":"#REF!"}},null,{"$f":"Rechnungsblatt!#REF!","v":{"$error":"#REF!"}},{"$f":"Rechnungsblatt!#REF!","v":{"$error":"#REF!"}},{"$f":"Rechnungsblatt!#REF!","v":{"$error":"#REF!"}},{"$f":"Rechnungsblatt!#REF!","v":{"$error":"#REF!"}},null,{"$f":"Rechnungsblatt!#REF!","v":{"$error":"#REF!"}},{"$f":"Rechnungsblatt!#REF!","v":{"$error":"#REF!"}},{"$f":"Rechnungsblatt!#REF!","v":{"$error":"#REF!"}},{"$f":"Rechnungsblatt!#REF!","v":{"$error":"#REF!"}}]
[{"$f":"Rechnungsblatt!#REF!","v":{"$error":"#REF!"}},{"$f":"Rechnungsblatt!#REF!","v":{"$error":"#REF!"}},{"$f":"Rechnungsblatt!#REF!","v":{"$error":"#REF!"}},null,{"$f":"Rechnungsblatt!#REF!","v":{"$error":"#REF!"}},{"$f":"Rechnungsblatt!#REF!","v":{"$error":"#REF!"}},{"$f":"Rechnungsblatt!#REF!","v":{"$error":"#REF!"}},{"$f":"Rechnungsblatt!#REF!","v":{"$error":"#REF!"}},null,{"$f":"Rechnungsblatt!#REF!","v":{"$error":"#REF!"}},{"$f":"Rechnungsblatt!#REF!","v":{"$error":"#REF!"}},{"$f":"Rechnungsblatt!#REF!","v":{"$error":"#REF!"}},{"$f":"Rechnungsblatt!#REF!","v":{"$error":"#REF!"}}]
[{"$f":"Rechnungsblatt!#REF!","v":{"$error":"#REF!"}},{"$f":"Rechnungsblatt!#REF!","v":{"$error":"#REF!"}},{"$f":"Rechnungsblatt!#REF!","v":{"$error":"#REF!"}},null,{"$f":"Rechnungsblatt!#REF!","v":{"$error":"#REF!"}},{"$f":"Rechnungsblatt!#REF!","v":{"$error":"#REF!"}},{"$f":"Rechnungsblatt!#REF!","v":{"$error":"#REF!"}},{"$f":"Rechnungsblatt!#REF!","v":{"$error":"#REF!"}},null,{"$f":"Rechnungsblatt!#REF!","v":{"$error":"#REF!"}},{"$f":"Rechnungsblatt!#REF!","v":{"$error":"#REF!"}},{"$f":"Rechnungsblatt!#REF!","v":{"$error":"#REF!"}},{"$f":"Rechnungsblatt!#REF!","v":{"$error":"#REF!"}}]
[{"$f":"Rechnungsblatt!#REF!","v":{"$error":"#REF!"}},{"$f":"Rechnungsblatt!#REF!","v":{"$error":"#REF!"}},{"$f":"Rechnungsblatt!#REF!","v":{"$error":"#REF!"}},null,{"$f":"Rechnungsblatt!#REF!","v":{"$error":"#REF!"}},{"$f":"Rechnungsblatt!#REF!","v":{"$error":"#REF!"}},{"$f":"Rechnungsblatt!#REF!","v":{"$error":"#REF!"}},{"$f":"Rechnungsblatt!#REF!","v":{"$error":"#REF!"}},null,{"$f":"Rechnungsblatt!#REF!","v":{"$error":"#REF!"}},{"$f":"Rechnungsblatt!#REF!","v":{"$error":"#REF!"}},{"$f":"Rechnungsblatt!#REF!","v":{"$error":"#REF!"}},{"$f":"Rechnungsblatt!#REF!","v":{"$error":"#REF!"}}]
[{"$f":"Rechnungsblatt!#REF!","v":{"$error":"#REF!"}},{"$f":"Rechnungsblatt!#REF!","v":{"$error":"#REF!"}},{"$f":"Rechnungsblatt!#REF!","v":{"$error":"#REF!"}},null,{"$f":"Rechnungsblatt!#REF!","v":{"$error":"#REF!"}},{"$f":"Rechnungsblatt!#REF!","v":{"$error":"#REF!"}},{"$f":"Rechnungsblatt!#REF!","v":{"$error":"#REF!"}},{"$f":"Rechnungsblatt!#REF!","v":{"$error":"#REF!"}},null,{"$f":"Rechnungsblatt!#REF!","v":{"$error":"#REF!"}},{"$f":"Rechnungsblatt!#REF!","v":{"$error":"#REF!"}},{"$f":"Rechnungsblatt!#REF!","v":{"$error":"#REF!"}},{"$f":"Rechnungsblatt!#REF!","v":{"$error":"#REF!"}}]
[{"$f":"Rechnungsblatt!#REF!","v":{"$error":"#REF!"}},{"$f":"Rechnungsblatt!#REF!","v":{"$error":"#REF!"}},{"$f":"Rechnungsblatt!#REF!","v":{"$error":"#REF!"}},null,{"$f":"Rechnungsblatt!#REF!","v":{"$error":"#REF!"}},{"$f":"Rechnungsblatt!#REF!","v":{"$error":"#REF!"}},{"$f":"Rechnungsblatt!#REF!","v":{"$error":"#REF!"}},{"$f":"Rechnungsblatt!#REF!","v":{"$error":"#REF!"}},null,{"$f":"Rechnungsblatt!#REF!","v":{"$error":"#REF!"}},{"$f":"Rechnungsblatt!#REF!","v":{"$error":"#REF!"}},{"$f":"Rechnungsblatt!#REF!","v":{"$error":"#REF!"}},{"$f":"Rechnungsblatt!#REF!","v":{"$error":"#REF!"}}]
[{"$f":"Rechnungsblatt!#REF!","v":{"$error":"#REF!"}},{"$f":"Rechnungsblatt!#REF!","v":{"$error":"#REF!"}},{"$f":"Rechnungsblatt!#REF!","v":{"$error":"#REF!"}},null,{"$f":"Rechnungsblatt!#REF!","v":{"$error":"#REF!"}},{"$f":"Rechnungsblatt!#REF!","v":{"$error":"#REF!"}},{"$f":"Rechnungsblatt!#REF!","v":{"$error":"#REF!"}},{"$f":"Rechnungsblatt!#REF!","v":{"$error":"#REF!"}},null,{"$f":"Rechnungsblatt!#REF!","v":{"$error":"#REF!"}},{"$f":"Rechnungsblatt!#REF!","v":{"$error":"#REF!"}},{"$f":"Rechnungsblatt!#REF!","v":{"$error":"#REF!"}},{"$f":"Rechnungsblatt!#REF!","v":{"$error":"#REF!"}}]
[{"$f":"Rechnungsblatt!#REF!","v":{"$error":"#REF!"}},{"$f":"Rechnungsblatt!#REF!","v":{"$error":"#REF!"}},{"$f":"Rechnungsblatt!#REF!","v":{"$error":"#REF!"}},null,{"$f":"Rechnungsblatt!#REF!","v":{"$error":"#REF!"}},{"$f":"Rechnungsblatt!#REF!","v":{"$error":"#REF!"}},{"$f":"Rechnungsblatt!#REF!","v":{"$error":"#REF!"}},{"$f":"Rechnungsblatt!#REF!","v":{"$error":"#REF!"}},null,{"$f":"Rechnungsblatt!#REF!","v":{"$error":"#REF!"}},{"$f":"Rechnungsblatt!#REF!","v":{"$error":"#REF!"}},{"$f":"Rechnungsblatt!#REF!","v":{"$error":"#REF!"}},{"$f":"Rechnungsblatt!#REF!","v":{"$error":"#REF!"}}]
[{"$f":"Rechnungsblatt!#REF!","v":{"$error":"#REF!"}},{"$f":"Rechnungsblatt!#REF!","v":{"$error":"#REF!"}},{"$f":"Rechnungsblatt!#REF!","v":{"$error":"#REF!"}},null,{"$f":"Rechnungsblatt!#REF!","v":{"$error":"#REF!"}},{"$f":"Rechnungsblatt!#REF!","v":{"$error":"#REF!"}},{"$f":"Rechnungsblatt!#REF!","v":{"$error":"#REF!"}},{"$f":"Rechnungsblatt!#REF!","v":{"$error":"#REF!"}},null,{"$f":"Rechnungsblatt!#REF!","v":{"$error":"#REF!"}},{"$f":"Rechnungsblatt!#REF!","v":{"$error":"#REF!"}},{"$f":"Rechnungsblatt!#REF!","v":{"$error":"#REF!"}},{"$f":"Rechnungsblatt!#REF!","v":{"$error":"#REF!"}}]
[{"$f":"Rechnungsblatt!#REF!","v":{"$error":"#REF!"}},{"$f":"Rechnungsblatt!#REF!","v":{"$error":"#REF!"}},{"$f":"Rechnungsblatt!#REF!","v":{"$error":"#REF!"}},null,{"$f":"Rechnungsblatt!#REF!","v":{"$error":"#REF!"}},{"$f":"Rechnungsblatt!#REF!","v":{"$error":"#REF!"}},{"$f":"Rechnungsblatt!#REF!","v":{"$error":"#REF!"}},{"$f":"Rechnungsblatt!#REF!","v":{"$error":"#REF!"}},null,{"$f":"Rechnungsblatt!#REF!","v":{"$error":"#REF!"}},{"$f":"Rechnungsblatt!#REF!","v":{"$error":"#REF!"}},{"$f":"Rechnungsblatt!#REF!","v":{"$error":"#REF!"}},{"$f":"Rechnungsblatt!#REF!","v":{"$error":"#REF!"}}]
[{"$f":"Rechnungsblatt!#REF!","v":{"$error":"#REF!"}},{"$f":"Rechnungsblatt!#REF!","v":{"$error":"#REF!"}},{"$f":"Rechnungsblatt!#REF!","v":{"$error":"#REF!"}},null,{"$f":"Rechnungsblatt!#REF!","v":{"$error":"#REF!"}},{"$f":"Rechnungsblatt!#REF!","v":{"$error":"#REF!"}},{"$f":"Rechnungsblatt!#REF!","v":{"$error":"#REF!"}},{"$f":"Rechnungsblatt!#REF!","v":{"$error":"#REF!"}},null,{"$f":"Rechnungsblatt!#REF!","v":{"$error":"#REF!"}},{"$f":"Rechnungsblatt!#REF!","v":{"$error":"#REF!"}},{"$f":"Rechnungsblatt!#REF!","v":{"$error":"#REF!"}},{"$f":"Rechnungsblatt!#REF!","v":{"$error":"#REF!"}}]
[{"$f":"Rechnungsblatt!#REF!","v":{"$error":"#REF!"}},{"$f":"Rechnungsblatt!#REF!","v":{"$error":"#REF!"}},{"$f":"Rechnungsblatt!#REF!","v":{"$error":"#REF!"}},null,{"$f":"Rechnungsblatt!#REF!","v":{"$error":"#REF!"}},{"$f":"Rechnungsblatt!#REF!","v":{"$error":"#REF!"}},{"$f":"Rechnungsblatt!#REF!","v":{"$error":"#REF!"}},{"$f":"Rechnungsblatt!#REF!","v":{"$error":"#REF!"}},null,{"$f":"Rechnungsblatt!#REF!","v":{"$error":"#REF!"}},{"$f":"Rechnungsblatt!#REF!","v":{"$error":"#REF!"}},{"$f":"Rechnungsblatt!#REF!","v":{"$error":"#REF!"}},{"$f":"Rechnungsblatt!#REF!","v":{"$error":"#REF!"}}]
[{"$f":"Rechnungsblatt!#REF!","v":{"$error":"#REF!"}},{"$f":"Rechnungsblatt!#REF!","v":{"$error":"#REF!"}},{"$f":"Rechnungsblatt!#REF!","v":{"$error":"#REF!"}},null,{"$f":"Rechnungsblatt!#REF!","v":{"$error":"#REF!"}},{"$f":"Rechnungsblatt!#REF!","v":{"$error":"#REF!"}},{"$f":"Rechnungsblatt!#REF!","v":{"$error":"#REF!"}},{"$f":"Rechnungsblatt!#REF!","v":{"$error":"#REF!"}},null,{"$f":"Rechnungsblatt!#REF!","v":{"$error":"#REF!"}},{"$f":"Rechnungsblatt!#REF!","v":{"$error":"#REF!"}},{"$f":"Rechnungsblatt!#REF!","v":{"$error":"#REF!"}},{"$f":"Rechnungsblatt!#REF!","v":{"$error":"#REF!"}}]
[{"$f":"Rechnungsblatt!#REF!","v":{"$error":"#REF!"}},{"$f":"Rechnungsblatt!#REF!","v":{"$error":"#REF!"}},{"$f":"Rechnungsblatt!#REF!","v":{"$error":"#REF!"}},null,{"$f":"Rechnungsblatt!#REF!","v":{"$error":"#REF!"}},{"$f":"Rechnungsblatt!#REF!","v":{"$error":"#REF!"}},{"$f":"Rechnungsblatt!#REF!","v":{"$error":"#REF!"}},{"$f":"Rechnungsblatt!#REF!","v":{"$error":"#REF!"}},null,{"$f":"Rechnungsblatt!#REF!","v":{"$error":"#REF!"}},{"$f":"Rechnungsblatt!#REF!","v":{"$error":"#REF!"}},{"$f":"Rechnungsblatt!#REF!","v":{"$error":"#REF!"}},{"$f":"Rechnungsblatt!#REF!","v":{"$error":"#REF!"}}]
[{"$f":"Rechnungsblatt!#REF!","v":{"$error":"#REF!"}},{"$f":"Rechnungsblatt!#REF!","v":{"$error":"#REF!"}},{"$f":"Rechnungsblatt!#REF!","v":{"$error":"#REF!"}},null,{"$f":"Rechnungsblatt!#REF!","v":{"$error":"#REF!"}},{"$f":"Rechnungsblatt!#REF!","v":{"$error":"#REF!"}},{"$f":"Rechnungsblatt!#REF!","v":{"$error":"#REF!"}},{"$f":"Rechnungsblatt!#REF!","v":{"$error":"#REF!"}},null,{"$f":"Rechnungsblatt!#REF!","v":{"$error":"#REF!"}},{"$f":"Rechnungsblatt!#REF!","v":{"$error":"#REF!"}},{"$f":"Rechnungsblatt!#REF!","v":{"$error":"#REF!"}},{"$f":"Rechnungsblatt!#REF!","v":{"$error":"#REF!"}}]
[{"$f":"Rechnungsblatt!#REF!","v":{"$error":"#REF!"}},{"$f":"Rechnungsblatt!#REF!","v":{"$error":"#REF!"}},{"$f":"Rechnungsblatt!#REF!","v":{"$error":"#REF!"}},null,{"$f":"Rechnungsblatt!#REF!","v":{"$error":"#REF!"}},{"$f":"Rechnungsblatt!#REF!","v":{"$error":"#REF!"}},{"$f":"Rechnungsblatt!#REF!","v":{"$error":"#REF!"}},{"$f":"Rechnungsblatt!#REF!","v":{"$error":"#REF!"}},null,{"$f":"Rechnungsblatt!#REF!","v":{"$error":"#REF!"}},{"$f":"Rechnungsblatt!#REF!","v":{"$error":"#REF!"}},{"$f":"Rechnungsblatt!#REF!","v":{"$error":"#REF!"}},{"$f":"Rechnungsblatt!#REF!","v":{"$error":"#REF!"}}]
[{"$f":"Rechnungsblatt!#REF!","v":{"$error":"#REF!"}},{"$f":"Rechnungsblatt!#REF!","v":{"$error":"#REF!"}},{"$f":"Rechnungsblatt!#REF!","v":{"$error":"#REF!"}},null,{"$f":"Rechnungsblatt!#REF!","v":{"$error":"#REF!"}},{"$f":"Rechnungsblatt!#REF!","v":{"$error":"#REF!"}},{"$f":"Rechnungsblatt!#REF!","v":{"$error":"#REF!"}},{"$f":"Rechnungsblatt!#REF!","v":{"$error":"#REF!"}},null,{"$f":"Rechnungsblatt!#REF!","v":{"$error":"#REF!"}},{"$f":"Rechnungsblatt!#REF!","v":{"$error":"#REF!"}},{"$f":"Rechnungsblatt!#REF!","v":{"$error":"#REF!"}},{"$f":"Rechnungsblatt!#REF!","v":{"$error":"#REF!"}}]
[{"$f":"Rechnungsblatt!#REF!","v":{"$error":"#REF!"}},{"$f":"Rechnungsblatt!#REF!","v":{"$error":"#REF!"}},{"$f":"Rechnungsblatt!#REF!","v":{"$error":"#REF!"}},null,{"$f":"Rechnungsblatt!#REF!","v":{"$error":"#REF!"}},{"$f":"Rechnungsblatt!#REF!","v":{"$error":"#REF!"}},{"$f":"Rechnungsblatt!#REF!","v":{"$error":"#REF!"}},{"$f":"Rechnungsblatt!#REF!","v":{"$error":"#REF!"}},null,{"$f":"Rechnungsblatt!#REF!","v":{"$error":"#REF!"}},{"$f":"Rechnungsblatt!#REF!","v":{"$error":"#REF!"}},{"$f":"Rechnungsblatt!#REF!","v":{"$error":"#REF!"}},{"$f":"Rechnungsblatt!#REF!","v":{"$error":"#REF!"}}]
[{"$f":"Rechnungsblatt!#REF!","v":{"$error":"#REF!"}},{"$f":"Rechnungsblatt!#REF!","v":{"$error":"#REF!"}},{"$f":"Rechnungsblatt!#REF!","v":{"$error":"#REF!"}},null,{"$f":"Rechnungsblatt!#REF!","v":{"$error":"#REF!"}},{"$f":"Rechnungsblatt!#REF!","v":{"$error":"#REF!"}},{"$f":"Rechnungsblatt!#REF!","v":{"$error":"#REF!"}},{"$f":"Rechnungsblatt!#REF!","v":{"$error":"#REF!"}},null,{"$f":"Rechnungsblatt!#REF!","v":{"$error":"#REF!"}},{"$f":"Rechnungsblatt!#REF!","v":{"$error":"#REF!"}},{"$f":"Rechnungsblatt!#REF!","v":{"$error":"#REF!"}},{"$f":"Rechnungsblatt!#REF!","v":{"$error":"#REF!"}}]
[{"$f":"Rechnungsblatt!#REF!","v":{"$error":"#REF!"}},{"$f":"Rechnungsblatt!#REF!","v":{"$error":"#REF!"}},{"$f":"Rechnungsblatt!#REF!","v":{"$error":"#REF!"}},null,{"$f":"Rechnungsblatt!#REF!","v":{"$error":"#REF!"}},{"$f":"Rechnungsblatt!#REF!","v":{"$error":"#REF!"}},{"$f":"Rechnungsblatt!#REF!","v":{"$error":"#REF!"}},{"$f":"Rechnungsblatt!#REF!","v":{"$error":"#REF!"}},null,{"$f":"Rechnungsblatt!#REF!","v":{"$error":"#REF!"}},{"$f":"Rechnungsblatt!#REF!","v":{"$error":"#REF!"}},{"$f":"Rechnungsblatt!#REF!","v":{"$error":"#REF!"}},{"$f":"Rechnungsblatt!#REF!","v":{"$error":"#REF!"}}]
[{"$f":"Rechnungsblatt!#REF!","v":{"$error":"#REF!"}},{"$f":"Rechnungsblatt!#REF!","v":{"$error":"#REF!"}},{"$f":"Rechnungsblatt!#REF!","v":{"$error":"#REF!"}},null,{"$f":"Rechnungsblatt!#REF!","v":{"$error":"#REF!"}},{"$f":"Rechnungsblatt!#REF!","v":{"$error":"#REF!"}},{"$f":"Rechnungsblatt!#REF!","v":{"$error":"#REF!"}},{"$f":"Rechnungsblatt!#REF!","v":{"$error":"#REF!"}},null,{"$f":"Rechnungsblatt!#REF!","v":{"$error":"#REF!"}},{"$f":"Rechnungsblatt!#REF!","v":{"$error":"#REF!"}},{"$f":"Rechnungsblatt!#REF!","v":{"$error":"#REF!"}},{"$f":"Rechnungsblatt!#REF!","v":{"$error":"#REF!"}}]
[{"$f":"Rechnungsblatt!#REF!","v":{"$error":"#REF!"}},{"$f":"Rechnungsblatt!#REF!","v":{"$error":"#REF!"}},{"$f":"Rechnungsblatt!#REF!","v":{"$error":"#REF!"}},null,{"$f":"Rechnungsblatt!#REF!","v":{"$error":"#REF!"}},{"$f":"Rechnungsblatt!#REF!","v":{"$error":"#REF!"}},{"$f":"Rechnungsblatt!#REF!","v":{"$error":"#REF!"}},{"$f":"Rechnungsblatt!#REF!","v":{"$error":"#REF!"}},null,{"$f":"Rechnungsblatt!#REF!","v":{"$error":"#REF!"}},{"$f":"Rechnungsblatt!#REF!","v":{"$error":"#REF!"}},{"$f":"Rechnungsblatt!#REF!","v":{"$error":"#REF!"}},{"$f":"Rechnungsblatt!#REF!","v":{"$error":"#REF!"}}]
[{"$f":"Rechnungsblatt!#REF!","v":{"$error":"#REF!"}},{"$f":"Rechnungsblatt!#REF!","v":{"$error":"#REF!"}},{"$f":"Rechnungsblatt!#REF!","v":{"$error":"#REF!"}},null,{"$f":"Rechnungsblatt!#REF!","v":{"$error":"#REF!"}},{"$f":"Rechnungsblatt!#REF!","v":{"$error":"#REF!"}},{"$f":"Rechnungsblatt!#REF!","v":{"$error":"#REF!"}},{"$f":"Rechnungsblatt!#REF!","v":{"$error":"#REF!"}},null,{"$f":"Rechnungsblatt!#REF!","v":{"$error":"#REF!"}},{"$f":"Rechnungsblatt!#REF!","v":{"$error":"#REF!"}},{"$f":"Rechnungsblatt!#REF!","v":{"$error":"#REF!"}},{"$f":"Rechnungsblatt!#REF!","v":{"$error":"#REF!"}}]
[{"$f":"Rechnungsblatt!#REF!","v":{"$error":"#REF!"}},{"$f":"Rechnungsblatt!#REF!","v":{"$error":"#REF!"}},{"$f":"Rechnungsblatt!#REF!","v":{"$error":"#REF!"}},null,{"$f":"Rechnungsblatt!#REF!","v":{"$error":"#REF!"}},{"$f":"Rechnungsblatt!#REF!","v":{"$error":"#REF!"}},{"$f":"Rechnungsblatt!#REF!","v":{"$error":"#REF!"}},{"$f":"Rechnungsblatt!#REF!","v":{"$error":"#REF!"}},null,{"$f":"Rechnungsblatt!#REF!","v":{"$error":"#REF!"}},{"$f":"Rechnungsblatt!#REF!","v":{"$error":"#REF!"}},{"$f":"Rechnungsblatt!#REF!","v":{"$error":"#REF!"}},{"$f":"Rechnungsblatt!#REF!","v":{"$error":"#REF!"}}]
[{"$f":"Rechnungsblatt!#REF!","v":{"$error":"#REF!"}},{"$f":"Rechnungsblatt!#REF!","v":{"$error":"#REF!"}},{"$f":"Rechnungsblatt!#REF!","v":{"$error":"#REF!"}},null,{"$f":"Rechnungsblatt!#REF!","v":{"$error":"#REF!"}},{"$f":"Rechnungsblatt!#REF!","v":{"$error":"#REF!"}},{"$f":"Rechnungsblatt!#REF!","v":{"$error":"#REF!"}},{"$f":"Rechnungsblatt!#REF!","v":{"$error":"#REF!"}},null,{"$f":"Rechnungsblatt!#REF!","v":{"$error":"#REF!"}},{"$f":"Rechnungsblatt!#REF!","v":{"$error":"#REF!"}},{"$f":"Rechnungsblatt!#REF!","v":{"$error":"#REF!"}},{"$f":"Rechnungsblatt!#REF!","v":{"$error":"#REF!"}}]
[{"$f":"Rechnungsblatt!#REF!","v":{"$error":"#REF!"}},{"$f":"Rechnungsblatt!#REF!","v":{"$error":"#REF!"}},{"$f":"Rechnungsblatt!#REF!","v":{"$error":"#REF!"}},null,{"$f":"Rechnungsblatt!#REF!","v":{"$error":"#REF!"}},{"$f":"Rechnungsblatt!#REF!","v":{"$error":"#REF!"}},{"$f":"Rechnungsblatt!#REF!","v":{"$error":"#REF!"}},{"$f":"Rechnungsblatt!#REF!","v":{"$error":"#REF!"}},null,{"$f":"Rechnungsblatt!#REF!","v":{"$error":"#REF!"}},{"$f":"Rechnungsblatt!#REF!","v":{"$error":"#REF!"}},{"$f":"Rechnungsblatt!#REF!","v":{"$error":"#REF!"}},{"$f":"Rechnungsblatt!#REF!","v":{"$error":"#REF!"}}]
[{"$f":"Rechnungsblatt!#REF!","v":{"$error":"#REF!"}},{"$f":"Rechnungsblatt!#REF!","v":{"$error":"#REF!"}},{"$f":"Rechnungsblatt!#REF!","v":{"$error":"#REF!"}},null,{"$f":"Rechnungsblatt!#REF!","v":{"$error":"#REF!"}},{"$f":"Rechnungsblatt!#REF!","v":{"$error":"#REF!"}},{"$f":"Rechnungsblatt!#REF!","v":{"$error":"#REF!"}},{"$f":"Rechnungsblatt!#REF!","v":{"$error":"#REF!"}},null,{"$f":"Rechnungsblatt!#REF!","v":{"$error":"#REF!"}},{"$f":"Rechnungsblatt!#REF!","v":{"$error":"#REF!"}},{"$f":"Rechnungsblatt!#REF!","v":{"$error":"#REF!"}},{"$f":"Rechnungsblatt!#REF!","v":{"$error":"#REF!"}}]
[{"$f":"Rechnungsblatt!#REF!","v":{"$error":"#REF!"}},{"$f":"Rechnungsblatt!#REF!","v":{"$error":"#REF!"}},{"$f":"Rechnungsblatt!#REF!","v":{"$error":"#REF!"}},null,{"$f":"Rechnungsblatt!#REF!","v":{"$error":"#REF!"}},{"$f":"Rechnungsblatt!#REF!","v":{"$error":"#REF!"}},{"$f":"Rechnungsblatt!#REF!","v":{"$error":"#REF!"}},{"$f":"Rechnungsblatt!#REF!","v":{"$error":"#REF!"}},null,{"$f":"Rechnungsblatt!#REF!","v":{"$error":"#REF!"}},{"$f":"Rechnungsblatt!#REF!","v":{"$error":"#REF!"}},{"$f":"Rechnungsblatt!#REF!","v":{"$error":"#REF!"}},{"$f":"Rechnungsblatt!#REF!","v":{"$error":"#REF!"}}]
[{"$f":"Rechnungsblatt!#REF!","v":{"$error":"#REF!"}},{"$f":"Rechnungsblatt!#REF!","v":{"$error":"#REF!"}},{"$f":"Rechnungsblatt!#REF!","v":{"$error":"#REF!"}},null,{"$f":"Rechnungsblatt!#REF!","v":{"$error":"#REF!"}},{"$f":"Rechnungsblatt!#REF!","v":{"$error":"#REF!"}},{"$f":"Rechnungsblatt!#REF!","v":{"$error":"#REF!"}},{"$f":"Rechnungsblatt!#REF!","v":{"$error":"#REF!"}},null,{"$f":"Rechnungsblatt!#REF!","v":{"$error":"#REF!"}},{"$f":"Rechnungsblatt!#REF!","v":{"$error":"#REF!"}},{"$f":"Rechnungsblatt!#REF!","v":{"$error":"#REF!"}},{"$f":"Rechnungsblatt!#REF!","v":{"$error":"#REF!"}}]
[{"$f":"Rechnungsblatt!#REF!","v":{"$error":"#REF!"}},{"$f":"Rechnungsblatt!#REF!","v":{"$error":"#REF!"}},{"$f":"Rechnungsblatt!#REF!","v":{"$error":"#REF!"}},null,{"$f":"Rechnungsblatt!#REF!","v":{"$error":"#REF!"}},{"$f":"Rechnungsblatt!#REF!","v":{"$error":"#REF!"}},{"$f":"Rechnungsblatt!#REF!","v":{"$error":"#REF!"}},{"$f":"Rechnungsblatt!#REF!","v":{"$error":"#REF!"}},null,{"$f":"Rechnungsblatt!#REF!","v":{"$error":"#REF!"}},{"$f":"Rechnungsblatt!#REF!","v":{"$error":"#REF!"}},{"$f":"Rechnungsblatt!#REF!","v":{"$error":"#REF!"}},{"$f":"Rechnungsblatt!#REF!","v":{"$error":"#REF!"}}]
[{"$f":"Rechnungsblatt!#REF!","v":{"$error":"#REF!"}},{"$f":"Rechnungsblatt!#REF!","v":{"$error":"#REF!"}},{"$f":"Rechnungsblatt!#REF!","v":{"$error":"#REF!"}},null,{"$f":"Rechnungsblatt!#REF!","v":{"$error":"#REF!"}},{"$f":"Rechnungsblatt!#REF!","v":{"$error":"#REF!"}},{"$f":"Rechnungsblatt!#REF!","v":{"$error":"#REF!"}},{"$f":"Rechnungsblatt!#REF!","v":{"$error":"#REF!"}},null,{"$f":"Rechnungsblatt!#REF!","v":{"$error":"#REF!"}},{"$f":"Rechnungsblatt!#REF!","v":{"$error":"#REF!"}},{"$f":"Rechnungsblatt!#REF!","v":{"$error":"#REF!"}},{"$f":"Rechnungsblatt!#REF!","v":{"$error":"#REF!"}}]
[{"$f":"Rechnungsblatt!#REF!","v":{"$error":"#REF!"}},{"$f":"Rechnungsblatt!#REF!","v":{"$error":"#REF!"}},{"$f":"Rechnungsblatt!#REF!","v":{"$error":"#REF!"}},null,{"$f":"Rechnungsblatt!#REF!","v":{"$error":"#REF!"}},{"$f":"Rechnungsblatt!#REF!","v":{"$error":"#REF!"}},{"$f":"Rechnungsblatt!#REF!","v":{"$error":"#REF!"}},{"$f":"Rechnungsblatt!#REF!","v":{"$error":"#REF!"}},null,{"$f":"Rechnungsblatt!#REF!","v":{"$error":"#REF!"}},{"$f":"Rechnungsblatt!#REF!","v":{"$error":"#REF!"}},{"$f":"Rechnungsblatt!#REF!","v":{"$error":"#REF!"}},{"$f":"Rechnungsblatt!#REF!","v":{"$error":"#REF!"}}]
[{"$f":"Rechnungsblatt!#REF!","v":{"$error":"#REF!"}},{"$f":"Rechnungsblatt!#REF!","v":{"$error":"#REF!"}},{"$f":"Rechnungsblatt!#REF!","v":{"$error":"#REF!"}},null,{"$f":"Rechnungsblatt!#REF!","v":{"$error":"#REF!"}},{"$f":"Rechnungsblatt!#REF!","v":{"$error":"#REF!"}},{"$f":"Rechnungsblatt!#REF!","v":{"$error":"#REF!"}},{"$f":"Rechnungsblatt!#REF!","v":{"$error":"#REF!"}},null,{"$f":"Rechnungsblatt!#REF!","v":{"$error":"#REF!"}},{"$f":"Rechnungsblatt!#REF!","v":{"$error":"#REF!"}},{"$f":"Rechnungsblatt!#REF!","v":{"$error":"#REF!"}},{"$f":"Rechnungsblatt!#REF!","v":{"$error":"#REF!"}}]
[{"$f":"Rechnungsblatt!#REF!","v":{"$error":"#REF!"}},{"$f":"Rechnungsblatt!#REF!","v":{"$error":"#REF!"}},{"$f":"Rechnungsblatt!#REF!","v":{"$error":"#REF!"}},null,{"$f":"Rechnungsblatt!#REF!","v":{"$error":"#REF!"}},{"$f":"Rechnungsblatt!#REF!","v":{"$error":"#REF!"}},{"$f":"Rechnungsblatt!#REF!","v":{"$error":"#REF!"}},{"$f":"Rechnungsblatt!#REF!","v":{"$error":"#REF!"}},null,{"$f":"Rechnungsblatt!#REF!","v":{"$error":"#REF!"}},{"$f":"Rechnungsblatt!#REF!","v":{"$error":"#REF!"}},{"$f":"Rechnungsblatt!#REF!","v":{"$error":"#REF!"}},{"$f":"Rechnungsblatt!#REF!","v":{"$error":"#REF!"}}]
[{"$f":"Rechnungsblatt!#REF!","v":{"$error":"#REF!"}},{"$f":"Rechnungsblatt!#REF!","v":{"$error":"#REF!"}},{"$f":"Rechnungsblatt!#REF!","v":{"$error":"#REF!"}},null,{"$f":"Rechnungsblatt!#REF!","v":{"$error":"#REF!"}},{"$f":"Rechnungsblatt!#REF!","v":{"$error":"#REF!"}},{"$f":"Rechnungsblatt!#REF!","v":{"$error":"#REF!"}},{"$f":"Rechnungsblatt!#REF!","v":{"$error":"#REF!"}},null,{"$f":"Rechnungsblatt!#REF!","v":{"$error":"#REF!"}},{"$f":"Rechnungsblatt!#REF!","v":{"$error":"#REF!"}},{"$f":"Rechnungsblatt!#REF!","v":{"$error":"#REF!"}},{"$f":"Rechnungsblatt!#REF!","v":{"$error":"#REF!"}}]
[{"$f":"Rechnungsblatt!#REF!","v":{"$error":"#REF!"}},{"$f":"Rechnungsblatt!#REF!","v":{"$error":"#REF!"}},{"$f":"Rechnungsblatt!#REF!","v":{"$error":"#REF!"}},null,{"$f":"Rechnungsblatt!#REF!","v":{"$error":"#REF!"}},{"$f":"Rechnungsblatt!#REF!","v":{"$error":"#REF!"}},{"$f":"Rechnungsblatt!#REF!","v":{"$error":"#REF!"}},{"$f":"Rechnungsblatt!#REF!","v":{"$error":"#REF!"}},null,{"$f":"Rechnungsblatt!#REF!","v":{"$error":"#REF!"}},{"$f":"Rechnungsblatt!#REF!","v":{"$error":"#REF!"}},{"$f":"Rechnungsblatt!#REF!","v":{"$error":"#REF!"}},{"$f":"Rechnungsblatt!#REF!","v":{"$error":"#REF!"}}]
[{"$f":"Rechnungsblatt!#REF!","v":{"$error":"#REF!"}},{"$f":"Rechnungsblatt!#REF!","v":{"$error":"#REF!"}},{"$f":"Rechnungsblatt!#REF!","v":{"$error":"#REF!"}},null,{"$f":"Rechnungsblatt!#REF!","v":{"$error":"#REF!"}},{"$f":"Rechnungsblatt!#REF!","v":{"$error":"#REF!"}},{"$f":"Rechnungsblatt!#REF!","v":{"$error":"#REF!"}},{"$f":"Rechnungsblatt!#REF!","v":{"$error":"#REF!"}},null,{"$f":"Rechnungsblatt!#REF!","v":{"$error":"#REF!"}},{"$f":"Rechnungsblatt!#REF!","v":{"$error":"#REF!"}},{"$f":"Rechnungsblatt!#REF!","v":{"$error":"#REF!"}},{"$f":"Rechnungsblatt!#REF!","v":{"$error":"#REF!"}}]
[{"$f":"Rechnungsblatt!#REF!","v":{"$error":"#REF!"}},{"$f":"Rechnungsblatt!#REF!","v":{"$error":"#REF!"}},{"$f":"Rechnungsblatt!#REF!","v":{"$error":"#REF!"}},null,{"$f":"Rechnungsblatt!#REF!","v":{"$error":"#REF!"}},{"$f":"Rechnungsblatt!#REF!","v":{"$error":"#REF!"}},{"$f":"Rechnungsblatt!#REF!","v":{"$error":"#REF!"}},{"$f":"Rechnungsblatt!#REF!","v":{"$error":"#REF!"}},null,{"$f":"Rechnungsblatt!#REF!","v":{"$error":"#REF!"}},{"$f":"Rechnungsblatt!#REF!","v":{"$error":"#REF!"}},{"$f":"Rechnungsblatt!#REF!","v":{"$error":"#REF!"}},{"$f":"Rechnungsblatt!#REF!","v":{"$error":"#REF!"}}]
[{"$f":"Rechnungsblatt!#REF!","v":{"$error":"#REF!"}},{"$f":"Rechnungsblatt!#REF!","v":{"$error":"#REF!"}},{"$f":"Rechnungsblatt!#REF!","v":{"$error":"#REF!"}},null,{"$f":"Rechnungsblatt!#REF!","v":{"$error":"#REF!"}},{"$f":"Rechnungsblatt!#REF!","v":{"$error":"#REF!"}},{"$f":"Rechnungsblatt!#REF!","v":{"$error":"#REF!"}},{"$f":"Rechnungsblatt!#REF!","v":{"$error":"#REF!"}},null,{"$f":"Rechnungsblatt!#REF!","v":{"$error":"#REF!"}},{"$f":"Rechnungsblatt!#REF!","v":{"$error":"#REF!"}},{"$f":"Rechnungsblatt!#REF!","v":{"$error":"#REF!"}},{"$f":"Rechnungsblatt!#REF!","v":{"$error":"#REF!"}}]
[{"$f":"Rechnungsblatt!#REF!","v":{"$error":"#REF!"}},{"$f":"Rechnungsblatt!#REF!","v":{"$error":"#REF!"}},{"$f":"Rechnungsblatt!#REF!","v":{"$error":"#REF!"}},null,{"$f":"Rechnungsblatt!#REF!","v":{"$error":"#REF!"}},{"$f":"Rechnungsblatt!#REF!","v":{"$error":"#REF!"}},{"$f":"Rechnungsblatt!#REF!","v":{"$error":"#REF!"}},{"$f":"Rechnungsblatt!#REF!","v":{"$error":"#REF!"}},null,{"$f":"Rechnungsblatt!#REF!","v":{"$error":"#REF!"}},{"$f":"Rechnungsblatt!#REF!","v":{"$error":"#REF!"}},{"$f":"Rechnungsblatt!#REF!","v":{"$error":"#REF!"}},{"$f":"Rechnungsblatt!#REF!","v":{"$error":"#REF!"}}]
[{"$f":"Rechnungsblatt!#REF!","v":{"$error":"#REF!"}},{"$f":"Rechnungsblatt!#REF!","v":{"$error":"#REF!"}},{"$f":"Rechnungsblatt!#REF!","v":{"$error":"#REF!"}},null,{"$f":"Rechnungsblatt!#REF!","v":{"$error":"#REF!"}},{"$f":"Rechnungsblatt!#REF!","v":{"$error":"#REF!"}},{"$f":"Rechnungsblatt!#REF!","v":{"$error":"#REF!"}},{"$f":"Rechnungsblatt!#REF!","v":{"$error":"#REF!"}},null,{"$f":"Rechnungsblatt!#REF!","v":{"$error":"#REF!"}},{"$f":"Rechnungsblatt!#REF!","v":{"$error":"#REF!"}},{"$f":"Rechnungsblatt!#REF!","v":{"$error":"#REF!"}},{"$f":"Rechnungsblatt!#REF!","v":{"$error":"#REF!"}}]
[{"$f":"Rechnungsblatt!#REF!","v":{"$error":"#REF!"}},{"$f":"Rechnungsblatt!#REF!","v":{"$error":"#REF!"}},{"$f":"Rechnungsblatt!#REF!","v":{"$error":"#REF!"}},null,{"$f":"Rechnungsblatt!#REF!","v":{"$error":"#REF!"}},{"$f":"Rechnungsblatt!#REF!","v":{"$error":"#REF!"}},{"$f":"Rechnungsblatt!#REF!","v":{"$error":"#REF!"}},{"$f":"Rechnungsblatt!#REF!","v":{"$error":"#REF!"}},null,{"$f":"Rechnungsblatt!#REF!","v":{"$error":"#REF!"}},{"$f":"Rechnungsblatt!#REF!","v":{"$error":"#REF!"}},{"$f":"Rechnungsblatt!#REF!","v":{"$error":"#REF!"}},{"$f":"Rechnungsblatt!#REF!","v":{"$error":"#REF!"}}]
[{"$f":"Rechnungsblatt!#REF!","v":{"$error":"#REF!"}},{"$f":"Rechnungsblatt!#REF!","v":{"$error":"#REF!"}},{"$f":"Rechnungsblatt!#REF!","v":{"$error":"#REF!"}},null,{"$f":"Rechnungsblatt!#REF!","v":{"$error":"#REF!"}},{"$f":"Rechnungsblatt!#REF!","v":{"$error":"#REF!"}},{"$f":"Rechnungsblatt!#REF!","v":{"$error":"#REF!"}},{"$f":"Rechnungsblatt!#REF!","v":{"$error":"#REF!"}},null,{"$f":"Rechnungsblatt!#REF!","v":{"$error":"#REF!"}},{"$f":"Rechnungsblatt!#REF!","v":{"$error":"#REF!"}},{"$f":"Rechnungsblatt!#REF!","v":{"$error":"#REF!"}},{"$f":"Rechnungsblatt!#REF!","v":{"$error":"#REF!"}}]
[{"$f":"Rechnungsblatt!#REF!","v":{"$error":"#REF!"}},{"$f":"Rechnungsblatt!#REF!","v":{"$error":"#REF!"}},{"$f":"Rechnungsblatt!#REF!","v":{"$error":"#REF!"}},null,{"$f":"Rechnungsblatt!#REF!","v":{"$error":"#REF!"}},{"$f":"Rechnungsblatt!#REF!","v":{"$error":"#REF!"}},{"$f":"Rechnungsblatt!#REF!","v":{"$error":"#REF!"}},{"$f":"Rechnungsblatt!#REF!","v":{"$error":"#REF!"}},null,{"$f":"Rechnungsblatt!#REF!","v":{"$error":"#REF!"}},{"$f":"Rechnungsblatt!#REF!","v":{"$error":"#REF!"}},{"$f":"Rechnungsblatt!#REF!","v":{"$error":"#REF!"}},{"$f":"Rechnungsblatt!#REF!","v":{"$error":"#REF!"}}]
[{"$f":"Rechnungsblatt!#REF!","v":{"$error":"#REF!"}},{"$f":"Rechnungsblatt!#REF!","v":{"$error":"#REF!"}},{"$f":"Rechnungsblatt!#REF!","v":{"$error":"#REF!"}},null,{"$f":"Rechnungsblatt!#REF!","v":{"$error":"#REF!"}},{"$f":"Rechnungsblatt!#REF!","v":{"$error":"#REF!"}},{"$f":"Rechnungsblatt!#REF!","v":{"$error":"#REF!"}},{"$f":"Rechnungsblatt!#REF!","v":{"$error":"#REF!"}},null,{"$f":"Rechnungsblatt!#REF!","v":{"$error":"#REF!"}},{"$f":"Rechnungsblatt!#REF!","v":{"$error":"#REF!"}},{"$f":"Rechnungsblatt!#REF!","v":{"$error":"#REF!"}},{"$f":"Rechnungsblatt!#REF!","v":{"$error":"#REF!"}}]
[{"$f":"Rechnungsblatt!#REF!","v":{"$error":"#REF!"}},{"$f":"Rechnungsblatt!#REF!","v":{"$error":"#REF!"}},{"$f":"Rechnungsblatt!#REF!","v":{"$error":"#REF!"}},null,{"$f":"Rechnungsblatt!#REF!","v":{"$error":"#REF!"}},{"$f":"Rechnungsblatt!#REF!","v":{"$error":"#REF!"}},{"$f":"Rechnungsblatt!#REF!","v":{"$error":"#REF!"}},{"$f":"Rechnungsblatt!#REF!","v":{"$error":"#REF!"}},null,{"$f":"Rechnungsblatt!#REF!","v":{"$error":"#REF!"}},{"$f":"Rechnungsblatt!#REF!","v":{"$error":"#REF!"}},{"$f":"Rechnungsblatt!#REF!","v":{"$error":"#REF!"}},{"$f":"Rechnungsblatt!#REF!","v":{"$error":"#REF!"}}]
[{"$f":"Rechnungsblatt!#REF!","v":{"$error":"#REF!"}},{"$f":"Rechnungsblatt!#REF!","v":{"$error":"#REF!"}},{"$f":"Rechnungsblatt!#REF!","v":{"$error":"#REF!"}},null,{"$f":"Rechnungsblatt!#REF!","v":{"$error":"#REF!"}},{"$f":"Rechnungsblatt!#REF!","v":{"$error":"#REF!"}},{"$f":"Rechnungsblatt!#REF!","v":{"$error":"#REF!"}},{"$f":"Rechnungsblatt!#REF!","v":{"$error":"#REF!"}},null,{"$f":"Rechnungsblatt!#REF!","v":{"$error":"#REF!"}},{"$f":"Rechnungsblatt!#REF!","v":{"$error":"#REF!"}},{"$f":"Rechnungsblatt!#REF!","v":{"$error":"#REF!"}},{"$f":"Rechnungsblatt!#REF!","v":{"$error":"#REF!"}}]
[{"$f":"Rechnungsblatt!#REF!","v":{"$error":"#REF!"}},{"$f":"Rechnungsblatt!#REF!","v":{"$error":"#REF!"}},{"$f":"Rechnungsblatt!#REF!","v":{"$error":"#REF!"}},null,{"$f":"Rechnungsblatt!#REF!","v":{"$error":"#REF!"}},{"$f":"Rechnungsblatt!#REF!","v":{"$error":"#REF!"}},{"$f":"Rechnungsblatt!#REF!","v":{"$error":"#REF!"}},{"$f":"Rechnungsblatt!#REF!","v":{"$error":"#REF!"}},null,{"$f":"Rechnungsblatt!#REF!","v":{"$error":"#REF!"}},{"$f":"Rechnungsblatt!#REF!","v":{"$error":"#REF!"}},{"$f":"Rechnungsblatt!#REF!","v":{"$error":"#REF!"}},{"$f":"Rechnungsblatt!#REF!","v":{"$error":"#REF!"}}]
[{"$f":"Rechnungsblatt!#REF!","v":{"$error":"#REF!"}},{"$f":"Rechnungsblatt!#REF!","v":{"$error":"#REF!"}},{"$f":"Rechnungsblatt!#REF!","v":{"$error":"#REF!"}},null,{"$f":"Rechnungsblatt!#REF!","v":{"$error":"#REF!"}},{"$f":"Rechnungsblatt!#REF!","v":{"$error":"#REF!"}},{"$f":"Rechnungsblatt!#REF!","v":{"$error":"#REF!"}},{"$f":"Rechnungsblatt!#REF!","v":{"$error":"#REF!"}},null,{"$f":"Rechnungsblatt!#REF!","v":{"$error":"#REF!"}},{"$f":"Rechnungsblatt!#REF!","v":{"$error":"#REF!"}},{"$f":"Rechnungsblatt!#REF!","v":{"$error":"#REF!"}},{"$f":"Rechnungsblatt!#REF!","v":{"$error":"#REF!"}}]
[{"$f":"Rechnungsblatt!#REF!","v":{"$error":"#REF!"}},{"$f":"Rechnungsblatt!#REF!","v":{"$error":"#REF!"}},{"$f":"Rechnungsblatt!#REF!","v":{"$error":"#REF!"}},null,{"$f":"Rechnungsblatt!#REF!","v":{"$error":"#REF!"}},{"$f":"Rechnungsblatt!#REF!","v":{"$error":"#REF!"}},{"$f":"Rechnungsblatt!#REF!","v":{"$error":"#REF!"}},{"$f":"Rechnungsblatt!#REF!","v":{"$error":"#REF!"}},null,{"$f":"Rechnungsblatt!#REF!","v":{"$error":"#REF!"}},{"$f":"Rechnungsblatt!#REF!","v":{"$error":"#REF!"}},{"$f":"Rechnungsblatt!#REF!","v":{"$error":"#REF!"}},{"$f":"Rechnungsblatt!#REF!","v":{"$error":"#REF!"}}]
[{"$f":"Rechnungsblatt!#REF!","v":{"$error":"#REF!"}},{"$f":"Rechnungsblatt!#REF!","v":{"$error":"#REF!"}},{"$f":"Rechnungsblatt!#REF!","v":{"$error":"#REF!"}},null,{"$f":"Rechnungsblatt!#REF!","v":{"$error":"#REF!"}},{"$f":"Rechnungsblatt!#REF!","v":{"$error":"#REF!"}},{"$f":"Rechnungsblatt!#REF!","v":{"$error":"#REF!"}},{"$f":"Rechnungsblatt!#REF!","v":{"$error":"#REF!"}},null,{"$f":"Rechnungsblatt!#REF!","v":{"$error":"#REF!"}},{"$f":"Rechnungsblatt!#REF!","v":{"$error":"#REF!"}},{"$f":"Rechnungsblatt!#REF!","v":{"$error":"#REF!"}},{"$f":"Rechnungsblatt!#REF!","v":{"$error":"#REF!"}}]
[{"$f":"Rechnungsblatt!#REF!","v":{"$error":"#REF!"}},{"$f":"Rechnungsblatt!#REF!","v":{"$error":"#REF!"}},{"$f":"Rechnungsblatt!#REF!","v":{"$error":"#REF!"}},null,{"$f":"Rechnungsblatt!#REF!","v":{"$error":"#REF!"}},{"$f":"Rechnungsblatt!#REF!","v":{"$error":"#REF!"}},{"$f":"Rechnungsblatt!#REF!","v":{"$error":"#REF!"}},{"$f":"Rechnungsblatt!#REF!","v":{"$error":"#REF!"}},null,{"$f":"Rechnungsblatt!#REF!","v":{"$error":"#REF!"}},{"$f":"Rechnungsblatt!#REF!","v":{"$error":"#REF!"}},{"$f":"Rechnungsblatt!#REF!","v":{"$error":"#REF!"}},{"$f":"Rechnungsblatt!#REF!","v":{"$error":"#REF!"}}]
[{"$f":"Rechnungsblatt!#REF!","v":{"$error":"#REF!"}},{"$f":"Rechnungsblatt!#REF!","v":{"$error":"#REF!"}},{"$f":"Rechnungsblatt!#REF!","v":{"$error":"#REF!"}},null,{"$f":"Rechnungsblatt!#REF!","v":{"$error":"#REF!"}},{"$f":"Rechnungsblatt!#REF!","v":{"$error":"#REF!"}},{"$f":"Rechnungsblatt!#REF!","v":{"$error":"#REF!"}},{"$f":"Rechnungsblatt!#REF!","v":{"$error":"#REF!"}},null,{"$f":"Rechnungsblatt!#REF!","v":{"$error":"#REF!"}},{"$f":"Rechnungsblatt!#REF!","v":{"$error":"#REF!"}},{"$f":"Rechnungsblatt!#REF!","v":{"$error":"#REF!"}},{"$f":"Rechnungsblatt!#REF!","v":{"$error":"#REF!"}}]
[{"$f":"Rechnungsblatt!#REF!","v":{"$error":"#REF!"}},{"$f":"Rechnungsblatt!#REF!","v":{"$error":"#REF!"}},{"$f":"Rechnungsblatt!#REF!","v":{"$error":"#REF!"}},null,{"$f":"Rechnungsblatt!#REF!","v":{"$error":"#REF!"}},{"$f":"Rechnungsblatt!#REF!","v":{"$error":"#REF!"}},{"$f":"Rechnungsblatt!#REF!","v":{"$error":"#REF!"}},{"$f":"Rechnungsblatt!#REF!","v":{"$error":"#REF!"}},null,{"$f":"Rechnungsblatt!#REF!","v":{"$error":"#REF!"}},{"$f":"Rechnungsblatt!#REF!","v":{"$error":"#REF!"}},{"$f":"Rechnungsblatt!#REF!","v":{"$error":"#REF!"}},{"$f":"Rechnungsblatt!#REF!","v":{"$error":"#REF!"}}]
[{"$f":"Rechnungsblatt!#REF!","v":{"$error":"#REF!"}},{"$f":"Rechnungsblatt!#REF!","v":{"$error":"#REF!"}},{"$f":"Rechnungsblatt!#REF!","v":{"$error":"#REF!"}},null,{"$f":"Rechnungsblatt!#REF!","v":{"$error":"#REF!"}},{"$f":"Rechnungsblatt!#REF!","v":{"$error":"#REF!"}},{"$f":"Rechnungsblatt!#REF!","v":{"$error":"#REF!"}},{"$f":"Rechnungsblatt!#REF!","v":{"$error":"#REF!"}},null,{"$f":"Rechnungsblatt!#REF!","v":{"$error":"#REF!"}},{"$f":"Rechnungsblatt!#REF!","v":{"$error":"#REF!"}},{"$f":"Rechnungsblatt!#REF!","v":{"$error":"#REF!"}},{"$f":"Rechnungsblatt!#REF!","v":{"$error":"#REF!"}}]
[{"$f":"Rechnungsblatt!#REF!","v":{"$error":"#REF!"}},{"$f":"Rechnungsblatt!#REF!","v":{"$error":"#REF!"}},{"$f":"Rechnungsblatt!#REF!","v":{"$error":"#REF!"}},null,{"$f":"Rechnungsblatt!#REF!","v":{"$error":"#REF!"}},{"$f":"Rechnungsblatt!#REF!","v":{"$error":"#REF!"}},{"$f":"Rechnungsblatt!#REF!","v":{"$error":"#REF!"}},{"$f":"Rechnungsblatt!#REF!","v":{"$error":"#REF!"}},null,{"$f":"Rechnungsblatt!#REF!","v":{"$error":"#REF!"}},{"$f":"Rechnungsblatt!#REF!","v":{"$error":"#REF!"}},{"$f":"Rechnungsblatt!#REF!","v":{"$error":"#REF!"}},{"$f":"Rechnungsblatt!#REF!","v":{"$error":"#REF!"}}]
[{"$f":"Rechnungsblatt!#REF!","v":{"$error":"#REF!"}},{"$f":"Rechnungsblatt!#REF!","v":{"$error":"#REF!"}},{"$f":"Rechnungsblatt!#REF!","v":{"$error":"#REF!"}},null,{"$f":"Rechnungsblatt!#REF!","v":{"$error":"#REF!"}},{"$f":"Rechnungsblatt!#REF!","v":{"$error":"#REF!"}},{"$f":"Rechnungsblatt!#REF!","v":{"$error":"#REF!"}},{"$f":"Rechnungsblatt!#REF!","v":{"$error":"#REF!"}},null,{"$f":"Rechnungsblatt!#REF!","v":{"$error":"#REF!"}},{"$f":"Rechnungsblatt!#REF!","v":{"$error":"#REF!"}},{"$f":"Rechnungsblatt!#REF!","v":{"$error":"#REF!"}},{"$f":"Rechnungsblatt!#REF!","v":{"$error":"#REF!"}}]
[{"$f":"Rechnungsblatt!A88","v":0},{"$f":"Rechnungsblatt!B88","v":0},{"$f":"Rechnungsblatt!C88","v":0},null,{"$f":"Rechnungsblatt!F88","v":"00:00:00"},{"$f":"Rechnungsblatt!E88","v":"00:00:00"},{"$f":"Rechnungsblatt!D88","v":"00:00:00"},{"$f":"Rechnungsblatt!G88","v":"00:00:00"},null,{"$f":"Rechnungsblatt!M88","v":""},{"$f":"Rechnungsblatt!L88","v":""},{"$f":"Rechnungsblatt!K88","v":0},{"$f":"Rechnungsblatt!O88","v":0}]
[{"$f":"Rechnungsblatt!A89","v":0},{"$f":"Rechnungsblatt!B89","v":0},{"$f":"Rechnungsblatt!C89","v":0},null,{"$f":"Rechnungsblatt!F89","v":"00:00:00"},{"$f":"Rechnungsblatt!E89","v":"00:00:00"},{"$f":"Rechnungsblatt!D89","v":"00:00:00"},{"$f":"Rechnungsblatt!G89","v":"00:00:00"},null,{"$f":"Rechnungsblatt!M89","v":""},{"$f":"Rechnungsblatt!L89","v":""},{"$f":"Rechnungsblatt!K89","v":0},{"$f":"Rechnungsblatt!O89","v":0}]
[{"$f":"Rechnungsblatt!A90","v":0},{"$f":"Rechnungsblatt!B90","v":0},{"$f":"Rechnungsblatt!C90","v":0},null,{"$f":"Rechnungsblatt!F90","v":"00:00:00"},{"$f":"Rechnungsblatt!E90","v":"00:00:00"},{"$f":"Rechnungsblatt!D90","v":"00:00:00"},{"$f":"Rechnungsblatt!G90","v":"00:00:00"},null,{"$f":"Rechnungsblatt!M90","v":""},{"$f":"Rechnungsblatt!L90","v":""},{"$f":"Rechnungsblatt!K90","v":0},{"$f":"Rechnungsblatt!O90","v":0}]
[{"$f":"Rechnungsblatt!A91","v":0},{"$f":"Rechnungsblatt!B91","v":0},{"$f":"Rechnungsblatt!C91","v":0},null,{"$f":"Rechnungsblatt!F91","v":"00:00:00"},{"$f":"Rechnungsblatt!E91","v":"00:00:00"},{"$f":"Rechnungsblatt!D91","v":"00:00:00"},{"$f":"Rechnungsblatt!G91","v":"00:00:00"},null,{"$f":"Rechnungsblatt!M91","v":""},{"$f":"Rechnungsblatt!L91","v":""},{"$f":"Rechnungsblatt!K91","v":0},{"$f":"Rechnungsblatt!O91","v":0}]
[{"$f":"Rechnungsblatt!A94","v":0},{"$f":"Rechnungsblatt!B94","v":0},{"$f":"Rechnungsblatt!C94","v":0},null,{"$f":"Rechnungsblatt!F94","v":"00:00:00"},{"$f":"Rechnungsblatt!E94","v":"00:00:00"},{"$f":"Rechnungsblatt!D94","v":"00:00:00"},{"$f":"Rechnungsblatt!G94","v":"00:00:00"},null,{"$f":"Rechnungsblatt!M94","v":""},{"$f":"Rechnungsblatt!L94","v":""},{"$f":"Rechnungsblatt!K94","v":0},{"$f":"Rechnungsblatt!O94","v":0}]
[{"$f":"Rechnungsblatt!A95","v":0},{"$f":"Rechnungsblatt!B95","v":0},{"$f":"Rechnungsblatt!C95","v":0},null,{"$f":"Rechnungsblatt!F95","v":"00:00:00"},{"$f":"Rechnungsblatt!E95","v":"00:00:00"},{"$f":"Rechnungsblatt!D95","v":"00:00:00"},{"$f":"Rechnungsblatt!G95","v":"00:00:00"},null,{"$f":"Rechnungsblatt!M95","v":""},{"$f":"Rechnungsblatt!L95","v":""},{"$f":"Rechnungsblatt!K95","v":0},{"$f":"Rechnungsblatt!O95","v":0}]
[{"$f":"Rechnungsblatt!A96","v":0},{"$f":"Rechnungsblatt!B96","v":0},{"$f":"Rechnungsblatt!C96","v":0},null,{"$f":"Rechnungsblatt!F96","v":"00:00:00"},{"$f":"Rechnungsblatt!E96","v":"00:00:00"},{"$f":"Rechnungsblatt!D96","v":"00:00:00"},{"$f":"Rechnungsblatt!G96","v":"00:00:00"},null,{"$f":"Rechnungsblatt!M96","v":""},{"$f":"Rechnungsblatt!L96","v":""},{"$f":"Rechnungsblatt!K96","v":0},{"$f":"Rechnungsblatt!O96","v":0}]
[{"$f":"Rechnungsblatt!A97","v":0},{"$f":"Rechnungsblatt!B97","v":0},{"$f":"Rechnungsblatt!C97","v":0},null,{"$f":"Rechnungsblatt!F97","v":"00:00:00"},{"$f":"Rechnungsblatt!E97","v":"00:00:00"},{"$f":"Rechnungsblatt!D97","v":"00:00:00"},{"$f":"Rechnungsblatt!G97","v":"00:00:00"},null,{"$f":"Rechnungsblatt!M97","v":""},{"$f":"Rechnungsblatt!L97","v":""},{"$f":"Rechnungsblatt!K97","v":0},{"$f":"Rechnungsblatt!O97","v":0}]
[{"$f":"Rechnungsblatt!A98","v":0},{"$f":"Rechnungsblatt!B98","v":0},{"$f":"Rechnungsblatt!C98","v":0},null,{"$f":"Rechnungsblatt!F98","v":"00:00:00"},{"$f":"Rechnungsblatt!E98","v":"00:00:00"},{"$f":"Rechnungsblatt!D98","v":"00:00:00"},{"$f":"Rechnungsblatt!G98","v":"00:00:00"},null,{"$f":"Rechnungsblatt!M98","v":""},{"$f":"Rechnungsblatt!L98","v":""},{"$f":"Rechnungsblatt!K98","v":0},{"$f":"Rechnungsblatt!O98","v":0}]
[{"$f":"Rechnungsblatt!A99","v":0},{"$f":"Rechnungsblatt!B99","v":0},{"$f":"Rechnungsblatt!C99","v":0},null,{"$f":"Rechnungsblatt!F99","v":"00:00:00"},{"$f":"Rechnungsblatt!E99","v":"00:00:00"},{"$f":"Rechnungsblatt!D99","v":"00:00:00"},{"$f":"Rechnungsblatt!G99","v":"00:00:00"},null,{"$f":"Rechnungsblatt!M99","v":""},{"$f":"Rechnungsblatt!L99","v":""},{"$f":"Rechnungsblatt!K99","v":0},{"$f":"Rechnungsblatt!O99","v":0}]
[{"$f":"Rechnungsblatt!A100","v":0},{"$f":"Rechnungsblatt!B100","v":0},{"$f":"Rechnungsblatt!C100","v":0},null,{"$f":"Rechnungsblatt!F100","v":"00:00:00"},{"$f":"Rechnungsblatt!E100","v":"00:00:00"},{"$f":"Rechnungsblatt!D100","v":"00:00:00"},{"$f":"Rechnungsblatt!G100","v":"00:00:00"},null,{"$f":"Rechnungsblatt!M100","v":""},{"$f":"Rechnungsblatt!L100","v":""},{"$f":"Rechnungsblatt!K100","v":0},{"$f":"Rechnungsblatt!O100","v":0}]
[{"$f":"Rechnungsblatt!A101","v":0},{"$f":"Rechnungsblatt!B101","v":0},{"$f":"Rechnungsblatt!C101","v":0},null,{"$f":"Rechnungsblatt!F101","v":"00:00:00"},{"$f":"Rechnungsblatt!E101","v":"00:00:00"},{"$f":"Rechnungsblatt!D101","v":"00:00:00"},{"$f":"Rechnungsblatt!G101","v":"00:00:00"},null,{"$f":"Rechnungsblatt!M101","v":""},{"$f":"Rechnungsblatt!L101","v":""},{"$f":"Rechnungsblatt!K101","v":0},{"$f":"Rechnungsblatt!O101","v":0}]
[{"$f":"Rechnungsblatt!A102","v":0},{"$f":"Rechnungsblatt!B102","v":0},{"$f":"Rechnungsblatt!C102","v":0},null,{"$f":"Rechnungsblatt!F102","v":"00:00:00"},{"$f":"Rechnungsblatt!E102","v":"00:00:00"},{"$f":"Rechnungsblatt!D102","v":"00:00:00"},{"$f":"Rechnungsblatt!G102","v":"00:00:00"},null,{"$f":"Rechnungsblatt!M102","v":""},{"$f":"Rechnungsblatt!L102","v":""},{"$f":"Rechnungsblatt!K102","v":0},{"$f":"Rechnungsblatt!O102","v":0}]
[{"$f":"Rechnungsblatt!A103","v":0},{"$f":"Rechnungsblatt!B103","v":0},{"$f":"Rechnungsblatt!C103","v":0},null,{"$f":"Rechnungsblatt!F103","v":"00:00:00"},{"$f":"Rechnungsblatt!E103","v":"00:00:00"},{"$f":"Rechnungsblatt!D103","v":"00:00:00"},{"$f":"Rechnungsblatt!G103","v":"00:00:00"},null,{"$f":"Rechnungsblatt!M103","v":""},{"$f":"Rechnungsblatt!L103","v":""},{"$f":"Rechnungsblatt!K103","v":0},{"$f":"Rechnungsblatt!O103","v":0}]
[{"$f":"Rechnungsblatt!A104","v":0},{"$f":"Rechnungsblatt!B104","v":0},{"$f":"Rechnungsblatt!C104","v":0},null,{"$f":"Rechnungsblatt!F104","v":"00:00:00"},{"$f":"Rechnungsblatt!E104","v":"00:00:00"},{"$f":"Rechnungsblatt!D104","v":"00:00:00"},{"$f":"Rechnungsblatt!G104","v":"00:00:00"},null,{"$f":"Rechnungsblatt!M104","v":""},{"$f":"Rechnungsblatt!L104","v":""},{"$f":"Rechnungsblatt!K104","v":0},{"$f":"Rechnungsblatt!O104","v":0}]
[{"$f":"Rechnungsblatt!A105","v":0},{"$f":"Rechnungsblatt!B105","v":0},{"$f":"Rechnungsblatt!C105","v":0},null,{"$f":"Rechnungsblatt!F105","v":"00:00:00"},{"$f":"Rechnungsblatt!E105","v":"00:00:00"},{"$f":"Rechnungsblatt!D105","v":"00:00:00"},{"$f":"Rechnungsblatt!G105","v":"00:00:00"},null,{"$f":"Rechnungsblatt!M105","v":""},{"$f":"Rechnungsblatt!L105","v":""},{"$f":"Rechnungsblatt!K105","v":0},{"$f":"Rechnungsblatt!O105","v":0}]
[{"$f":"Rechnungsblatt!A106","v":0},{"$f":"Rechnungsblatt!B106","v":0},{"$f":"Rechnungsblatt!C106","v":0},null,{"$f":"Rechnungsblatt!F106","v":"00:00:00"},{"$f":"Rechnungsblatt!E106","v":"00:00:00"},{"$f":"Rechnungsblatt!D106","v":"00:00:00"},{"$f":"Rechnungsblatt!G106","v":"00:00:00"},null,{"$f":"Rechnungsblatt!M106","v":""},{"$f":"Rechnungsblatt!L106","v":""},{"$f":"Rechnungsblatt!K106","v":0},{"$f":"Rechnungsblatt!O106","v":0}]
[{"$f":"Rechnungsblatt!A107","v":0},{"$f":"Rechnungsblatt!B107","v":0},{"$f":"Rechnungsblatt!C107","v":0},null,{"$f":"Rechnungsblatt!F107","v":"00:00:00"},{"$f":"Rechnungsblatt!E107","v":"00:00:00"},{"$f":"Rechnungsblatt!D107","v":"00:00:00"},{"$f":"Rechnungsblatt!G107","v":"00:00:00"},null,{"$f":"Rechnungsblatt!M107","v":""},{"$f":"Rechnungsblatt!L107","v":""},{"$f":"Rechnungsblatt!K107","v":0},{"$f":"Rechnungsblatt!O107","v":0}]
[{"$f":"Rechnungsblatt!A108","v":0},{"$f":"Rechnungsblatt!B108","v":0},{"$f":"Rechnungsblatt!C108","v":0},null,{"$f":"Rechnungsblatt!F108","v":"00:00:00"},{"$f":"Rechnungsblatt!E108","v":"00:00:00"},{"$f":"Rechnungsblatt!D108","v":"00:00:00"},{"$f":"Rechnungsblatt!G108","v":"00:00:00"},null,{"$f":"Rechnungsblatt!M108","v":""},{"$f":"Rechnungsblatt!L108","v":""},{"$f":"Rechnungsblatt!K108","v":0},{"$f":"Rechnungsblatt!O108","v":0}]
[{"$f":"Rechnungsblatt!A109","v":0},{"$f":"Rechnungsblatt!B109","v":0},{"$f":"Rechnungsblatt!C109","v":0},null,{"$f":"Rechnungsblatt!F109","v":"00:00:00"},{"$f":"Rechnungsblatt!E109","v":"00:00:00"},{"$f":"Rechnungsblatt!D109","v":"00:00:00"},{"$f":"Rechnungsblatt!G109","v":"00:00:00"},null,{"$f":"Rechnungsblatt!M109","v":""},{"$f":"Rechnungsblatt!L109","v":""},{"$f":"Rechnungsblatt!K109","v":0},{"$f":"Rechnungsblatt!O109","v":0}]
[{"$f":"Rechnungsblatt!A110","v":0},{"$f":"Rechnungsblatt!B110","v":0},{"$f":"Rechnungsblatt!C110","v":0},null,{"$f":"Rechnungsblatt!F110","v":"00:00:00"},{"$f":"Rechnungsblatt!E110","v":"00:00:00"},{"$f":"Rechnungsblatt!D110","v":"00:00:00"},{"$f":"Rechnungsblatt!G110","v":"00:00:00"},null,{"$f":"Rechnungsblatt!M110","v":""},{"$f":"Rechnungsblatt!L110","v":""},{"$f":"Rechnungsblatt!K110","v":0},{"$f":"Rechnungsblatt!O110","v":0}]
[{"$f":"Rechnungsblatt!A111","v":0},{"$f":"Rechnungsblatt!B111","v":0},{"$f":"Rechnungsblatt!C111","v":0},null,{"$f":"Rechnungsblatt!F111","v":"00:00:00"},{"$f":"Rechnungsblatt!E111","v":"00:00:00"},{"$f":"Rechnungsblatt!D111","v":"00:00:00"},{"$f":"Rechnungsblatt!G111","v":"00:00:00"},null,{"$f":"Rechnungsblatt!M111","v":""},{"$f":"Rechnungsblatt!L111","v":""},{"$f":"Rechnungsblatt!K111","v":0},{"$f":"Rechnungsblatt!O111","v":0}]
[{"$f":"Rechnungsblatt!A112","v":0},{"$f":"Rechnungsblatt!B112","v":0},{"$f":"Rechnungsblatt!C112","v":0},null,{"$f":"Rechnungsblatt!F112","v":"00:00:00"},{"$f":"Rechnungsblatt!E112","v":"00:00:00"},{"$f":"Rechnungsblatt!D112","v":"00:00:00"},{"$f":"Rechnungsblatt!G112","v":"00:00:00"},null,{"$f":"Rechnungsblatt!M112","v":""},{"$f":"Rechnungsblatt!L112","v":""},{"$f":"Rechnungsblatt!K112","v":0},{"$f":"Rechnungsblatt!O112","v":0}]
[{"$f":"Rechnungsblatt!A113","v":0},{"$f":"Rechnungsblatt!B113","v":0},{"$f":"Rechnungsblatt!C113","v":0},null,{"$f":"Rechnungsblatt!F113","v":"00:00:00"},{"$f":"Rechnungsblatt!E113","v":"00:00:00"},{"$f":"Rechnungsblatt!D113","v":"00:00:00"},{"$f":"Rechnungsblatt!G113","v":"00:00:00"},null,{"$f":"Rechnungsblatt!M113","v":""},{"$f":"Rechnungsblatt!L113","v":""},{"$f":"Rechnungsblatt!K113","v":0},{"$f":"Rechnungsblatt!O113","v":0}]
[{"$f":"Rechnungsblatt!A114","v":0},{"$f":"Rechnungsblatt!B114","v":0},{"$f":"Rechnungsblatt!C114","v":0},null,{"$f":"Rechnungsblatt!F114","v":"00:00:00"},{"$f":"Rechnungsblatt!E114","v":"00:00:00"},{"$f":"Rechnungsblatt!D114","v":"00:00:00"},{"$f":"Rechnungsblatt!G114","v":"00:00:00"},null,{"$f":"Rechnungsblatt!M114","v":""},{"$f":"Rechnungsblatt!L114","v":""},{"$f":"Rechnungsblatt!K114","v":0},{"$f":"Rechnungsblatt!O114","v":0}]
[{"$f":"Rechnungsblatt!A115","v":0},{"$f":"Rechnungsblatt!B115","v":0},{"$f":"Rechnungsblatt!C115","v":0},null,{"$f":"Rechnungsblatt!F115","v":"00:00:00"},{"$f":"Rechnungsblatt!E115","v":"00:00:00"},{"$f":"Rechnungsblatt!D115","v":"00:00:00"},{"$f":"Rechnungsblatt!G115","v":"00:00:00"},null,{"$f":"Rechnungsblatt!M115","v":0},{"$f":"Rechnungsblatt!L115","v":0},{"$f":"Rechnungsblatt!K115","v":0},{"$f":"Rechnungsblatt!O115","v":0}]
[{"$f":"Rechnungsblatt!A116","v":0},{"$f":"Rechnungsblatt!B116","v":0},{"$f":"Rechnungsblatt!C116","v":0},null,{"$f":"Rechnungsblatt!F116","v":"00:00:00"},{"$f":"Rechnungsblatt!E116","v":"00:00:00"},{"$f":"Rechnungsblatt!D116","v":"00:00:00"},{"$f":"Rechnungsblatt!G116","v":"00:00:00"},null,{"$f":"Rechnungsblatt!M116","v":0},{"$f":"Rechnungsblatt!L116","v":0},{"$f":"Rechnungsblatt!K116","v":0},{"$f":"Rechnungsblatt!O116","v":0}]
[{"$f":"Rechnungsblatt!A117","v":0},{"$f":"Rechnungsblatt!B117","v":0},{"$f":"Rechnungsblatt!C117","v":0},null,{"$f":"Rechnungsblatt!F117","v":"00:00:00"},{"$f":"Rechnungsblatt!E117","v":"00:00:00"},{"$f":"Rechnungsblatt!D117","v":"00:00:00"},{"$f":"Rechnungsblatt!G117","v":"00:00:00"},null,{"$f":"Rechnungsblatt!M117","v":0},{"$f":"Rechnungsblatt!L117","v":0},{"$f":"Rechnungsblatt!K117","v":0},{"$f":"Rechnungsblatt!O117","v":0}]
[{"$f":"Rechnungsblatt!A118","v":0},{"$f":"Rechnungsblatt!B118","v":0},{"$f":"Rechnungsblatt!C118","v":0},null,{"$f":"Rechnungsblatt!F118","v":"00:00:00"},{"$f":"Rechnungsblatt!E118","v":"00:00:00"},{"$f":"Rechnungsblatt!D118","v":"00:00:00"},{"$f":"Rechnungsblatt!G118","v":"00:00:00"},null,{"$f":"Rechnungsblatt!M118","v":""},{"$f":"Rechnungsblatt!L118","v":""},{"$f":"Rechnungsblatt!K118","v":0},{"$f":"Rechnungsblatt!O118","v":0}]
[{"$f":"Rechnungsblatt!#REF!","v":{"$error":"#REF!"}},{"$f":"Rechnungsblatt!#REF!","v":{"$error":"#REF!"}},{"$f":"Rechnungsblatt!#REF!","v":{"$error":"#REF!"}},null,{"$f":"Rechnungsblatt!#REF!","v":{"$error":"#REF!"}},{"$f":"Rechnungsblatt!#REF!","v":{"$error":"#REF!"}},{"$f":"Rechnungsblatt!#REF!","v":{"$error":"#REF!"}},{"$f":"Rechnungsblatt!#REF!","v":{"$error":"#REF!"}},null,{"$f":"Rechnungsblatt!#REF!","v":{"$error":"#REF!"}},{"$f":"Rechnungsblatt!#REF!","v":{"$error":"#REF!"}},{"$f":"Rechnungsblatt!#REF!","v":{"$error":"#REF!"}},{"$f":"Rechnungsblatt!#REF!","v":{"$error":"#REF!"}}]
[{"$f":"Rechnungsblatt!#REF!","v":{"$error":"#REF!"}},{"$f":"Rechnungsblatt!#REF!","v":{"$error":"#REF!"}},{"$f":"Rechnungsblatt!#REF!","v":{"$error":"#REF!"}},null,{"$f":"Rechnungsblatt!#REF!","v":{"$error":"#REF!"}},{"$f":"Rechnungsblatt!#REF!","v":{"$error":"#REF!"}},{"$f":"Rechnungsblatt!#REF!","v":{"$error":"#REF!"}},{"$f":"Rechnungsblatt!#REF!","v":{"$error":"#REF!"}},null,{"$f":"Rechnungsblatt!#REF!","v":{"$error":"#REF!"}},{"$f":"Rechnungsblatt!#REF!","v":{"$error":"#REF!"}},{"$f":"Rechnungsblatt!#REF!","v":{"$error":"#REF!"}},{"$f":"Rechnungsblatt!#REF!","v":{"$error":"#REF!"}}]
[{"$f":"Rechnungsblatt!A119","v":0},{"$f":"Rechnungsblatt!B119","v":0},{"$f":"Rechnungsblatt!C119","v":0},null,{"$f":"Rechnungsblatt!F119","v":"00:00:00"},{"$f":"Rechnungsblatt!E119","v":"00:00:00"},{"$f":"Rechnungsblatt!D119","v":"00:00:00"},{"$f":"Rechnungsblatt!G119","v":"00:00:00"},null,{"$f":"Rechnungsblatt!M119","v":""},{"$f":"Rechnungsblatt!L119","v":""},{"$f":"Rechnungsblatt!K119","v":0},{"$f":"Rechnungsblatt!O119","v":0}]
[{"$f":"Rechnungsblatt!A125","v":0},{"$f":"Rechnungsblatt!B125","v":0},{"$f":"Rechnungsblatt!C125","v":0},null,{"$f":"Rechnungsblatt!F125","v":"00:00:00"},{"$f":"Rechnungsblatt!E125","v":"00:00:00"},{"$f":"Rechnungsblatt!D125","v":"00:00:00"},{"$f":"Rechnungsblatt!G125","v":"00:00:00"},null,{"$f":"Rechnungsblatt!M125","v":""},{"$f":"Rechnungsblatt!L125","v":""},{"$f":"Rechnungsblatt!K125","v":0},{"$f":"Rechnungsblatt!O125","v":0}]
[{"$f":"Rechnungsblatt!A126","v":0},{"$f":"Rechnungsblatt!B126","v":0},{"$f":"Rechnungsblatt!C126","v":0},null,{"$f":"Rechnungsblatt!F126","v":"00:00:00"},{"$f":"Rechnungsblatt!E126","v":"00:00:00"},{"$f":"Rechnungsblatt!D126","v":"00:00:00"},{"$f":"Rechnungsblatt!G126","v":"00:00:00"},null,{"$f":"Rechnungsblatt!M126","v":""},{"$f":"Rechnungsblatt!L126","v":""},{"$f":"Rechnungsblatt!K126","v":0},{"$f":"Rechnungsblatt!O126","v":0}]
[{"$f":"Rechnungsblatt!A127","v":0},{"$f":"Rechnungsblatt!B127","v":0},{"$f":"Rechnungsblatt!C127","v":0},null,{"$f":"Rechnungsblatt!F127","v":"00:00:00"},{"$f":"Rechnungsblatt!E127","v":"00:00:00"},{"$f":"Rechnungsblatt!D127","v":"00:00:00"},{"$f":"Rechnungsblatt!G127","v":"00:00:00"},null,{"$f":"Rechnungsblatt!M127","v":""},{"$f":"Rechnungsblatt!L127","v":""},{"$f":"Rechnungsblatt!K127","v":0},{"$f":"Rechnungsblatt!O127","v":0}]
[{"$f":"Rechnungsblatt!A128","v":0},{"$f":"Rechnungsblatt!B128","v":0},{"$f":"Rechnungsblatt!C128","v":0},null,{"$f":"Rechnungsblatt!F128","v":"00:00:00"},{"$f":"Rechnungsblatt!E128","v":"00:00:00"},{"$f":"Rechnungsblatt!D128","v":"00:00:00"},{"$f":"Rechnungsblatt!G128","v":"00:00:00"},null,{"$f":"Rechnungsblatt!M128","v":""},{"$f":"Rechnungsblatt!L128","v":""},{"$f":"Rechnungsblatt!K128","v":0},{"$f":"Rechnungsblatt!O128","v":0}]
[{"$f":"Rechnungsblatt!A129","v":0},{"$f":"Rechnungsblatt!B129","v":0},{"$f":"Rechnungsblatt!C129","v":0},null,{"$f":"Rechnungsblatt!F129","v":"00:00:00"},{"$f":"Rechnungsblatt!E129","v":"00:00:00"},{"$f":"Rechnungsblatt!D129","v":"00:00:00"},{"$f":"Rechnungsblatt!G129","v":"00:00:00"},null,{"$f":"Rechnungsblatt!M129","v":""},{"$f":"Rechnungsblatt!L129","v":""},{"$f":"Rechnungsblatt!K129","v":0},{"$f":"Rechnungsblatt!O129","v":0}]

{"sheet":"CSV-Datei export","index":3,"n_rows":1,"n_cols":14,"rows_kept":1,"cut":false,"hidden":false,"merged":[]}
["lfd_Nummer","Rechnungsaussteller","Rechnungsnummer","Rechnungsposition","Bezug","Auftragsdatum","Rechnungsdatum","gezahlt_am","gezahlt_durch","Nettobetrag","Mehrwertsteuer","Skonti_Rabatte","Bruttobetrag","davon_foerderfaehig_lt_Antragsteller"]